BEGIN:VCALENDAR
VERSION:2.0
PRODID:-//Welkom in Utrecht | Verbindt vluchtelingen met Utrecht - ECPv6.15.18//NONSGML v1.0//EN
CALSCALE:GREGORIAN
METHOD:PUBLISH
X-ORIGINAL-URL:https://welkominutrecht.nu/en/
X-WR-CALDESC:Events for Welkom in Utrecht | Verbindt vluchtelingen met Utrecht
REFRESH-INTERVAL;VALUE=DURATION:PT1H
X-Robots-Tag:noindex
X-PUBLISHED-TTL:PT1H
BEGIN:VTIMEZONE
TZID:Europe/Amsterdam
BEGIN:DAYLIGHT
TZOFFSETFROM:+0100
TZOFFSETTO:+0200
TZNAME:CEST
DTSTART:20250330T010000
END:DAYLIGHT
BEGIN:STANDARD
TZOFFSETFROM:+0200
TZOFFSETTO:+0100
TZNAME:CET
DTSTART:20251026T010000
END:STANDARD
BEGIN:DAYLIGHT
TZOFFSETFROM:+0100
TZOFFSETTO:+0200
TZNAME:CEST
DTSTART:20260329T010000
END:DAYLIGHT
BEGIN:STANDARD
TZOFFSETFROM:+0200
TZOFFSETTO:+0100
TZNAME:CET
DTSTART:20261025T010000
END:STANDARD
BEGIN:DAYLIGHT
TZOFFSETFROM:+0100
TZOFFSETTO:+0200
TZNAME:CEST
DTSTART:20270328T010000
END:DAYLIGHT
BEGIN:STANDARD
TZOFFSETFROM:+0200
TZOFFSETTO:+0100
TZNAME:CET
DTSTART:20271031T010000
END:STANDARD
END:VTIMEZONE
BEGIN:VEVENT
DTSTART;TZID=Europe/Amsterdam:20260316T180000
DTEND;TZID=Europe/Amsterdam:20260316T190000
DTSTAMP:20260423T042748
CREATED:20251125T124030Z
LAST-MODIFIED:20251125T132512Z
UID:10041978-1773684000-1773687600@welkominutrecht.nu
SUMMARY:Dancing with women
DESCRIPTION:Description\n\nEvery Monday\, there is a dance class at Het Wilde Westen led by Meis. We come together as women in a safe environment\, where we get to know each other through dance. We swing\, sweat\, and enjoy each other’s energy! Through different rhythms\, music\, and dynamics\, we discover our own bodies from a different perspective. We are open to each other’s backgrounds and incorporate this into the dance. Moving and enjoying ourselves together is central to our women’s dance!  \n\nLocation\n\nHet Wilde Westen | Everard Meijsterlaan 1B \n\nTransport\n\nEveryone comes to the location themselves. Do you live in the asylum seekers’ center? Then we can walk with you to the class.  \n\nRegistration\n\nWould you like to join the dance class? Please contact Elham at elham@welkominutrecht.nu.
URL:https://welkominutrecht.nu/en/agenda-item/dancing-with-women-2/2026-03-16/
CATEGORIES:Cultural,Sports
END:VEVENT
BEGIN:VEVENT
DTSTART;TZID=Europe/Amsterdam:20260317T170000
DTEND;TZID=Europe/Amsterdam:20260317T180000
DTSTAMP:20260423T042748
CREATED:20251201T150316Z
LAST-MODIFIED:20260318T121042Z
UID:10043777-1773766800-1773770400@welkominutrecht.nu
SUMMARY:Karate class for children
DESCRIPTION:Description\n\nNeighborhood resident Petra gives karate lessons to children living in the asylum seekers’ center on Vlampijpstraat (Zuilen). Children from the neighborhood are welcome to join in for a free karate lesson!  \n\nLocation\n\nBuurtcentrum Oase | Cartesiusweg 11 \n\nRegistration\n\nWould you like to join the karate class? Send an email to eline@welkominutrecht.nu.
URL:https://welkominutrecht.nu/en/agenda-item/karate-class-for-children/2026-03-17/
CATEGORIES:Sports
ATTACH;FMTTYPE=image/jpeg:https://welkominutrecht.nu/wp-content/uploads/2025/12/nguyen-hung-FktPF6cwIWo-unsplash-scaled.jpg
END:VEVENT
END:VCALENDAR