BEGIN:VCALENDAR
VERSION:2.0
PRODID:-//Welkom in Utrecht | Verbindt vluchtelingen met Utrecht - ECPv6.15.18//NONSGML v1.0//EN
CALSCALE:GREGORIAN
METHOD:PUBLISH
X-WR-CALNAME:Welkom in Utrecht | Verbindt vluchtelingen met Utrecht
X-ORIGINAL-URL:https://welkominutrecht.nu/en/
X-WR-CALDESC:Events for Welkom in Utrecht | Verbindt vluchtelingen met Utrecht
REFRESH-INTERVAL;VALUE=DURATION:PT1H
X-Robots-Tag:noindex
X-PUBLISHED-TTL:PT1H
BEGIN:VTIMEZONE
TZID:Europe/Amsterdam
BEGIN:DAYLIGHT
TZOFFSETFROM:+0100
TZOFFSETTO:+0200
TZNAME:CEST
DTSTART:20240331T010000
END:DAYLIGHT
BEGIN:STANDARD
TZOFFSETFROM:+0200
TZOFFSETTO:+0100
TZNAME:CET
DTSTART:20241027T010000
END:STANDARD
BEGIN:DAYLIGHT
TZOFFSETFROM:+0100
TZOFFSETTO:+0200
TZNAME:CEST
DTSTART:20250330T010000
END:DAYLIGHT
BEGIN:STANDARD
TZOFFSETFROM:+0200
TZOFFSETTO:+0100
TZNAME:CET
DTSTART:20251026T010000
END:STANDARD
BEGIN:DAYLIGHT
TZOFFSETFROM:+0100
TZOFFSETTO:+0200
TZNAME:CEST
DTSTART:20260329T010000
END:DAYLIGHT
BEGIN:STANDARD
TZOFFSETFROM:+0200
TZOFFSETTO:+0100
TZNAME:CET
DTSTART:20261025T010000
END:STANDARD
END:VTIMEZONE
BEGIN:VEVENT
DTSTART;TZID=Europe/Amsterdam:20251111T150000
DTEND;TZID=Europe/Amsterdam:20251111T170000
DTSTAMP:20260424T100911
CREATED:20250929T073632Z
LAST-MODIFIED:20250929T073739Z
UID:10040314-1762873200-1762880400@welkominutrecht.nu
SUMMARY:U on Board
DESCRIPTION:Description\n\nEvery week students from U on Board come to azc Joseph Haydnlaan as well as emergency shelter Europalaan to longboard\, skate\, play soccer\, draw\, do crafts and much more! For children between the ages of 5 and 13. \n\nLocation\n\nAZC Oog in Al | Joseph Haydnlaan 2 & Noodopvanglocatie Kanaleneiland | Europalaan 44 \n\nTransport\n\nOwn transport \n\nRegistration\n\nMore information? Please send a message to info@welkominutrecht.nu
URL:https://welkominutrecht.nu/en/agenda-item/u-on-board-3/2025-11-11/
CATEGORIES:Games & Meeting,Kids & youth,Sports
END:VEVENT
BEGIN:VEVENT
DTSTART;TZID=Europe/Amsterdam:20251112T180000
DTEND;TZID=Europe/Amsterdam:20251112T190000
DTSTAMP:20260424T100911
CREATED:20250929T112618Z
LAST-MODIFIED:20250929T112710Z
UID:10041457-1762970400-1762974000@welkominutrecht.nu
SUMMARY:Yoga class Indusdreef
DESCRIPTION:Description\n\nEvery Wednesday evening\, Loraine teaches yoga classes at the reception center on Indusdreef. It is a wonderfully peaceful class that allows you to relax and enjoy some gentle exercise. Everyone is welcome to join! \n\nLocation\n\nShelter for Ukrainian refugees | Indusdreef \n\nTransport\n\nEverybody goes to the location by themselves.  \n\nRegistration\n\nWould you like to join the yoga class? Then send an e-mail to herculeshoek@welkominutrecht.nu.
URL:https://welkominutrecht.nu/en/agenda-item/yoga-class-indusdreef/2025-11-12/
CATEGORIES:Sports
ATTACH;FMTTYPE=image/jpeg:https://welkominutrecht.nu/wp-content/uploads/2025/09/yoga-indusdreef.jpg
END:VEVENT
BEGIN:VEVENT
DTSTART;TZID=Europe/Amsterdam:20251114T150000
DTEND;TZID=Europe/Amsterdam:20251114T170000
DTSTAMP:20260424T100912
CREATED:20250929T073632Z
LAST-MODIFIED:20250929T073739Z
UID:10040315-1763132400-1763139600@welkominutrecht.nu
SUMMARY:U on Board
DESCRIPTION:Description\n\nEvery week students from U on Board come to azc Joseph Haydnlaan as well as emergency shelter Europalaan to longboard\, skate\, play soccer\, draw\, do crafts and much more! For children between the ages of 5 and 13. \n\nLocation\n\nAZC Oog in Al | Joseph Haydnlaan 2 & Noodopvanglocatie Kanaleneiland | Europalaan 44 \n\nTransport\n\nOwn transport \n\nRegistration\n\nMore information? Please send a message to info@welkominutrecht.nu
URL:https://welkominutrecht.nu/en/agenda-item/u-on-board-3/2025-11-14/
CATEGORIES:Games & Meeting,Kids & youth,Sports
END:VEVENT
END:VCALENDAR