BEGIN:VCALENDAR
VERSION:2.0
PRODID:-//Welkom in Utrecht | Verbindt vluchtelingen met Utrecht - ECPv6.15.18//NONSGML v1.0//EN
CALSCALE:GREGORIAN
METHOD:PUBLISH
X-ORIGINAL-URL:https://welkominutrecht.nu/en/
X-WR-CALDESC:Events for Welkom in Utrecht | Verbindt vluchtelingen met Utrecht
REFRESH-INTERVAL;VALUE=DURATION:PT1H
X-Robots-Tag:noindex
X-PUBLISHED-TTL:PT1H
BEGIN:VTIMEZONE
TZID:Europe/Amsterdam
BEGIN:DAYLIGHT
TZOFFSETFROM:+0100
TZOFFSETTO:+0200
TZNAME:CEST
DTSTART:20240331T010000
END:DAYLIGHT
BEGIN:STANDARD
TZOFFSETFROM:+0200
TZOFFSETTO:+0100
TZNAME:CET
DTSTART:20241027T010000
END:STANDARD
BEGIN:DAYLIGHT
TZOFFSETFROM:+0100
TZOFFSETTO:+0200
TZNAME:CEST
DTSTART:20250330T010000
END:DAYLIGHT
BEGIN:STANDARD
TZOFFSETFROM:+0200
TZOFFSETTO:+0100
TZNAME:CET
DTSTART:20251026T010000
END:STANDARD
BEGIN:DAYLIGHT
TZOFFSETFROM:+0100
TZOFFSETTO:+0200
TZNAME:CEST
DTSTART:20260329T010000
END:DAYLIGHT
BEGIN:STANDARD
TZOFFSETFROM:+0200
TZOFFSETTO:+0100
TZNAME:CET
DTSTART:20261025T010000
END:STANDARD
END:VTIMEZONE
BEGIN:VEVENT
DTSTART;TZID=Europe/Amsterdam:20250916T150000
DTEND;TZID=Europe/Amsterdam:20250916T170000
DTSTAMP:20260424T233633
CREATED:20250618T084738Z
LAST-MODIFIED:20250618T084842Z
UID:10038057-1758034800-1758042000@welkominutrecht.nu
SUMMARY:U on Board
DESCRIPTION:Description\n\nEvery week students from U on Board come to azc Joseph Haydnlaan as well as emergency shelter Europalaan to longboard\, skate\, play soccer\, draw\, do crafts and much more! For children between the ages of 5 and 13. \n\nLocation\n\nAsylum Center Oog in Al | Joseph Haydnlaan 2 & Emergency Shelter Kanaleneiland | Europalaan 44 \n\nTransport\n\nOwn transport \n\nRegistration\n\nMore information? Send an e-mail to eline@welkominutrecht.nu.
URL:https://welkominutrecht.nu/en/agenda-item/u-on-board-2/2025-09-16/
CATEGORIES:Games & Meeting,Kids & youth,Sports
END:VEVENT
BEGIN:VEVENT
DTSTART;TZID=Europe/Amsterdam:20250918T150000
DTEND;TZID=Europe/Amsterdam:20250918T170000
DTSTAMP:20260424T233633
CREATED:20250618T133141Z
LAST-MODIFIED:20250618T133320Z
UID:10039123-1758207600-1758214800@welkominutrecht.nu
SUMMARY:Playing sports (adults)
DESCRIPTION:Description\n\nPlaying sports together outdoors on the lawn next to azc Pahud (Pahud de Mortangesdreef 61). \n\nLocation\n\nAt the lawn next to Plan Einstein Pahud \n\nTransport\n\nEveryone comes to the location themselves \n\nRegistration\n\nRegistration or more information with Linda at linda@welkominutrecht.nu.
URL:https://welkominutrecht.nu/en/agenda-item/playing-sports-adults/2025-09-18/
CATEGORIES:Sports
END:VEVENT
BEGIN:VEVENT
DTSTART;TZID=Europe/Amsterdam:20250919T150000
DTEND;TZID=Europe/Amsterdam:20250919T170000
DTSTAMP:20260424T233633
CREATED:20250618T084738Z
LAST-MODIFIED:20250618T084842Z
UID:10038058-1758294000-1758301200@welkominutrecht.nu
SUMMARY:U on Board
DESCRIPTION:Description\n\nEvery week students from U on Board come to azc Joseph Haydnlaan as well as emergency shelter Europalaan to longboard\, skate\, play soccer\, draw\, do crafts and much more! For children between the ages of 5 and 13. \n\nLocation\n\nAsylum Center Oog in Al | Joseph Haydnlaan 2 & Emergency Shelter Kanaleneiland | Europalaan 44 \n\nTransport\n\nOwn transport \n\nRegistration\n\nMore information? Send an e-mail to eline@welkominutrecht.nu.
URL:https://welkominutrecht.nu/en/agenda-item/u-on-board-2/2025-09-19/
CATEGORIES:Games & Meeting,Kids & youth,Sports
END:VEVENT
BEGIN:VEVENT
DTSTART;TZID=Europe/Amsterdam:20250920T100000
DTEND;TZID=Europe/Amsterdam:20250920T110000
DTSTAMP:20260424T233633
CREATED:20250618T125153Z
LAST-MODIFIED:20250618T125312Z
UID:10038723-1758362400-1758366000@welkominutrecht.nu
SUMMARY:Tai Chi and Chi Qong HerculesHoek
DESCRIPTION:Description\n\nTai Chi and Chi Qong classes at the HerculesHoek are all about balance\, relaxation and mindfulness. Residents of Herculesplein and beyond can join the classes. \n\nLocation\n\nHerculesHoek | Herculesplein 5-15 \n\nTransport\n\nEverybody goes to the location by themselves.  \n\nRegistration\n\nWould you like to join the class or do you have a lesson? Contact us via herculeshoek@welkominutrecht.nu.
URL:https://welkominutrecht.nu/en/agenda-item/tai-chi-and-chi-qong-herculeshoek/2025-09-20/
CATEGORIES:Sports
ATTACH;FMTTYPE=image/jpeg:https://welkominutrecht.nu/wp-content/uploads/2024/09/alireza-heidarpour-CJLJh4E_PEI-unsplash-scaled-e1727443867906.jpg
END:VEVENT
BEGIN:VEVENT
DTSTART;TZID=Europe/Amsterdam:20250921T100000
DTEND;TZID=Europe/Amsterdam:20250921T110000
DTSTAMP:20260424T233633
CREATED:20250618T125153Z
LAST-MODIFIED:20250618T125312Z
UID:10038724-1758448800-1758452400@welkominutrecht.nu
SUMMARY:Tai Chi and Chi Qong HerculesHoek
DESCRIPTION:Description\n\nTai Chi and Chi Qong classes at the HerculesHoek are all about balance\, relaxation and mindfulness. Residents of Herculesplein and beyond can join the classes. \n\nLocation\n\nHerculesHoek | Herculesplein 5-15 \n\nTransport\n\nEverybody goes to the location by themselves.  \n\nRegistration\n\nWould you like to join the class or do you have a lesson? Contact us via herculeshoek@welkominutrecht.nu.
URL:https://welkominutrecht.nu/en/agenda-item/tai-chi-and-chi-qong-herculeshoek/2025-09-21/
CATEGORIES:Sports
ATTACH;FMTTYPE=image/jpeg:https://welkominutrecht.nu/wp-content/uploads/2024/09/alireza-heidarpour-CJLJh4E_PEI-unsplash-scaled-e1727443867906.jpg
END:VEVENT
END:VCALENDAR