BEGIN:VCALENDAR
VERSION:2.0
PRODID:-//Welkom in Utrecht | Verbindt vluchtelingen met Utrecht - ECPv6.15.18//NONSGML v1.0//EN
CALSCALE:GREGORIAN
METHOD:PUBLISH
X-ORIGINAL-URL:https://welkominutrecht.nu/en/
X-WR-CALDESC:Events for Welkom in Utrecht | Verbindt vluchtelingen met Utrecht
REFRESH-INTERVAL;VALUE=DURATION:PT1H
X-Robots-Tag:noindex
X-PUBLISHED-TTL:PT1H
BEGIN:VTIMEZONE
TZID:Europe/Amsterdam
BEGIN:DAYLIGHT
TZOFFSETFROM:+0100
TZOFFSETTO:+0200
TZNAME:CEST
DTSTART:20240331T010000
END:DAYLIGHT
BEGIN:STANDARD
TZOFFSETFROM:+0200
TZOFFSETTO:+0100
TZNAME:CET
DTSTART:20241027T010000
END:STANDARD
BEGIN:DAYLIGHT
TZOFFSETFROM:+0100
TZOFFSETTO:+0200
TZNAME:CEST
DTSTART:20250330T010000
END:DAYLIGHT
BEGIN:STANDARD
TZOFFSETFROM:+0200
TZOFFSETTO:+0100
TZNAME:CET
DTSTART:20251026T010000
END:STANDARD
BEGIN:DAYLIGHT
TZOFFSETFROM:+0100
TZOFFSETTO:+0200
TZNAME:CEST
DTSTART:20260329T010000
END:DAYLIGHT
BEGIN:STANDARD
TZOFFSETFROM:+0200
TZOFFSETTO:+0100
TZNAME:CET
DTSTART:20261025T010000
END:STANDARD
END:VTIMEZONE
BEGIN:VEVENT
DTSTART;TZID=Europe/Amsterdam:20250703T110000
DTEND;TZID=Europe/Amsterdam:20250703T130000
DTSTAMP:20260421T160724
CREATED:20250626T135059Z
LAST-MODIFIED:20250626T135214Z
UID:10039219-1751540400-1751547600@welkominutrecht.nu
SUMMARY:Time for women Pahud
DESCRIPTION:Description\n\nThe Living Room at Pahud is open on Thursdays between 11 and 1 o’clock especially for women. In that time there will be danced\, painted\, or something delicious will be baked. Feel welcome to join\, also if you just would like to have a chat or listen to music.  \n\nLocation\n\nLiving room Plan Einstein Pahud | Pahud de Mortangesdreef 61 \n\nTransport\n\nEverybody comes to the location by themselves. \n\nRegistration\n\nRegistration is not needed\, you’re welcome to walk in!
URL:https://welkominutrecht.nu/en/agenda-item/time-for-women-pahud-4/2025-07-03/
CATEGORIES:Beauty & body,Creativity & crafts,Games & Meeting,Music
END:VEVENT
BEGIN:VEVENT
DTSTART;TZID=Europe/Amsterdam:20250703T200000
DTEND;TZID=Europe/Amsterdam:20250703T213000
DTSTAMP:20260421T160724
CREATED:20250618T092433Z
LAST-MODIFIED:20250618T092622Z
UID:10038389-1751572800-1751578200@welkominutrecht.nu
SUMMARY:Musicaz music night Joseph Haydnlaan
DESCRIPTION:Description\n\nMusic-filled with evening with the musicians of Musicaz and residents of azc Joseph Haydnlaan. Let’s make music together!  \n\nLocation\n\nAzc Joseph Haydnlaan | Joseph Haydnlaan 2 \n\nTransport\n\nEverybody goes to the location by themselves. \n\nRegistration\n\nWould you like some more information or would you like to join the music night? Please contact Marit through marit@welkominutrecht.nu.
URL:https://welkominutrecht.nu/en/agenda-item/musicaz-music-night-joseph-haydnlaan-2/2025-07-03/
CATEGORIES:Music
END:VEVENT
BEGIN:VEVENT
DTSTART;TZID=Europe/Amsterdam:20250704T190000
DTEND;TZID=Europe/Amsterdam:20250704T200000
DTSTAMP:20260421T160724
CREATED:20250618T115930Z
LAST-MODIFIED:20250618T120149Z
UID:10038610-1751655600-1751659200@welkominutrecht.nu
SUMMARY:Repetition choir Ptaha
DESCRIPTION:Description\n\nChoir Ptaha is a choir of Ukrainians and Dutch with Ukrainian and Dutch music. \n\nLocation\n\nHet Wilde Westen | Everard Meijsterlaan 1b \n\nTransport\n\nEverybody comes to the location by themselves. \n\nRegistration\n\nWould you like to sing along in the choir or do you want some more information about choir Ptaha? Please send an e-mail to hellen@welkominutrecht.nu.
URL:https://welkominutrecht.nu/en/agenda-item/repetition-choir-ptaha/2025-07-04/
CATEGORIES:Cultural,Music
ATTACH;FMTTYPE=image/jpeg:https://welkominutrecht.nu/wp-content/uploads/2024/07/cdd20-zlpST4Dkja8-unsplash-scaled-e1721133545117.jpg
END:VEVENT
BEGIN:VEVENT
DTSTART;TZID=Europe/Amsterdam:20250704T200000
DTEND;TZID=Europe/Amsterdam:20250704T213000
DTSTAMP:20260421T160725
CREATED:20250618T120406Z
LAST-MODIFIED:20250625T093953Z
UID:10038649-1751659200-1751664600@welkominutrecht.nu
SUMMARY:Musicaz music night Plan Einstein Pahud
DESCRIPTION:Description\n\nA music-filled evening with Musicaz voor residents and others at Plan Einstein Pahud. Making music together! \n\nLocation\n\nPlan Einstein Pahud | Pahud de Mortangesdreef 61 \n\nTransport\n\nEverybody goes to the location by themselves \n\nRegistration\n\nWould you like some more information or would you like to register? Please contact Iman at iman@welkominutrecht.nu.
URL:https://welkominutrecht.nu/en/agenda-item/musicaz-music-night-plan-einstein-pahud/2025-07-04/
CATEGORIES:Music
ATTACH;FMTTYPE=image/jpeg:https://welkominutrecht.nu/wp-content/uploads/2025/06/Musicaz-Pahud.jpg
END:VEVENT
END:VCALENDAR