BEGIN:VCALENDAR
VERSION:2.0
PRODID:-//Welkom in Utrecht | Verbindt vluchtelingen met Utrecht - ECPv6.15.18//NONSGML v1.0//EN
CALSCALE:GREGORIAN
METHOD:PUBLISH
X-WR-CALNAME:Welkom in Utrecht | Verbindt vluchtelingen met Utrecht
X-ORIGINAL-URL:https://welkominutrecht.nu/en/
X-WR-CALDESC:Events for Welkom in Utrecht | Verbindt vluchtelingen met Utrecht
REFRESH-INTERVAL;VALUE=DURATION:PT1H
X-Robots-Tag:noindex
X-PUBLISHED-TTL:PT1H
BEGIN:VTIMEZONE
TZID:Europe/Amsterdam
BEGIN:DAYLIGHT
TZOFFSETFROM:+0100
TZOFFSETTO:+0200
TZNAME:CEST
DTSTART:20240331T010000
END:DAYLIGHT
BEGIN:STANDARD
TZOFFSETFROM:+0200
TZOFFSETTO:+0100
TZNAME:CET
DTSTART:20241027T010000
END:STANDARD
BEGIN:DAYLIGHT
TZOFFSETFROM:+0100
TZOFFSETTO:+0200
TZNAME:CEST
DTSTART:20250330T010000
END:DAYLIGHT
BEGIN:STANDARD
TZOFFSETFROM:+0200
TZOFFSETTO:+0100
TZNAME:CET
DTSTART:20251026T010000
END:STANDARD
BEGIN:DAYLIGHT
TZOFFSETFROM:+0100
TZOFFSETTO:+0200
TZNAME:CEST
DTSTART:20260329T010000
END:DAYLIGHT
BEGIN:STANDARD
TZOFFSETFROM:+0200
TZOFFSETTO:+0100
TZNAME:CET
DTSTART:20261025T010000
END:STANDARD
END:VTIMEZONE
BEGIN:VEVENT
DTSTART;TZID=Europe/Amsterdam:20250528T193000
DTEND;TZID=Europe/Amsterdam:20250528T213000
DTSTAMP:20260422T005507
CREATED:20250319T152626Z
LAST-MODIFIED:20250319T152728Z
UID:10035406-1748460600-1748467800@welkominutrecht.nu
SUMMARY:Musicaz at Star Lodge
DESCRIPTION:Description\n\nOn Wednesday evenings\, a group of musicians from Musicaz comes to Star Lodge to make music with and for residents. \n\nLocation\n\nStar Lodge | Biltsestraatweg 92 \n\nTransport\n\nOwn transport \n\nRegistration\n\nDo you also want to share your musical talents with the residents of Star Lodge? Please send a message to frank@welkominutrecht.nu
URL:https://welkominutrecht.nu/en/agenda-item/musicaz-at-star-lodge/2025-05-28/
CATEGORIES:Music
END:VEVENT
BEGIN:VEVENT
DTSTART;TZID=Europe/Amsterdam:20250529T110000
DTEND;TZID=Europe/Amsterdam:20250529T130000
DTSTAMP:20260422T005507
CREATED:20250324T130023Z
LAST-MODIFIED:20250324T130301Z
UID:10035788-1748516400-1748523600@welkominutrecht.nu
SUMMARY:Time for women Pahud
DESCRIPTION:Description\n\nPahud’s Living Room is open on Thursdays between 11 a.m. – 1 p.m. especially for women. During that time\, we’ll dance\, paint\, or bake something delicious. Feel welcome to join\, even if you just want to have a chat or listen to music. \n\nLocation\n\nLiving room Plan Einstein Pahud | Pahud de Mortangesdreef 61 \n\nTransport\n\nEverybody comes to the location by themselves.  \n\nRegistration\n\nRegistration is not needed\, you’re welcome to walk in!
URL:https://welkominutrecht.nu/en/agenda-item/time-for-women-pahud-3/2025-05-29/
CATEGORIES:Beauty & body,Creativity & crafts,Games & Meeting,Music
END:VEVENT
BEGIN:VEVENT
DTSTART;TZID=Europe/Amsterdam:20250529T200000
DTEND;TZID=Europe/Amsterdam:20250529T213000
DTSTAMP:20260422T005507
CREATED:20250318T130613Z
LAST-MODIFIED:20250319T131411Z
UID:10034527-1748548800-1748554200@welkominutrecht.nu
SUMMARY:Musicaz music night Joseph Haydnlaan
DESCRIPTION:Description\n\nMusic-filled with evening with the musicians of Musicaz and residents of azc Joseph Haydnlaan. Making music together! \n\nLocation\n\nAzc Joseph Haydnlaan | Joseph Haydnlaan 2 \n\nTransport\n\nEverybody comes to the location by themselves.  \n\nRegistration\n\nMore information or would you like to join the music night? Contact eline@welkominutrecht.nu.
URL:https://welkominutrecht.nu/en/agenda-item/musicaz-music-night-joseph-haydnlaan/2025-05-29/
CATEGORIES:Music
END:VEVENT
BEGIN:VEVENT
DTSTART;TZID=Europe/Amsterdam:20250530T190000
DTEND;TZID=Europe/Amsterdam:20250530T200000
DTSTAMP:20260422T005507
CREATED:20250326T090230Z
LAST-MODIFIED:20250326T090315Z
UID:10036547-1748631600-1748635200@welkominutrecht.nu
SUMMARY:Singing with Tetyana
DESCRIPTION:Description\n\nUkrainians and Dutch people sing Ukrainian and Dutch songs together.  \n\nLocation\n\nHet Wilde Westen | Everard Meijsterlaan 1b \n\nTransport\n\nEverybody comes to the location by themselves. \n\nRegistration\n\nWould you like to sing along in the choir or would you like some more information? Send an e-mail to hellen@welkominutrecht.nu.
URL:https://welkominutrecht.nu/en/agenda-item/singing-with-tetyana-3/2025-05-30/
CATEGORIES:Cultural,Music
ATTACH;FMTTYPE=image/jpeg:https://welkominutrecht.nu/wp-content/uploads/2024/07/cdd20-zlpST4Dkja8-unsplash-scaled-e1721133545117.jpg
END:VEVENT
BEGIN:VEVENT
DTSTART;TZID=Europe/Amsterdam:20250530T200000
DTEND;TZID=Europe/Amsterdam:20250530T213000
DTSTAMP:20260422T005507
CREATED:20250324T125731Z
LAST-MODIFIED:20250324T125825Z
UID:10035749-1748635200-1748640600@welkominutrecht.nu
SUMMARY:Musicaz at Plan Einstein Pahud
DESCRIPTION:Description\n\nA music-filled evening with Musicaz voor residents and others at Plan Einstein Pahud. Making music together! \n\nLocation\n\nPlan Einstein Pahud | Pahud de Mortangesdreef 61 \n\nTransport\n\nEverybody goes to the location by themselves \n\nRegistration\n\nWould you like some more information or would you like to register? Please contact Iman at iman@welkominutrecht.nu.
URL:https://welkominutrecht.nu/en/agenda-item/musicaz-at-plan-einstein-pahud-2/2025-05-30/
CATEGORIES:Music
END:VEVENT
END:VCALENDAR