BEGIN:VCALENDAR
VERSION:2.0
PRODID:-//Welkom in Utrecht | Verbindt vluchtelingen met Utrecht - ECPv6.15.18//NONSGML v1.0//EN
CALSCALE:GREGORIAN
METHOD:PUBLISH
X-WR-CALNAME:Welkom in Utrecht | Verbindt vluchtelingen met Utrecht
X-ORIGINAL-URL:https://welkominutrecht.nu/en/
X-WR-CALDESC:Events for Welkom in Utrecht | Verbindt vluchtelingen met Utrecht
REFRESH-INTERVAL;VALUE=DURATION:PT1H
X-Robots-Tag:noindex
X-PUBLISHED-TTL:PT1H
BEGIN:VTIMEZONE
TZID:Europe/Amsterdam
BEGIN:DAYLIGHT
TZOFFSETFROM:+0100
TZOFFSETTO:+0200
TZNAME:CEST
DTSTART:20240331T010000
END:DAYLIGHT
BEGIN:STANDARD
TZOFFSETFROM:+0200
TZOFFSETTO:+0100
TZNAME:CET
DTSTART:20241027T010000
END:STANDARD
BEGIN:DAYLIGHT
TZOFFSETFROM:+0100
TZOFFSETTO:+0200
TZNAME:CEST
DTSTART:20250330T010000
END:DAYLIGHT
BEGIN:STANDARD
TZOFFSETFROM:+0200
TZOFFSETTO:+0100
TZNAME:CET
DTSTART:20251026T010000
END:STANDARD
BEGIN:DAYLIGHT
TZOFFSETFROM:+0100
TZOFFSETTO:+0200
TZNAME:CEST
DTSTART:20260329T010000
END:DAYLIGHT
BEGIN:STANDARD
TZOFFSETFROM:+0200
TZOFFSETTO:+0100
TZNAME:CET
DTSTART:20261025T010000
END:STANDARD
END:VTIMEZONE
BEGIN:VEVENT
DTSTART;TZID=Europe/Amsterdam:20250326T193000
DTEND;TZID=Europe/Amsterdam:20250326T213000
DTSTAMP:20260424T122713
CREATED:20241224T105520Z
LAST-MODIFIED:20250103T115815Z
UID:10034236-1743017400-1743024600@welkominutrecht.nu
SUMMARY:Musicaz at Star Lodge
DESCRIPTION:Description\n\nOn Wednesday evenings\, a group of musicians from Musicaz comes to Star Lodge to make music with and for residents. \n\nLocation\n\nStar Lodge | Biltsestraatweg 92 \n\nTransport\n\nOwn transport \n\nRegistration\n\nDo you also want to share your musical talents with the residents of Star Lodge? Please send a message to frank@welkominutrecht.nu
URL:https://welkominutrecht.nu/en/agenda-item/musicaz-at-star-lodge-4/2025-03-26/
CATEGORIES:Music
END:VEVENT
BEGIN:VEVENT
DTSTART;TZID=Europe/Amsterdam:20250327T110000
DTEND;TZID=Europe/Amsterdam:20250327T130000
DTSTAMP:20260424T122713
CREATED:20241224T105710Z
LAST-MODIFIED:20250103T115431Z
UID:10034184-1743073200-1743080400@welkominutrecht.nu
SUMMARY:Time for women Pahud
DESCRIPTION:Description\n\nThe Living Room at Pahud is open on Thursdays between 11 and 1 o’clock especially for women. In that time there will be danced\, painted\, or something delicious will be baked. Feel welcome to join\, also if you just would like to have a chat or listen to music.  \n\nLocation\n\nLiving Room Plan Einstein Pahud | Pahud de Mortangesdreef 61 \n\nTransport\n\nEveryone comes to the location themselves \n\nRegistration\n\nNo need to sign up\, you can just walk in
URL:https://welkominutrecht.nu/en/agenda-item/time-for-women-pahud-2/2025-03-27/
CATEGORIES:Beauty & body,Creativity & crafts,Games & Meeting,Music
END:VEVENT
BEGIN:VEVENT
DTSTART;TZID=Europe/Amsterdam:20250327T200000
DTEND;TZID=Europe/Amsterdam:20250327T220000
DTSTAMP:20260424T122713
CREATED:20241224T110343Z
LAST-MODIFIED:20250103T115012Z
UID:10034081-1743105600-1743112800@welkominutrecht.nu
SUMMARY:Musicaz at Joseph Haydnlaan
DESCRIPTION:Description\n\nMusic-filled with evening with the musicians of Musicaz for residents of azc Joseph Haydnlaan. Making music together! \n\nLocation\n\nazc Joseph Haydnlaan | Joseph Haydnlaan 2 \n\nTransport\n\nEveryone comes by themselves \n\nRegistration\n\nWould you like more information? Contact us through eline@welkominutrecht.nu.
URL:https://welkominutrecht.nu/en/agenda-item/musicaz-at-joseph-haydnlaan-3/2025-03-27/
CATEGORIES:Music
END:VEVENT
BEGIN:VEVENT
DTSTART;TZID=Europe/Amsterdam:20250328T190000
DTEND;TZID=Europe/Amsterdam:20250328T200000
DTSTAMP:20260424T122713
CREATED:20241224T112600Z
LAST-MODIFIED:20250103T114412Z
UID:10033985-1743188400-1743192000@welkominutrecht.nu
SUMMARY:Singing with Tetyana
DESCRIPTION:Description\n\nUkrainians and Dutch people sing Ukrainian and Dutch songs together.  \n\nLocation\n\nHet Wilde Westen | Everard Meijsterlaan 1b \n\nTransport\n\nEverybody goes to the location by themselves  \n\nRegistration\n\nWould you like to sing along in the choir or would you like some more information? Send an e-mail to hellen@welkominutrecht.nu.
URL:https://welkominutrecht.nu/en/agenda-item/singing-with-tetyana-2/2025-03-28/
CATEGORIES:Cultural,Music
ATTACH;FMTTYPE=image/jpeg:https://welkominutrecht.nu/wp-content/uploads/2024/07/cdd20-zlpST4Dkja8-unsplash-scaled-e1721133545117.jpg
END:VEVENT
BEGIN:VEVENT
DTSTART;TZID=Europe/Amsterdam:20250328T200000
DTEND;TZID=Europe/Amsterdam:20250328T213000
DTSTAMP:20260424T122713
CREATED:20241224T112506Z
LAST-MODIFIED:20250103T114321Z
UID:10033972-1743192000-1743197400@welkominutrecht.nu
SUMMARY:Musicaz at Plan Einstein Pahud
DESCRIPTION:Description\n\nA music-filled evening with Musicaz voor residents and others at Plan Einstein Pahud. Making music together! \n\nLocation\n\nPlan Einstein Pahud | Pahud de Mortangesdreef 61 \n\nTransport\n\nEveryone comes by themselves \n\nRegistration\n\nMore information or would you like to register? Contact Iman at 06-53618681.
URL:https://welkominutrecht.nu/en/agenda-item/musicaz-at-plan-einstein-pahud-6/2025-03-28/
CATEGORIES:Music
END:VEVENT
END:VCALENDAR