BEGIN:VCALENDAR
VERSION:2.0
PRODID:-//Welkom in Utrecht | Verbindt vluchtelingen met Utrecht - ECPv6.15.18//NONSGML v1.0//EN
CALSCALE:GREGORIAN
METHOD:PUBLISH
X-WR-CALNAME:Welkom in Utrecht | Verbindt vluchtelingen met Utrecht
X-ORIGINAL-URL:https://welkominutrecht.nu/en/
X-WR-CALDESC:Events for Welkom in Utrecht | Verbindt vluchtelingen met Utrecht
REFRESH-INTERVAL;VALUE=DURATION:PT1H
X-Robots-Tag:noindex
X-PUBLISHED-TTL:PT1H
BEGIN:VTIMEZONE
TZID:Europe/Amsterdam
BEGIN:DAYLIGHT
TZOFFSETFROM:+0100
TZOFFSETTO:+0200
TZNAME:CEST
DTSTART:20230326T010000
END:DAYLIGHT
BEGIN:STANDARD
TZOFFSETFROM:+0200
TZOFFSETTO:+0100
TZNAME:CET
DTSTART:20231029T010000
END:STANDARD
BEGIN:DAYLIGHT
TZOFFSETFROM:+0100
TZOFFSETTO:+0200
TZNAME:CEST
DTSTART:20240331T010000
END:DAYLIGHT
BEGIN:STANDARD
TZOFFSETFROM:+0200
TZOFFSETTO:+0100
TZNAME:CET
DTSTART:20241027T010000
END:STANDARD
BEGIN:DAYLIGHT
TZOFFSETFROM:+0100
TZOFFSETTO:+0200
TZNAME:CEST
DTSTART:20250330T010000
END:DAYLIGHT
BEGIN:STANDARD
TZOFFSETFROM:+0200
TZOFFSETTO:+0100
TZNAME:CET
DTSTART:20251026T010000
END:STANDARD
END:VTIMEZONE
BEGIN:VEVENT
DTSTART;TZID=Europe/Amsterdam:20241114T110000
DTEND;TZID=Europe/Amsterdam:20241114T130000
DTSTAMP:20260425T183201
CREATED:20240927T065051Z
LAST-MODIFIED:20240927T065311Z
UID:10027155-1731582000-1731589200@welkominutrecht.nu
SUMMARY:Time for women Pahud
DESCRIPTION:Description\n\nThe Living Room at Pahud is open on Thursdays between 11 and 1 o’clock especially for women. In that time there will be danced\, painted\, or something delicious will be baked. Feel welcome to join\, also if you just would like to have a chat or listen to music.  \n\nLocation\n\nLiving Room Plan Einstein Pahud | Pahud de Mortangesdreef 61 \n\nTransport\n\nEveryone comes to the location themselves \n\nRegistration\n\nNo need to sign up\, you can just walk in
URL:https://welkominutrecht.nu/en/agenda-item/time-for-women-pahud/2024-11-14/
CATEGORIES:Beauty & body,Creativity & crafts,Games & Meeting,Music
END:VEVENT
BEGIN:VEVENT
DTSTART;TZID=Europe/Amsterdam:20241114T200000
DTEND;TZID=Europe/Amsterdam:20241114T220000
DTSTAMP:20260425T183201
CREATED:20240930T132219Z
LAST-MODIFIED:20240930T132350Z
UID:10031847-1731614400-1731621600@welkominutrecht.nu
SUMMARY:Musicaz at Joseph Haydnlaan
DESCRIPTION:Description\n\nMusic-filled evening with the musicians of Musicaz for residents of azc Joseph Haydnlaan. Let’s make music together! \n\nLocation\n\nazc Joseph Haydnlaan | Joseph Haydnlaan 2 \n\nTransport\n\nEveryone goes by themselves \n\nRegistration\n\nWould you like more information? Contact us through eline@welkominutrecht.nu.
URL:https://welkominutrecht.nu/en/agenda-item/musicaz-at-joseph-haydnlaan-2/2024-11-14/
CATEGORIES:Music
END:VEVENT
BEGIN:VEVENT
DTSTART;TZID=Europe/Amsterdam:20241115T190000
DTEND;TZID=Europe/Amsterdam:20241115T200000
DTSTAMP:20260425T183201
CREATED:20241111T132824Z
LAST-MODIFIED:20241111T133235Z
UID:10032029-1731697200-1731700800@welkominutrecht.nu
SUMMARY:Singing with Tetyana
DESCRIPTION:Description\n\nUkrainians and Dutch people sing Ukrainian and Dutch songs together.  \n\nLocation\n\nHet Wilde Westen | Everard Meijsterlaan 1b \n\nTransport\n\nEverybody goes to the location by themselves.  \n\nRegistration\n\nWould you like to sing along in the choir or would you like some more information? Send an e-mail to hellen@welkominutrecht.nu.
URL:https://welkominutrecht.nu/en/agenda-item/singing-with-tetyana/2024-11-15/
CATEGORIES:Cultural,Music
ATTACH;FMTTYPE=image/jpeg:https://welkominutrecht.nu/wp-content/uploads/2024/07/cdd20-zlpST4Dkja8-unsplash-scaled-e1721133545117.jpg
END:VEVENT
BEGIN:VEVENT
DTSTART;TZID=Europe/Amsterdam:20241115T200000
DTEND;TZID=Europe/Amsterdam:20241115T213000
DTSTAMP:20260425T183201
CREATED:20240927T065622Z
LAST-MODIFIED:20240927T065747Z
UID:10027194-1731700800-1731706200@welkominutrecht.nu
SUMMARY:Musicaz at Plan Einstein Pahud
DESCRIPTION:Description\n\nA music-filled evening with Musicaz for residents and others at Plan Einstein Pahud. Let’s make music together! \n\nLocation\n\nPlan Einstein Pahud | Pahud de Mortangesdreef 61 \n\nTransport\n\nEveryone comes by themselves \n\nRegistration\n\nMore information or would you like to register? Contact Iman at 06-53618681.
URL:https://welkominutrecht.nu/en/agenda-item/musicaz-at-plan-einstein-pahud-5/2024-11-15/
CATEGORIES:Music
END:VEVENT
END:VCALENDAR