BEGIN:VCALENDAR
VERSION:2.0
PRODID:-//Welkom in Utrecht | Verbindt vluchtelingen met Utrecht - ECPv6.15.18//NONSGML v1.0//EN
CALSCALE:GREGORIAN
METHOD:PUBLISH
X-ORIGINAL-URL:https://welkominutrecht.nu/en/
X-WR-CALDESC:Events for Welkom in Utrecht | Verbindt vluchtelingen met Utrecht
REFRESH-INTERVAL;VALUE=DURATION:PT1H
X-Robots-Tag:noindex
X-PUBLISHED-TTL:PT1H
BEGIN:VTIMEZONE
TZID:Europe/Amsterdam
BEGIN:DAYLIGHT
TZOFFSETFROM:+0100
TZOFFSETTO:+0200
TZNAME:CEST
DTSTART:20240331T010000
END:DAYLIGHT
BEGIN:STANDARD
TZOFFSETFROM:+0200
TZOFFSETTO:+0100
TZNAME:CET
DTSTART:20241027T010000
END:STANDARD
BEGIN:DAYLIGHT
TZOFFSETFROM:+0100
TZOFFSETTO:+0200
TZNAME:CEST
DTSTART:20250330T010000
END:DAYLIGHT
BEGIN:STANDARD
TZOFFSETFROM:+0200
TZOFFSETTO:+0100
TZNAME:CET
DTSTART:20251026T010000
END:STANDARD
BEGIN:DAYLIGHT
TZOFFSETFROM:+0100
TZOFFSETTO:+0200
TZNAME:CEST
DTSTART:20260329T010000
END:DAYLIGHT
BEGIN:STANDARD
TZOFFSETFROM:+0200
TZOFFSETTO:+0100
TZNAME:CET
DTSTART:20261025T010000
END:STANDARD
END:VTIMEZONE
BEGIN:VEVENT
DTSTART;TZID=Europe/Amsterdam:20250401T100000
DTEND;TZID=Europe/Amsterdam:20250401T120000
DTSTAMP:20260426T043101
CREATED:20250320T143011Z
LAST-MODIFIED:20250320T143207Z
UID:10035457-1743501600-1743508800@welkominutrecht.nu
SUMMARY:Dutch class Huis van Vrede (beginners)
DESCRIPTION:Description\n\nBob teaches Dutch class to beginners in Huis van Vrede. Note: there might be a waiting list.  \n\nLocation\n\nHuis van Vrede | Trumanlaan 70-72 \n\nTransport\n\nEveryone goes to the location by themselves \n\nRegistration\n\nRegister with Eline: eline@welkominutrecht.nu
URL:https://welkominutrecht.nu/en/agenda-item/dutch-class-huis-van-vrede-beginners/2025-04-01/
CATEGORIES:Language
END:VEVENT
BEGIN:VEVENT
DTSTART;TZID=Europe/Amsterdam:20250401T100000
DTEND;TZID=Europe/Amsterdam:20250401T113000
DTSTAMP:20260426T043101
CREATED:20250320T143451Z
LAST-MODIFIED:20250320T143601Z
UID:10035495-1743501600-1743507000@welkominutrecht.nu
SUMMARY:Drink coffee and practice Dutch
DESCRIPTION:Description\n\nIn Huis van Dominicus you are welcome on Tuesday mornings to drink coffee\, practice Dutch and meet new people.  \n\nLocation\n\nHuis van Dominicus | Palestrinastraat 1 \n\nTransport\n\nEverybody comes to the location by themselves. From the azc somebody can walk with you.  \n\nRegistration\n\nRegister by sending an e-mail to eline@welkominutrecht.nu.
URL:https://welkominutrecht.nu/en/agenda-item/drink-coffee-and-practice-dutch-3/2025-04-01/
CATEGORIES:Games & Meeting,Language
END:VEVENT
BEGIN:VEVENT
DTSTART;TZID=Europe/Amsterdam:20250331T193000
DTEND;TZID=Europe/Amsterdam:20250331T210000
DTSTAMP:20260426T043101
CREATED:20250324T112236Z
LAST-MODIFIED:20250324T112428Z
UID:10035578-1743449400-1743454800@welkominutrecht.nu
SUMMARY:Language cafe De Bierkantine
DESCRIPTION:Description\n\nWould you like to practice Dutch with a volunteer? You can do so at WelnU‘s language cafe in De Bierkantine. Note: There may be a waiting list. \n\nLocation\n\nRestaurant De Bierkantine | Ravellaan 96 \n\nTransport\n\nEverybody goes to the location by themselves.  \n\nRegistration\n\nRegistration with Eline at eline@welkominutrecht.nu.
URL:https://welkominutrecht.nu/en/agenda-item/language-cafe-de-bierkantine-4/2025-03-31/
CATEGORIES:Language
END:VEVENT
BEGIN:VEVENT
DTSTART;TZID=Europe/Amsterdam:20250331T193000
DTEND;TZID=Europe/Amsterdam:20250331T210000
DTSTAMP:20260426T043101
CREATED:20241224T111415Z
LAST-MODIFIED:20250103T112953Z
UID:10033868-1743449400-1743454800@welkominutrecht.nu
SUMMARY:Language cafe De Bierkantine
DESCRIPTION:Description\n\nWould you like to practice Dutch with a volunteer? You can at the language cafe of WelnU in De Bierkantine. \nNote: there might be a waiting list.  \n\nLocation\n\nRestaurant De Bierkantine | Ravellaan 96 \n\nTransport\n\nOwn transport \n\nRegistration\n\nRegister with Eline: 06-51698363
URL:https://welkominutrecht.nu/en/agenda-item/language-cafe-de-bierkantine-3/2025-03-31/
CATEGORIES:Language
END:VEVENT
BEGIN:VEVENT
DTSTART;TZID=Europe/Amsterdam:20250331T193000
DTEND;TZID=Europe/Amsterdam:20250331T210000
DTSTAMP:20260426T043101
CREATED:20241224T103648Z
LAST-MODIFIED:20250103T115125Z
UID:10034132-1743449400-1743454800@welkominutrecht.nu
SUMMARY:Language cafe Star Lodge
DESCRIPTION:Description\n\nDuring a language cafe volunteers help residents of Star Lodge to learn the Dutch language.  \n\nLocation\n\nStar Lodge | Biltsestraatweg 92 \n\nTransport\n\nOwn transport \n\nRegistration\n\nWould you like to volunteer to give Dutch lessons to a resident of Star Lodge in Utrecht? Please send an email to yoseph@welkominutrecht.nu
URL:https://welkominutrecht.nu/en/agenda-item/language-cafe-star-lodge-5/2025-03-31/
CATEGORIES:Language
END:VEVENT
BEGIN:VEVENT
DTSTART;TZID=Europe/Amsterdam:20250331T120000
DTEND;TZID=Europe/Amsterdam:20250331T140000
DTSTAMP:20260426T043101
CREATED:20241224T110922Z
LAST-MODIFIED:20250103T113346Z
UID:10033920-1743422400-1743429600@welkominutrecht.nu
SUMMARY:Mother language cafe Star Lodge
DESCRIPTION:Description\n\nDuring a language cafe volunteers help residents of Star Lodge to learn the Dutch language. This language cafe is specifically for (single) mothers who do not have access to a babysitter. There are volunteers who look after the kids during the language cafe.  \n\nLocation\n\nStar Lodge | Biltsestraatweg 92 \n\nTransport\n\nOwn transport \n\nRegistration\n\nWould you like to volunteer to give Dutch lessons to a resident of Star Lodge in Utrecht? Or would you like to volunteer to watch the children? Please send an email to yoseph@welkominutrecht.nu
URL:https://welkominutrecht.nu/en/agenda-item/mother-language-cafe-star-lodge/2025-03-31/
CATEGORIES:Language
END:VEVENT
BEGIN:VEVENT
DTSTART;TZID=Europe/Amsterdam:20250327T193000
DTEND;TZID=Europe/Amsterdam:20250327T210000
DTSTAMP:20260426T043101
CREATED:20241224T103648Z
LAST-MODIFIED:20250103T115125Z
UID:10034131-1743103800-1743109200@welkominutrecht.nu
SUMMARY:Language cafe Star Lodge
DESCRIPTION:Description\n\nDuring a language cafe volunteers help residents of Star Lodge to learn the Dutch language.  \n\nLocation\n\nStar Lodge | Biltsestraatweg 92 \n\nTransport\n\nOwn transport \n\nRegistration\n\nWould you like to volunteer to give Dutch lessons to a resident of Star Lodge in Utrecht? Please send an email to yoseph@welkominutrecht.nu
URL:https://welkominutrecht.nu/en/agenda-item/language-cafe-star-lodge-5/2025-03-27/
CATEGORIES:Language
END:VEVENT
BEGIN:VEVENT
DTSTART;TZID=Europe/Amsterdam:20250327T184500
DTEND;TZID=Europe/Amsterdam:20250327T200000
DTSTAMP:20260426T043101
CREATED:20241224T110239Z
LAST-MODIFIED:20250103T115049Z
UID:10034094-1743101100-1743105600@welkominutrecht.nu
SUMMARY:Dutch Conversation Club Star Lodge
DESCRIPTION:Description\n\nTogether with volunteers you practice the Dutch language. This is especially organized for residents of Star Lodge and the Provinciehuis. Every week another theme will be discussed in a conversation. Basic knowledge of Dutch is required.  \n\nLocation\n\nStar Lodge | Biltsestraatweg 92 \n\nTransport\n\nOwn transport \n\nRegistration\n\nWould you like to participate as a volunteer? Please email Yoseph in advance at yoseph@welkominutrecht.nu.
URL:https://welkominutrecht.nu/en/agenda-item/dutch-conversation-club-star-lodge-3/2025-03-27/
CATEGORIES:Language
END:VEVENT
BEGIN:VEVENT
DTSTART;TZID=Europe/Amsterdam:20250327T100000
DTEND;TZID=Europe/Amsterdam:20250327T120000
DTSTAMP:20260426T043101
CREATED:20241224T102336Z
LAST-MODIFIED:20250103T112626Z
UID:10033830-1743069600-1743076800@welkominutrecht.nu
SUMMARY:Dutch language class Huis van Vrede (beginners)
DESCRIPTION:Description\n\nDutch language class for beginners at Huis van Vrede. Bob teaches Dutch in small groups. Note: There might be a waiting list.  \n\nLocation\n\nHuis van Vrede | Trumanlaan 70-72 \n\nTransport\n\nEveryone goes to the location themselves \n\nRegistration\n\nRegister with Eline: 06-51 69 83 63
URL:https://welkominutrecht.nu/en/agenda-item/dutch-language-class-huis-van-vrede-beginners-2/2025-03-27/
CATEGORIES:Language
END:VEVENT
BEGIN:VEVENT
DTSTART;TZID=Europe/Amsterdam:20250326T170000
DTEND;TZID=Europe/Amsterdam:20250326T183000
DTSTAMP:20260426T043101
CREATED:20241224T105415Z
LAST-MODIFIED:20250103T115614Z
UID:10034210-1743008400-1743013800@welkominutrecht.nu
SUMMARY:PKN language cafe
DESCRIPTION:Description\n\nDo you want to practice your Dutch skills together with a Dutch-speaking volunteer? You can with the PKN Language cafe! Attention: there might be a waiting list.   \n\nLocation\n\nPKN Building next to the AZC | Joseph Haydnlaan 2A \n\nTransport\n\nOwn transport \n\nRegistration\n\nThere might be a waiting list. Please register with Nicole: 0625488540
URL:https://welkominutrecht.nu/en/agenda-item/pkn-language-cafe-3/2025-03-26/
CATEGORIES:Language
END:VEVENT
BEGIN:VEVENT
DTSTART;TZID=Europe/Amsterdam:20250325T193000
DTEND;TZID=Europe/Amsterdam:20250325T210000
DTSTAMP:20260426T043101
CREATED:20241224T103648Z
LAST-MODIFIED:20250103T115125Z
UID:10034130-1742931000-1742936400@welkominutrecht.nu
SUMMARY:Language cafe Star Lodge
DESCRIPTION:Description\n\nDuring a language cafe volunteers help residents of Star Lodge to learn the Dutch language.  \n\nLocation\n\nStar Lodge | Biltsestraatweg 92 \n\nTransport\n\nOwn transport \n\nRegistration\n\nWould you like to volunteer to give Dutch lessons to a resident of Star Lodge in Utrecht? Please send an email to yoseph@welkominutrecht.nu
URL:https://welkominutrecht.nu/en/agenda-item/language-cafe-star-lodge-5/2025-03-25/
CATEGORIES:Language
END:VEVENT
BEGIN:VEVENT
DTSTART;TZID=Europe/Amsterdam:20250325T100000
DTEND;TZID=Europe/Amsterdam:20250325T120000
DTSTAMP:20260426T043101
CREATED:20241224T102336Z
LAST-MODIFIED:20250103T112626Z
UID:10033829-1742896800-1742904000@welkominutrecht.nu
SUMMARY:Dutch language class Huis van Vrede (beginners)
DESCRIPTION:Description\n\nDutch language class for beginners at Huis van Vrede. Bob teaches Dutch in small groups. Note: There might be a waiting list.  \n\nLocation\n\nHuis van Vrede | Trumanlaan 70-72 \n\nTransport\n\nEveryone goes to the location themselves \n\nRegistration\n\nRegister with Eline: 06-51 69 83 63
URL:https://welkominutrecht.nu/en/agenda-item/dutch-language-class-huis-van-vrede-beginners-2/2025-03-25/
CATEGORIES:Language
END:VEVENT
BEGIN:VEVENT
DTSTART;TZID=Europe/Amsterdam:20250325T100000
DTEND;TZID=Europe/Amsterdam:20250325T113000
DTSTAMP:20260426T043101
CREATED:20241224T102229Z
LAST-MODIFIED:20250103T112737Z
UID:10033842-1742896800-1742902200@welkominutrecht.nu
SUMMARY:Drink coffee and practice Dutch
DESCRIPTION:Description\n\nHave a nice coffee and meet new people at Huis van Dominicus. By talking to each other you can immediately practice your Dutch. \n\nLocation\n\nHuis van Dominicus | Palestrinastraat 1 \n\nTransport\n\nOwn transport\, someone can walk with you \n\nRegistration\n\nRegister by sending an e-mail to eline@welkominutrecht.nu.
URL:https://welkominutrecht.nu/en/agenda-item/drink-coffee-and-practice-dutch-2/2025-03-25/
CATEGORIES:Games & Meeting,Language
END:VEVENT
BEGIN:VEVENT
DTSTART;TZID=Europe/Amsterdam:20250324T193000
DTEND;TZID=Europe/Amsterdam:20250324T210000
DTSTAMP:20260426T043101
CREATED:20250324T112236Z
LAST-MODIFIED:20250324T112428Z
UID:10035577-1742844600-1742850000@welkominutrecht.nu
SUMMARY:Language cafe De Bierkantine
DESCRIPTION:Description\n\nWould you like to practice Dutch with a volunteer? You can do so at WelnU‘s language cafe in De Bierkantine. Note: There may be a waiting list. \n\nLocation\n\nRestaurant De Bierkantine | Ravellaan 96 \n\nTransport\n\nEverybody goes to the location by themselves.  \n\nRegistration\n\nRegistration with Eline at eline@welkominutrecht.nu.
URL:https://welkominutrecht.nu/en/agenda-item/language-cafe-de-bierkantine-4/2025-03-24/
CATEGORIES:Language
END:VEVENT
BEGIN:VEVENT
DTSTART;TZID=Europe/Amsterdam:20250324T193000
DTEND;TZID=Europe/Amsterdam:20250324T210000
DTSTAMP:20260426T043101
CREATED:20241224T111415Z
LAST-MODIFIED:20250103T112953Z
UID:10033867-1742844600-1742850000@welkominutrecht.nu
SUMMARY:Language cafe De Bierkantine
DESCRIPTION:Description\n\nWould you like to practice Dutch with a volunteer? You can at the language cafe of WelnU in De Bierkantine. \nNote: there might be a waiting list.  \n\nLocation\n\nRestaurant De Bierkantine | Ravellaan 96 \n\nTransport\n\nOwn transport \n\nRegistration\n\nRegister with Eline: 06-51698363
URL:https://welkominutrecht.nu/en/agenda-item/language-cafe-de-bierkantine-3/2025-03-24/
CATEGORIES:Language
END:VEVENT
BEGIN:VEVENT
DTSTART;TZID=Europe/Amsterdam:20250324T193000
DTEND;TZID=Europe/Amsterdam:20250324T210000
DTSTAMP:20260426T043101
CREATED:20241224T103648Z
LAST-MODIFIED:20250103T115125Z
UID:10034129-1742844600-1742850000@welkominutrecht.nu
SUMMARY:Language cafe Star Lodge
DESCRIPTION:Description\n\nDuring a language cafe volunteers help residents of Star Lodge to learn the Dutch language.  \n\nLocation\n\nStar Lodge | Biltsestraatweg 92 \n\nTransport\n\nOwn transport \n\nRegistration\n\nWould you like to volunteer to give Dutch lessons to a resident of Star Lodge in Utrecht? Please send an email to yoseph@welkominutrecht.nu
URL:https://welkominutrecht.nu/en/agenda-item/language-cafe-star-lodge-5/2025-03-24/
CATEGORIES:Language
END:VEVENT
BEGIN:VEVENT
DTSTART;TZID=Europe/Amsterdam:20250324T120000
DTEND;TZID=Europe/Amsterdam:20250324T140000
DTSTAMP:20260426T043101
CREATED:20241224T110922Z
LAST-MODIFIED:20250103T113346Z
UID:10033919-1742817600-1742824800@welkominutrecht.nu
SUMMARY:Mother language cafe Star Lodge
DESCRIPTION:Description\n\nDuring a language cafe volunteers help residents of Star Lodge to learn the Dutch language. This language cafe is specifically for (single) mothers who do not have access to a babysitter. There are volunteers who look after the kids during the language cafe.  \n\nLocation\n\nStar Lodge | Biltsestraatweg 92 \n\nTransport\n\nOwn transport \n\nRegistration\n\nWould you like to volunteer to give Dutch lessons to a resident of Star Lodge in Utrecht? Or would you like to volunteer to watch the children? Please send an email to yoseph@welkominutrecht.nu
URL:https://welkominutrecht.nu/en/agenda-item/mother-language-cafe-star-lodge/2025-03-24/
CATEGORIES:Language
END:VEVENT
BEGIN:VEVENT
DTSTART;TZID=Europe/Amsterdam:20250320T193000
DTEND;TZID=Europe/Amsterdam:20250320T210000
DTSTAMP:20260426T043101
CREATED:20241224T103648Z
LAST-MODIFIED:20250103T115125Z
UID:10034128-1742499000-1742504400@welkominutrecht.nu
SUMMARY:Language cafe Star Lodge
DESCRIPTION:Description\n\nDuring a language cafe volunteers help residents of Star Lodge to learn the Dutch language.  \n\nLocation\n\nStar Lodge | Biltsestraatweg 92 \n\nTransport\n\nOwn transport \n\nRegistration\n\nWould you like to volunteer to give Dutch lessons to a resident of Star Lodge in Utrecht? Please send an email to yoseph@welkominutrecht.nu
URL:https://welkominutrecht.nu/en/agenda-item/language-cafe-star-lodge-5/2025-03-20/
CATEGORIES:Language
END:VEVENT
BEGIN:VEVENT
DTSTART;TZID=Europe/Amsterdam:20250320T184500
DTEND;TZID=Europe/Amsterdam:20250320T200000
DTSTAMP:20260426T043101
CREATED:20241224T110239Z
LAST-MODIFIED:20250103T115049Z
UID:10034093-1742496300-1742500800@welkominutrecht.nu
SUMMARY:Dutch Conversation Club Star Lodge
DESCRIPTION:Description\n\nTogether with volunteers you practice the Dutch language. This is especially organized for residents of Star Lodge and the Provinciehuis. Every week another theme will be discussed in a conversation. Basic knowledge of Dutch is required.  \n\nLocation\n\nStar Lodge | Biltsestraatweg 92 \n\nTransport\n\nOwn transport \n\nRegistration\n\nWould you like to participate as a volunteer? Please email Yoseph in advance at yoseph@welkominutrecht.nu.
URL:https://welkominutrecht.nu/en/agenda-item/dutch-conversation-club-star-lodge-3/2025-03-20/
CATEGORIES:Language
END:VEVENT
BEGIN:VEVENT
DTSTART;TZID=Europe/Amsterdam:20250320T100000
DTEND;TZID=Europe/Amsterdam:20250320T120000
DTSTAMP:20260426T043101
CREATED:20241224T102336Z
LAST-MODIFIED:20250103T112626Z
UID:10033828-1742464800-1742472000@welkominutrecht.nu
SUMMARY:Dutch language class Huis van Vrede (beginners)
DESCRIPTION:Description\n\nDutch language class for beginners at Huis van Vrede. Bob teaches Dutch in small groups. Note: There might be a waiting list.  \n\nLocation\n\nHuis van Vrede | Trumanlaan 70-72 \n\nTransport\n\nEveryone goes to the location themselves \n\nRegistration\n\nRegister with Eline: 06-51 69 83 63
URL:https://welkominutrecht.nu/en/agenda-item/dutch-language-class-huis-van-vrede-beginners-2/2025-03-20/
CATEGORIES:Language
END:VEVENT
BEGIN:VEVENT
DTSTART;TZID=Europe/Amsterdam:20250319T170000
DTEND;TZID=Europe/Amsterdam:20250319T183000
DTSTAMP:20260426T043101
CREATED:20241224T105415Z
LAST-MODIFIED:20250103T115614Z
UID:10034209-1742403600-1742409000@welkominutrecht.nu
SUMMARY:PKN language cafe
DESCRIPTION:Description\n\nDo you want to practice your Dutch skills together with a Dutch-speaking volunteer? You can with the PKN Language cafe! Attention: there might be a waiting list.   \n\nLocation\n\nPKN Building next to the AZC | Joseph Haydnlaan 2A \n\nTransport\n\nOwn transport \n\nRegistration\n\nThere might be a waiting list. Please register with Nicole: 0625488540
URL:https://welkominutrecht.nu/en/agenda-item/pkn-language-cafe-3/2025-03-19/
CATEGORIES:Language
END:VEVENT
BEGIN:VEVENT
DTSTART;TZID=Europe/Amsterdam:20250318T193000
DTEND;TZID=Europe/Amsterdam:20250318T210000
DTSTAMP:20260426T043101
CREATED:20241224T103648Z
LAST-MODIFIED:20250103T115125Z
UID:10034127-1742326200-1742331600@welkominutrecht.nu
SUMMARY:Language cafe Star Lodge
DESCRIPTION:Description\n\nDuring a language cafe volunteers help residents of Star Lodge to learn the Dutch language.  \n\nLocation\n\nStar Lodge | Biltsestraatweg 92 \n\nTransport\n\nOwn transport \n\nRegistration\n\nWould you like to volunteer to give Dutch lessons to a resident of Star Lodge in Utrecht? Please send an email to yoseph@welkominutrecht.nu
URL:https://welkominutrecht.nu/en/agenda-item/language-cafe-star-lodge-5/2025-03-18/
CATEGORIES:Language
END:VEVENT
BEGIN:VEVENT
DTSTART;TZID=Europe/Amsterdam:20250318T100000
DTEND;TZID=Europe/Amsterdam:20250318T120000
DTSTAMP:20260426T043101
CREATED:20241224T102336Z
LAST-MODIFIED:20250103T112626Z
UID:10033827-1742292000-1742299200@welkominutrecht.nu
SUMMARY:Dutch language class Huis van Vrede (beginners)
DESCRIPTION:Description\n\nDutch language class for beginners at Huis van Vrede. Bob teaches Dutch in small groups. Note: There might be a waiting list.  \n\nLocation\n\nHuis van Vrede | Trumanlaan 70-72 \n\nTransport\n\nEveryone goes to the location themselves \n\nRegistration\n\nRegister with Eline: 06-51 69 83 63
URL:https://welkominutrecht.nu/en/agenda-item/dutch-language-class-huis-van-vrede-beginners-2/2025-03-18/
CATEGORIES:Language
END:VEVENT
BEGIN:VEVENT
DTSTART;TZID=Europe/Amsterdam:20250318T100000
DTEND;TZID=Europe/Amsterdam:20250318T113000
DTSTAMP:20260426T043101
CREATED:20241224T102229Z
LAST-MODIFIED:20250103T112737Z
UID:10033841-1742292000-1742297400@welkominutrecht.nu
SUMMARY:Drink coffee and practice Dutch
DESCRIPTION:Description\n\nHave a nice coffee and meet new people at Huis van Dominicus. By talking to each other you can immediately practice your Dutch. \n\nLocation\n\nHuis van Dominicus | Palestrinastraat 1 \n\nTransport\n\nOwn transport\, someone can walk with you \n\nRegistration\n\nRegister by sending an e-mail to eline@welkominutrecht.nu.
URL:https://welkominutrecht.nu/en/agenda-item/drink-coffee-and-practice-dutch-2/2025-03-18/
CATEGORIES:Games & Meeting,Language
END:VEVENT
BEGIN:VEVENT
DTSTART;TZID=Europe/Amsterdam:20250317T193000
DTEND;TZID=Europe/Amsterdam:20250317T210000
DTSTAMP:20260426T043101
CREATED:20250324T112236Z
LAST-MODIFIED:20250324T112428Z
UID:10035576-1742239800-1742245200@welkominutrecht.nu
SUMMARY:Language cafe De Bierkantine
DESCRIPTION:Description\n\nWould you like to practice Dutch with a volunteer? You can do so at WelnU‘s language cafe in De Bierkantine. Note: There may be a waiting list. \n\nLocation\n\nRestaurant De Bierkantine | Ravellaan 96 \n\nTransport\n\nEverybody goes to the location by themselves.  \n\nRegistration\n\nRegistration with Eline at eline@welkominutrecht.nu.
URL:https://welkominutrecht.nu/en/agenda-item/language-cafe-de-bierkantine-4/2025-03-17/
CATEGORIES:Language
END:VEVENT
BEGIN:VEVENT
DTSTART;TZID=Europe/Amsterdam:20250317T193000
DTEND;TZID=Europe/Amsterdam:20250317T210000
DTSTAMP:20260426T043101
CREATED:20241224T111415Z
LAST-MODIFIED:20250103T112953Z
UID:10033866-1742239800-1742245200@welkominutrecht.nu
SUMMARY:Language cafe De Bierkantine
DESCRIPTION:Description\n\nWould you like to practice Dutch with a volunteer? You can at the language cafe of WelnU in De Bierkantine. \nNote: there might be a waiting list.  \n\nLocation\n\nRestaurant De Bierkantine | Ravellaan 96 \n\nTransport\n\nOwn transport \n\nRegistration\n\nRegister with Eline: 06-51698363
URL:https://welkominutrecht.nu/en/agenda-item/language-cafe-de-bierkantine-3/2025-03-17/
CATEGORIES:Language
END:VEVENT
BEGIN:VEVENT
DTSTART;TZID=Europe/Amsterdam:20250317T193000
DTEND;TZID=Europe/Amsterdam:20250317T210000
DTSTAMP:20260426T043101
CREATED:20241224T103648Z
LAST-MODIFIED:20250103T115125Z
UID:10034126-1742239800-1742245200@welkominutrecht.nu
SUMMARY:Language cafe Star Lodge
DESCRIPTION:Description\n\nDuring a language cafe volunteers help residents of Star Lodge to learn the Dutch language.  \n\nLocation\n\nStar Lodge | Biltsestraatweg 92 \n\nTransport\n\nOwn transport \n\nRegistration\n\nWould you like to volunteer to give Dutch lessons to a resident of Star Lodge in Utrecht? Please send an email to yoseph@welkominutrecht.nu
URL:https://welkominutrecht.nu/en/agenda-item/language-cafe-star-lodge-5/2025-03-17/
CATEGORIES:Language
END:VEVENT
BEGIN:VEVENT
DTSTART;TZID=Europe/Amsterdam:20250317T120000
DTEND;TZID=Europe/Amsterdam:20250317T140000
DTSTAMP:20260426T043101
CREATED:20241224T110922Z
LAST-MODIFIED:20250103T113346Z
UID:10033918-1742212800-1742220000@welkominutrecht.nu
SUMMARY:Mother language cafe Star Lodge
DESCRIPTION:Description\n\nDuring a language cafe volunteers help residents of Star Lodge to learn the Dutch language. This language cafe is specifically for (single) mothers who do not have access to a babysitter. There are volunteers who look after the kids during the language cafe.  \n\nLocation\n\nStar Lodge | Biltsestraatweg 92 \n\nTransport\n\nOwn transport \n\nRegistration\n\nWould you like to volunteer to give Dutch lessons to a resident of Star Lodge in Utrecht? Or would you like to volunteer to watch the children? Please send an email to yoseph@welkominutrecht.nu
URL:https://welkominutrecht.nu/en/agenda-item/mother-language-cafe-star-lodge/2025-03-17/
CATEGORIES:Language
END:VEVENT
BEGIN:VEVENT
DTSTART;TZID=Europe/Amsterdam:20250313T193000
DTEND;TZID=Europe/Amsterdam:20250313T210000
DTSTAMP:20260426T043101
CREATED:20241224T103648Z
LAST-MODIFIED:20250103T115125Z
UID:10034125-1741894200-1741899600@welkominutrecht.nu
SUMMARY:Language cafe Star Lodge
DESCRIPTION:Description\n\nDuring a language cafe volunteers help residents of Star Lodge to learn the Dutch language.  \n\nLocation\n\nStar Lodge | Biltsestraatweg 92 \n\nTransport\n\nOwn transport \n\nRegistration\n\nWould you like to volunteer to give Dutch lessons to a resident of Star Lodge in Utrecht? Please send an email to yoseph@welkominutrecht.nu
URL:https://welkominutrecht.nu/en/agenda-item/language-cafe-star-lodge-5/2025-03-13/
CATEGORIES:Language
END:VEVENT
BEGIN:VEVENT
DTSTART;TZID=Europe/Amsterdam:20250313T184500
DTEND;TZID=Europe/Amsterdam:20250313T200000
DTSTAMP:20260426T043101
CREATED:20241224T110239Z
LAST-MODIFIED:20250103T115049Z
UID:10034092-1741891500-1741896000@welkominutrecht.nu
SUMMARY:Dutch Conversation Club Star Lodge
DESCRIPTION:Description\n\nTogether with volunteers you practice the Dutch language. This is especially organized for residents of Star Lodge and the Provinciehuis. Every week another theme will be discussed in a conversation. Basic knowledge of Dutch is required.  \n\nLocation\n\nStar Lodge | Biltsestraatweg 92 \n\nTransport\n\nOwn transport \n\nRegistration\n\nWould you like to participate as a volunteer? Please email Yoseph in advance at yoseph@welkominutrecht.nu.
URL:https://welkominutrecht.nu/en/agenda-item/dutch-conversation-club-star-lodge-3/2025-03-13/
CATEGORIES:Language
END:VEVENT
END:VCALENDAR