BEGIN:VCALENDAR
VERSION:2.0
PRODID:-//Welkom in Utrecht | Verbindt vluchtelingen met Utrecht - ECPv6.15.18//NONSGML v1.0//EN
CALSCALE:GREGORIAN
METHOD:PUBLISH
X-WR-CALNAME:Welkom in Utrecht | Verbindt vluchtelingen met Utrecht
X-ORIGINAL-URL:https://welkominutrecht.nu/en/
X-WR-CALDESC:Events for Welkom in Utrecht | Verbindt vluchtelingen met Utrecht
REFRESH-INTERVAL;VALUE=DURATION:PT1H
X-Robots-Tag:noindex
X-PUBLISHED-TTL:PT1H
BEGIN:VTIMEZONE
TZID:Europe/Amsterdam
BEGIN:DAYLIGHT
TZOFFSETFROM:+0100
TZOFFSETTO:+0200
TZNAME:CEST
DTSTART:20250330T010000
END:DAYLIGHT
BEGIN:STANDARD
TZOFFSETFROM:+0200
TZOFFSETTO:+0100
TZNAME:CET
DTSTART:20251026T010000
END:STANDARD
BEGIN:DAYLIGHT
TZOFFSETFROM:+0100
TZOFFSETTO:+0200
TZNAME:CEST
DTSTART:20260329T010000
END:DAYLIGHT
BEGIN:STANDARD
TZOFFSETFROM:+0200
TZOFFSETTO:+0100
TZNAME:CET
DTSTART:20261025T010000
END:STANDARD
BEGIN:DAYLIGHT
TZOFFSETFROM:+0100
TZOFFSETTO:+0200
TZNAME:CEST
DTSTART:20270328T010000
END:DAYLIGHT
BEGIN:STANDARD
TZOFFSETFROM:+0200
TZOFFSETTO:+0100
TZNAME:CET
DTSTART:20271031T010000
END:STANDARD
END:VTIMEZONE
BEGIN:VEVENT
DTSTART;TZID=Europe/Amsterdam:20260506T190000
DTEND;TZID=Europe/Amsterdam:20260506T210000
DTSTAMP:20260424T122559
CREATED:20251126T140413Z
LAST-MODIFIED:20260318T120049Z
UID:10043812-1778094000-1778101200@welkominutrecht.nu
SUMMARY:Women's night Joseph Haydnlaan
DESCRIPTION:Description\n\nEvery first Wednesday of the month\, we organize a women’s night at the A Beautiful Mess restaurant in collaboration with De Voorkamer. We get together\, explore our creativity\, and enjoy fun activities together.Will you join us? \n\nLocation\n\nRestaurant A Beautiful Mess | Joseph Haydnlaan 2 \n\nTransport\n\nEverybody goes to the location by themselves.  \n\nRegistration\n\nWould you like to participate in (organizing) the women’s evening? Send an email to elham@welkominutrecht.nu.
URL:https://welkominutrecht.nu/en/agenda-item/womens-night-joseph-haydnlaan-2/2026-05-06/
CATEGORIES:Creativity & crafts,Cultural,Games & Meeting
ATTACH;FMTTYPE=image/jpeg:https://welkominutrecht.nu/wp-content/uploads/2025/03/WNclay-ph_Luz_Soria-4622-scaled-e1742392483195.jpg
END:VEVENT
BEGIN:VEVENT
DTSTART;TZID=Europe/Amsterdam:20260603T190000
DTEND;TZID=Europe/Amsterdam:20260603T210000
DTSTAMP:20260424T122559
CREATED:20251126T140413Z
LAST-MODIFIED:20260318T120049Z
UID:10043813-1780513200-1780520400@welkominutrecht.nu
SUMMARY:Women's night Joseph Haydnlaan
DESCRIPTION:Description\n\nEvery first Wednesday of the month\, we organize a women’s night at the A Beautiful Mess restaurant in collaboration with De Voorkamer. We get together\, explore our creativity\, and enjoy fun activities together.Will you join us? \n\nLocation\n\nRestaurant A Beautiful Mess | Joseph Haydnlaan 2 \n\nTransport\n\nEverybody goes to the location by themselves.  \n\nRegistration\n\nWould you like to participate in (organizing) the women’s evening? Send an email to elham@welkominutrecht.nu.
URL:https://welkominutrecht.nu/en/agenda-item/womens-night-joseph-haydnlaan-2/2026-06-03/
CATEGORIES:Creativity & crafts,Cultural,Games & Meeting
ATTACH;FMTTYPE=image/jpeg:https://welkominutrecht.nu/wp-content/uploads/2025/03/WNclay-ph_Luz_Soria-4622-scaled-e1742392483195.jpg
END:VEVENT
END:VCALENDAR