BEGIN:VCALENDAR
VERSION:2.0
PRODID:-//Welkom in Utrecht | Verbindt vluchtelingen met Utrecht - ECPv6.15.18//NONSGML v1.0//EN
CALSCALE:GREGORIAN
METHOD:PUBLISH
X-WR-CALNAME:Welkom in Utrecht | Verbindt vluchtelingen met Utrecht
X-ORIGINAL-URL:https://welkominutrecht.nu/en/
X-WR-CALDESC:Events for Welkom in Utrecht | Verbindt vluchtelingen met Utrecht
REFRESH-INTERVAL;VALUE=DURATION:PT1H
X-Robots-Tag:noindex
X-PUBLISHED-TTL:PT1H
BEGIN:VTIMEZONE
TZID:Europe/Amsterdam
BEGIN:DAYLIGHT
TZOFFSETFROM:+0100
TZOFFSETTO:+0200
TZNAME:CEST
DTSTART:20240331T010000
END:DAYLIGHT
BEGIN:STANDARD
TZOFFSETFROM:+0200
TZOFFSETTO:+0100
TZNAME:CET
DTSTART:20241027T010000
END:STANDARD
BEGIN:DAYLIGHT
TZOFFSETFROM:+0100
TZOFFSETTO:+0200
TZNAME:CEST
DTSTART:20250330T010000
END:DAYLIGHT
BEGIN:STANDARD
TZOFFSETFROM:+0200
TZOFFSETTO:+0100
TZNAME:CET
DTSTART:20251026T010000
END:STANDARD
BEGIN:DAYLIGHT
TZOFFSETFROM:+0100
TZOFFSETTO:+0200
TZNAME:CEST
DTSTART:20260329T010000
END:DAYLIGHT
BEGIN:STANDARD
TZOFFSETFROM:+0200
TZOFFSETTO:+0100
TZNAME:CET
DTSTART:20261025T010000
END:STANDARD
END:VTIMEZONE
BEGIN:VEVENT
DTSTART;TZID=Europe/Amsterdam:20250915T033000
DTEND;TZID=Europe/Amsterdam:20250915T180000
DTSTAMP:20260425T151733
CREATED:20250618T084204Z
LAST-MODIFIED:20250618T084321Z
UID:10039520-1757907000-1757959200@welkominutrecht.nu
SUMMARY:Open walk-in HerculesHoek
DESCRIPTION:Description\n\nThe HerculesHoek is Welkom in Utrecht’s living room at the shelter for Ukrainians at Herculesplein. It is a meeting space between Ukrainians and local residents and we organize activities where everyone can participate. \n\nYou can come by during our open walk-in hours from Tuesday until Saturday between 1 o’clock and 6 o’clock. \n\nLocation\n\nDe HerculesHoek | Herculesplein 5-15 \n\nTransport\n\nEverybody goes to the location by themselves.  \n\nRegistration\n\nFeel free to come by!  \n\nDo you have a question about the HerculesHoek? Send an e-mail to herculeshoek@welkominutrecht.nu.
URL:https://welkominutrecht.nu/en/agenda-item/open-walk-in-herculeshoek-4/2025-09-15/
CATEGORIES:Cultural,Games & Meeting,Getting to know Utrecht
ATTACH;FMTTYPE=image/jpeg:https://welkominutrecht.nu/wp-content/uploads/2024/11/nathan-dumlao-6VhPY27jdps-unsplash-scaled.jpg
END:VEVENT
BEGIN:VEVENT
DTSTART;TZID=Europe/Amsterdam:20250915T180000
DTEND;TZID=Europe/Amsterdam:20250915T190000
DTSTAMP:20260425T151733
CREATED:20250618T080928Z
LAST-MODIFIED:20250618T081025Z
UID:10037202-1757959200-1757962800@welkominutrecht.nu
SUMMARY:Dancing voor vrouwen
DESCRIPTION:Description\n\nEvery week another dance workshop\, so every week you can learn a new dance. The workshop is especially for women\, in the Wilde Westen close to the AZC Joseph Haydnlaan.  \n\nLocation\n\nHet Wilde Westen | Everard Meijsterlaan 1B \n\nTransport\n\nEverybody goes to the location by themselves. Do you live in the azc? Then we can walk with you to the class. \n\nRegistration\n\nRegistration with Elham at elham@welkominutrecht.nu.
URL:https://welkominutrecht.nu/en/agenda-item/dancing-voor-vrouwen/2025-09-15/
CATEGORIES:Cultural,Games & Meeting
END:VEVENT
BEGIN:VEVENT
DTSTART;TZID=Europe/Amsterdam:20250916T080000
DTEND;TZID=Europe/Amsterdam:20250916T170000
DTSTAMP:20260425T151733
CREATED:20250630T111847Z
LAST-MODIFIED:20250630T112018Z
UID:10039257-1758009600-1758042000@welkominutrecht.nu
SUMMARY:Cinema
DESCRIPTION:Description\n\nEvery Tuesday\, refugees can go to the movies through Welkom in Utrecht at the Louis Hartlooper Complex\, Slachtstraat Filmtheater and Springhaver Theater. Every week there is a changing selection of films at different times. \n\nLocation\n\nLouis Hartlooper Complex | Tolsteegbrug 1 \n\nSpringhaver Theater | Springweg 50 \n\nSlachtstraat Filmtheater | Slachtstraat 5 \n\nTransport\n\nEveryone comes to the location themselves \n\nRegistration\n\nMore info and registration with Ricky at ricky@welkominutrecht.nu.
URL:https://welkominutrecht.nu/en/agenda-item/cinema-4/2025-09-16/
CATEGORIES:Cultural,Getting to know Utrecht
END:VEVENT
BEGIN:VEVENT
DTSTART;TZID=Europe/Amsterdam:20250917T033000
DTEND;TZID=Europe/Amsterdam:20250917T180000
DTSTAMP:20260425T151733
CREATED:20250618T084204Z
LAST-MODIFIED:20250618T084321Z
UID:10039521-1758079800-1758132000@welkominutrecht.nu
SUMMARY:Open walk-in HerculesHoek
DESCRIPTION:Description\n\nThe HerculesHoek is Welkom in Utrecht’s living room at the shelter for Ukrainians at Herculesplein. It is a meeting space between Ukrainians and local residents and we organize activities where everyone can participate. \n\nYou can come by during our open walk-in hours from Tuesday until Saturday between 1 o’clock and 6 o’clock. \n\nLocation\n\nDe HerculesHoek | Herculesplein 5-15 \n\nTransport\n\nEverybody goes to the location by themselves.  \n\nRegistration\n\nFeel free to come by!  \n\nDo you have a question about the HerculesHoek? Send an e-mail to herculeshoek@welkominutrecht.nu.
URL:https://welkominutrecht.nu/en/agenda-item/open-walk-in-herculeshoek-4/2025-09-17/
CATEGORIES:Cultural,Games & Meeting,Getting to know Utrecht
ATTACH;FMTTYPE=image/jpeg:https://welkominutrecht.nu/wp-content/uploads/2024/11/nathan-dumlao-6VhPY27jdps-unsplash-scaled.jpg
END:VEVENT
BEGIN:VEVENT
DTSTART;TZID=Europe/Amsterdam:20250917T143000
DTEND;TZID=Europe/Amsterdam:20250917T173000
DTSTAMP:20260425T151733
CREATED:20250618T132044Z
LAST-MODIFIED:20250618T132117Z
UID:10039064-1758119400-1758130200@welkominutrecht.nu
SUMMARY:Computer class Joseph Haydnlaan
DESCRIPTION:Description\n\nDo you want to learn basic skills for using a computer? Then this computer class is great for you. The lessons are given by Incluusion.  \n\nLocation\n\nAttic of Plan Einstein | Joseph Haydnlaan 2A \n\nTransport\n\nEveryone comes to the location themselves \n\nRegistration\n\nRegister with VluchtelingenWerk Plan Einstein\, via planeinstein@vluchtelingenwerk.nl.
URL:https://welkominutrecht.nu/en/agenda-item/computer-class-joseph-haydnlaan-3/2025-09-17/
CATEGORIES:Cultural
END:VEVENT
BEGIN:VEVENT
DTSTART;TZID=Europe/Amsterdam:20250918T033000
DTEND;TZID=Europe/Amsterdam:20250918T180000
DTSTAMP:20260425T151733
CREATED:20250618T084204Z
LAST-MODIFIED:20250618T084321Z
UID:10039522-1758166200-1758218400@welkominutrecht.nu
SUMMARY:Open walk-in HerculesHoek
DESCRIPTION:Description\n\nThe HerculesHoek is Welkom in Utrecht’s living room at the shelter for Ukrainians at Herculesplein. It is a meeting space between Ukrainians and local residents and we organize activities where everyone can participate. \n\nYou can come by during our open walk-in hours from Tuesday until Saturday between 1 o’clock and 6 o’clock. \n\nLocation\n\nDe HerculesHoek | Herculesplein 5-15 \n\nTransport\n\nEverybody goes to the location by themselves.  \n\nRegistration\n\nFeel free to come by!  \n\nDo you have a question about the HerculesHoek? Send an e-mail to herculeshoek@welkominutrecht.nu.
URL:https://welkominutrecht.nu/en/agenda-item/open-walk-in-herculeshoek-4/2025-09-18/
CATEGORIES:Cultural,Games & Meeting,Getting to know Utrecht
ATTACH;FMTTYPE=image/jpeg:https://welkominutrecht.nu/wp-content/uploads/2024/11/nathan-dumlao-6VhPY27jdps-unsplash-scaled.jpg
END:VEVENT
BEGIN:VEVENT
DTSTART;TZID=Europe/Amsterdam:20250919T033000
DTEND;TZID=Europe/Amsterdam:20250919T180000
DTSTAMP:20260425T151733
CREATED:20250618T084204Z
LAST-MODIFIED:20250618T084321Z
UID:10039523-1758252600-1758304800@welkominutrecht.nu
SUMMARY:Open walk-in HerculesHoek
DESCRIPTION:Description\n\nThe HerculesHoek is Welkom in Utrecht’s living room at the shelter for Ukrainians at Herculesplein. It is a meeting space between Ukrainians and local residents and we organize activities where everyone can participate. \n\nYou can come by during our open walk-in hours from Tuesday until Saturday between 1 o’clock and 6 o’clock. \n\nLocation\n\nDe HerculesHoek | Herculesplein 5-15 \n\nTransport\n\nEverybody goes to the location by themselves.  \n\nRegistration\n\nFeel free to come by!  \n\nDo you have a question about the HerculesHoek? Send an e-mail to herculeshoek@welkominutrecht.nu.
URL:https://welkominutrecht.nu/en/agenda-item/open-walk-in-herculeshoek-4/2025-09-19/
CATEGORIES:Cultural,Games & Meeting,Getting to know Utrecht
ATTACH;FMTTYPE=image/jpeg:https://welkominutrecht.nu/wp-content/uploads/2024/11/nathan-dumlao-6VhPY27jdps-unsplash-scaled.jpg
END:VEVENT
BEGIN:VEVENT
DTSTART;TZID=Europe/Amsterdam:20250919T150000
DTEND;TZID=Europe/Amsterdam:20250919T163000
DTSTAMP:20260425T151733
CREATED:20250618T115246Z
LAST-MODIFIED:20250618T115443Z
UID:10038582-1758294000-1758299400@welkominutrecht.nu
SUMMARY:Movie afternoon pahud
DESCRIPTION:Description\n\nJoin us on Friday afternoons in the Living Room of Pahud to watch a movie together with others!Fun for all ages! \n\nLocation\n\nLiving room of Plan Einstein Pahud | Pahud de Mortangesdreef 61 \n\nTransport\n\nEverybody goes to the location by themselves.  \n\nRegistration\n\nFeel welcome to walk in and watch with us! Registration is not needed. Would you like some more information? Please contact Iman at iman@welkominutrecht.nu.
URL:https://welkominutrecht.nu/en/agenda-item/movie-afternoon-pahud/2025-09-19/
CATEGORIES:Cultural,Kids & youth
ATTACH;FMTTYPE=image/jpeg:https://welkominutrecht.nu/wp-content/uploads/2025/03/georgia-vagim-ny-lHmsHYHk-unsplash-scaled.jpg
END:VEVENT
BEGIN:VEVENT
DTSTART;TZID=Europe/Amsterdam:20250919T190000
DTEND;TZID=Europe/Amsterdam:20250919T200000
DTSTAMP:20260425T151733
CREATED:20250618T115930Z
LAST-MODIFIED:20250618T120149Z
UID:10038621-1758308400-1758312000@welkominutrecht.nu
SUMMARY:Repetition choir Ptaha
DESCRIPTION:Description\n\nChoir Ptaha is a choir of Ukrainians and Dutch with Ukrainian and Dutch music. \n\nLocation\n\nHet Wilde Westen | Everard Meijsterlaan 1b \n\nTransport\n\nEverybody comes to the location by themselves. \n\nRegistration\n\nWould you like to sing along in the choir or do you want some more information about choir Ptaha? Please send an e-mail to hellen@welkominutrecht.nu.
URL:https://welkominutrecht.nu/en/agenda-item/repetition-choir-ptaha/2025-09-19/
CATEGORIES:Cultural,Music
ATTACH;FMTTYPE=image/jpeg:https://welkominutrecht.nu/wp-content/uploads/2024/07/cdd20-zlpST4Dkja8-unsplash-scaled-e1721133545117.jpg
END:VEVENT
END:VCALENDAR