BEGIN:VCALENDAR
VERSION:2.0
PRODID:-//Welkom in Utrecht | Verbindt vluchtelingen met Utrecht - ECPv6.15.18//NONSGML v1.0//EN
CALSCALE:GREGORIAN
METHOD:PUBLISH
X-ORIGINAL-URL:https://welkominutrecht.nu/en/
X-WR-CALDESC:Events for Welkom in Utrecht | Verbindt vluchtelingen met Utrecht
REFRESH-INTERVAL;VALUE=DURATION:PT1H
X-Robots-Tag:noindex
X-PUBLISHED-TTL:PT1H
BEGIN:VTIMEZONE
TZID:Europe/Amsterdam
BEGIN:DAYLIGHT
TZOFFSETFROM:+0100
TZOFFSETTO:+0200
TZNAME:CEST
DTSTART:20240331T010000
END:DAYLIGHT
BEGIN:STANDARD
TZOFFSETFROM:+0200
TZOFFSETTO:+0100
TZNAME:CET
DTSTART:20241027T010000
END:STANDARD
BEGIN:DAYLIGHT
TZOFFSETFROM:+0100
TZOFFSETTO:+0200
TZNAME:CEST
DTSTART:20250330T010000
END:DAYLIGHT
BEGIN:STANDARD
TZOFFSETFROM:+0200
TZOFFSETTO:+0100
TZNAME:CET
DTSTART:20251026T010000
END:STANDARD
BEGIN:DAYLIGHT
TZOFFSETFROM:+0100
TZOFFSETTO:+0200
TZNAME:CEST
DTSTART:20260329T010000
END:DAYLIGHT
BEGIN:STANDARD
TZOFFSETFROM:+0200
TZOFFSETTO:+0100
TZNAME:CET
DTSTART:20261025T010000
END:STANDARD
END:VTIMEZONE
BEGIN:VEVENT
DTSTART;TZID=Europe/Amsterdam:20251117T093000
DTEND;TZID=Europe/Amsterdam:20251117T163000
DTSTAMP:20260419T151646
CREATED:20250929T070533Z
LAST-MODIFIED:20250929T070621Z
UID:10039994-1763371800-1763397000@welkominutrecht.nu
SUMMARY:Walk in hours Living Room Pahud
DESCRIPTION:Description\n\nCome have a drink\, study or play a game in The Living Room of The Pahud. Meet new people there or meet up with those you already know. Sometimes you can participate in a workshop. Everyone is welcome! On Mondays between 11 a.m. and 1 p.m. for women only. \n\nLocation\n\nLiving room Plan Einstein Pahud | Pahud de Mortangesdreef 61 \n\nTransport\n\nEveryone can come by themselves \n\nRegistration\n\nNo need to sign up\, you can walk in anytime
URL:https://welkominutrecht.nu/en/agenda-item/walk-in-hours-living-room-pahud/2025-11-17/
CATEGORIES:Cooking & eating,Games & Meeting
END:VEVENT
BEGIN:VEVENT
DTSTART;TZID=Europe/Amsterdam:20251117T190000
DTEND;TZID=Europe/Amsterdam:20251117T203000
DTSTAMP:20260419T151646
CREATED:20250929T095542Z
LAST-MODIFIED:20250929T095626Z
UID:10041333-1763406000-1763411400@welkominutrecht.nu
SUMMARY:Happy Hap Pahud with Buurtmaaltijden
DESCRIPTION:Description\n\nEverybody is welcome to come and have dinner with azc residents and neighborhood residents on Monday nights at Pahud\, organized by Buurtmaaltijden.  \n\nLocation\n\nLiving room Plan Einstein Pahud | Pahud de Mortangesdreef 61 \n\nTransport\n\nEverybody goes to the location by themselves.  \n\nRegistration\n\nWould you like to join dinner of help out with preparing the meal\, please contact Iman at iman@welkominutrecht.nu.
URL:https://welkominutrecht.nu/en/agenda-item/happy-hap-pahud-with-buurtmaaltijden-6/2025-11-17/
CATEGORIES:Cooking & eating
END:VEVENT
BEGIN:VEVENT
DTSTART;TZID=Europe/Amsterdam:20251118T093000
DTEND;TZID=Europe/Amsterdam:20251118T163000
DTSTAMP:20260419T151646
CREATED:20250929T070533Z
LAST-MODIFIED:20250929T070621Z
UID:10039995-1763458200-1763483400@welkominutrecht.nu
SUMMARY:Walk in hours Living Room Pahud
DESCRIPTION:Description\n\nCome have a drink\, study or play a game in The Living Room of The Pahud. Meet new people there or meet up with those you already know. Sometimes you can participate in a workshop. Everyone is welcome! On Mondays between 11 a.m. and 1 p.m. for women only. \n\nLocation\n\nLiving room Plan Einstein Pahud | Pahud de Mortangesdreef 61 \n\nTransport\n\nEveryone can come by themselves \n\nRegistration\n\nNo need to sign up\, you can walk in anytime
URL:https://welkominutrecht.nu/en/agenda-item/walk-in-hours-living-room-pahud/2025-11-18/
CATEGORIES:Cooking & eating,Games & Meeting
END:VEVENT
BEGIN:VEVENT
DTSTART;TZID=Europe/Amsterdam:20251119T093000
DTEND;TZID=Europe/Amsterdam:20251119T163000
DTSTAMP:20260419T151646
CREATED:20250929T070533Z
LAST-MODIFIED:20250929T070621Z
UID:10039996-1763544600-1763569800@welkominutrecht.nu
SUMMARY:Walk in hours Living Room Pahud
DESCRIPTION:Description\n\nCome have a drink\, study or play a game in The Living Room of The Pahud. Meet new people there or meet up with those you already know. Sometimes you can participate in a workshop. Everyone is welcome! On Mondays between 11 a.m. and 1 p.m. for women only. \n\nLocation\n\nLiving room Plan Einstein Pahud | Pahud de Mortangesdreef 61 \n\nTransport\n\nEveryone can come by themselves \n\nRegistration\n\nNo need to sign up\, you can walk in anytime
URL:https://welkominutrecht.nu/en/agenda-item/walk-in-hours-living-room-pahud/2025-11-19/
CATEGORIES:Cooking & eating,Games & Meeting
END:VEVENT
BEGIN:VEVENT
DTSTART;TZID=Europe/Amsterdam:20251120T093000
DTEND;TZID=Europe/Amsterdam:20251120T163000
DTSTAMP:20260419T151646
CREATED:20250929T070533Z
LAST-MODIFIED:20250929T070621Z
UID:10039997-1763631000-1763656200@welkominutrecht.nu
SUMMARY:Walk in hours Living Room Pahud
DESCRIPTION:Description\n\nCome have a drink\, study or play a game in The Living Room of The Pahud. Meet new people there or meet up with those you already know. Sometimes you can participate in a workshop. Everyone is welcome! On Mondays between 11 a.m. and 1 p.m. for women only. \n\nLocation\n\nLiving room Plan Einstein Pahud | Pahud de Mortangesdreef 61 \n\nTransport\n\nEveryone can come by themselves \n\nRegistration\n\nNo need to sign up\, you can walk in anytime
URL:https://welkominutrecht.nu/en/agenda-item/walk-in-hours-living-room-pahud/2025-11-20/
CATEGORIES:Cooking & eating,Games & Meeting
END:VEVENT
BEGIN:VEVENT
DTSTART;TZID=Europe/Amsterdam:20251121T093000
DTEND;TZID=Europe/Amsterdam:20251121T163000
DTSTAMP:20260419T151646
CREATED:20250929T070533Z
LAST-MODIFIED:20250929T070621Z
UID:10039998-1763717400-1763742600@welkominutrecht.nu
SUMMARY:Walk in hours Living Room Pahud
DESCRIPTION:Description\n\nCome have a drink\, study or play a game in The Living Room of The Pahud. Meet new people there or meet up with those you already know. Sometimes you can participate in a workshop. Everyone is welcome! On Mondays between 11 a.m. and 1 p.m. for women only. \n\nLocation\n\nLiving room Plan Einstein Pahud | Pahud de Mortangesdreef 61 \n\nTransport\n\nEveryone can come by themselves \n\nRegistration\n\nNo need to sign up\, you can walk in anytime
URL:https://welkominutrecht.nu/en/agenda-item/walk-in-hours-living-room-pahud/2025-11-21/
CATEGORIES:Cooking & eating,Games & Meeting
END:VEVENT
END:VCALENDAR