BEGIN:VCALENDAR
VERSION:2.0
PRODID:-//Welkom in Utrecht | Verbindt vluchtelingen met Utrecht - ECPv6.15.18//NONSGML v1.0//EN
CALSCALE:GREGORIAN
METHOD:PUBLISH
X-WR-CALNAME:Welkom in Utrecht | Verbindt vluchtelingen met Utrecht
X-ORIGINAL-URL:https://welkominutrecht.nu/en/
X-WR-CALDESC:Events for Welkom in Utrecht | Verbindt vluchtelingen met Utrecht
REFRESH-INTERVAL;VALUE=DURATION:PT1H
X-Robots-Tag:noindex
X-PUBLISHED-TTL:PT1H
BEGIN:VTIMEZONE
TZID:Europe/Amsterdam
BEGIN:DAYLIGHT
TZOFFSETFROM:+0100
TZOFFSETTO:+0200
TZNAME:CEST
DTSTART:20240331T010000
END:DAYLIGHT
BEGIN:STANDARD
TZOFFSETFROM:+0200
TZOFFSETTO:+0100
TZNAME:CET
DTSTART:20241027T010000
END:STANDARD
BEGIN:DAYLIGHT
TZOFFSETFROM:+0100
TZOFFSETTO:+0200
TZNAME:CEST
DTSTART:20250330T010000
END:DAYLIGHT
BEGIN:STANDARD
TZOFFSETFROM:+0200
TZOFFSETTO:+0100
TZNAME:CET
DTSTART:20251026T010000
END:STANDARD
BEGIN:DAYLIGHT
TZOFFSETFROM:+0100
TZOFFSETTO:+0200
TZNAME:CEST
DTSTART:20260329T010000
END:DAYLIGHT
BEGIN:STANDARD
TZOFFSETFROM:+0200
TZOFFSETTO:+0100
TZNAME:CET
DTSTART:20261025T010000
END:STANDARD
END:VTIMEZONE
BEGIN:VEVENT
DTSTART;TZID=Europe/Amsterdam:20251013T093000
DTEND;TZID=Europe/Amsterdam:20251013T163000
DTSTAMP:20260420T000841
CREATED:20250929T070533Z
LAST-MODIFIED:20250929T070621Z
UID:10039969-1760347800-1760373000@welkominutrecht.nu
SUMMARY:Walk in hours Living Room Pahud
DESCRIPTION:Description\n\nCome have a drink\, study or play a game in The Living Room of The Pahud. Meet new people there or meet up with those you already know. Sometimes you can participate in a workshop. Everyone is welcome! On Mondays between 11 a.m. and 1 p.m. for women only. \n\nLocation\n\nLiving room Plan Einstein Pahud | Pahud de Mortangesdreef 61 \n\nTransport\n\nEveryone can come by themselves \n\nRegistration\n\nNo need to sign up\, you can walk in anytime
URL:https://welkominutrecht.nu/en/agenda-item/walk-in-hours-living-room-pahud/2025-10-13/
CATEGORIES:Cooking & eating,Games & Meeting
END:VEVENT
BEGIN:VEVENT
DTSTART;TZID=Europe/Amsterdam:20251013T190000
DTEND;TZID=Europe/Amsterdam:20251013T203000
DTSTAMP:20260420T000841
CREATED:20250929T095542Z
LAST-MODIFIED:20250929T095626Z
UID:10041328-1760382000-1760387400@welkominutrecht.nu
SUMMARY:Happy Hap Pahud with Buurtmaaltijden
DESCRIPTION:Description\n\nEverybody is welcome to come and have dinner with azc residents and neighborhood residents on Monday nights at Pahud\, organized by Buurtmaaltijden.  \n\nLocation\n\nLiving room Plan Einstein Pahud | Pahud de Mortangesdreef 61 \n\nTransport\n\nEverybody goes to the location by themselves.  \n\nRegistration\n\nWould you like to join dinner of help out with preparing the meal\, please contact Iman at iman@welkominutrecht.nu.
URL:https://welkominutrecht.nu/en/agenda-item/happy-hap-pahud-with-buurtmaaltijden-6/2025-10-13/
CATEGORIES:Cooking & eating
END:VEVENT
BEGIN:VEVENT
DTSTART;TZID=Europe/Amsterdam:20251014T093000
DTEND;TZID=Europe/Amsterdam:20251014T163000
DTSTAMP:20260420T000841
CREATED:20250929T070533Z
LAST-MODIFIED:20250929T070621Z
UID:10039970-1760434200-1760459400@welkominutrecht.nu
SUMMARY:Walk in hours Living Room Pahud
DESCRIPTION:Description\n\nCome have a drink\, study or play a game in The Living Room of The Pahud. Meet new people there or meet up with those you already know. Sometimes you can participate in a workshop. Everyone is welcome! On Mondays between 11 a.m. and 1 p.m. for women only. \n\nLocation\n\nLiving room Plan Einstein Pahud | Pahud de Mortangesdreef 61 \n\nTransport\n\nEveryone can come by themselves \n\nRegistration\n\nNo need to sign up\, you can walk in anytime
URL:https://welkominutrecht.nu/en/agenda-item/walk-in-hours-living-room-pahud/2025-10-14/
CATEGORIES:Cooking & eating,Games & Meeting
END:VEVENT
BEGIN:VEVENT
DTSTART;TZID=Europe/Amsterdam:20251015T093000
DTEND;TZID=Europe/Amsterdam:20251015T163000
DTSTAMP:20260420T000841
CREATED:20250929T070533Z
LAST-MODIFIED:20250929T070621Z
UID:10039971-1760520600-1760545800@welkominutrecht.nu
SUMMARY:Walk in hours Living Room Pahud
DESCRIPTION:Description\n\nCome have a drink\, study or play a game in The Living Room of The Pahud. Meet new people there or meet up with those you already know. Sometimes you can participate in a workshop. Everyone is welcome! On Mondays between 11 a.m. and 1 p.m. for women only. \n\nLocation\n\nLiving room Plan Einstein Pahud | Pahud de Mortangesdreef 61 \n\nTransport\n\nEveryone can come by themselves \n\nRegistration\n\nNo need to sign up\, you can walk in anytime
URL:https://welkominutrecht.nu/en/agenda-item/walk-in-hours-living-room-pahud/2025-10-15/
CATEGORIES:Cooking & eating,Games & Meeting
END:VEVENT
BEGIN:VEVENT
DTSTART;TZID=Europe/Amsterdam:20251016T093000
DTEND;TZID=Europe/Amsterdam:20251016T163000
DTSTAMP:20260420T000841
CREATED:20250929T070533Z
LAST-MODIFIED:20250929T070621Z
UID:10039972-1760607000-1760632200@welkominutrecht.nu
SUMMARY:Walk in hours Living Room Pahud
DESCRIPTION:Description\n\nCome have a drink\, study or play a game in The Living Room of The Pahud. Meet new people there or meet up with those you already know. Sometimes you can participate in a workshop. Everyone is welcome! On Mondays between 11 a.m. and 1 p.m. for women only. \n\nLocation\n\nLiving room Plan Einstein Pahud | Pahud de Mortangesdreef 61 \n\nTransport\n\nEveryone can come by themselves \n\nRegistration\n\nNo need to sign up\, you can walk in anytime
URL:https://welkominutrecht.nu/en/agenda-item/walk-in-hours-living-room-pahud/2025-10-16/
CATEGORIES:Cooking & eating,Games & Meeting
END:VEVENT
BEGIN:VEVENT
DTSTART;TZID=Europe/Amsterdam:20251017T093000
DTEND;TZID=Europe/Amsterdam:20251017T163000
DTSTAMP:20260420T000841
CREATED:20250929T070533Z
LAST-MODIFIED:20250929T070621Z
UID:10039973-1760693400-1760718600@welkominutrecht.nu
SUMMARY:Walk in hours Living Room Pahud
DESCRIPTION:Description\n\nCome have a drink\, study or play a game in The Living Room of The Pahud. Meet new people there or meet up with those you already know. Sometimes you can participate in a workshop. Everyone is welcome! On Mondays between 11 a.m. and 1 p.m. for women only. \n\nLocation\n\nLiving room Plan Einstein Pahud | Pahud de Mortangesdreef 61 \n\nTransport\n\nEveryone can come by themselves \n\nRegistration\n\nNo need to sign up\, you can walk in anytime
URL:https://welkominutrecht.nu/en/agenda-item/walk-in-hours-living-room-pahud/2025-10-17/
CATEGORIES:Cooking & eating,Games & Meeting
END:VEVENT
END:VCALENDAR