BEGIN:VCALENDAR
VERSION:2.0
PRODID:-//Welkom in Utrecht | Verbindt vluchtelingen met Utrecht - ECPv6.15.18//NONSGML v1.0//EN
CALSCALE:GREGORIAN
METHOD:PUBLISH
X-WR-CALNAME:Welkom in Utrecht | Verbindt vluchtelingen met Utrecht
X-ORIGINAL-URL:https://welkominutrecht.nu/en/
X-WR-CALDESC:Events for Welkom in Utrecht | Verbindt vluchtelingen met Utrecht
REFRESH-INTERVAL;VALUE=DURATION:PT1H
X-Robots-Tag:noindex
X-PUBLISHED-TTL:PT1H
BEGIN:VTIMEZONE
TZID:Europe/Amsterdam
BEGIN:DAYLIGHT
TZOFFSETFROM:+0100
TZOFFSETTO:+0200
TZNAME:CEST
DTSTART:20240331T010000
END:DAYLIGHT
BEGIN:STANDARD
TZOFFSETFROM:+0200
TZOFFSETTO:+0100
TZNAME:CET
DTSTART:20241027T010000
END:STANDARD
BEGIN:DAYLIGHT
TZOFFSETFROM:+0100
TZOFFSETTO:+0200
TZNAME:CEST
DTSTART:20250330T010000
END:DAYLIGHT
BEGIN:STANDARD
TZOFFSETFROM:+0200
TZOFFSETTO:+0100
TZNAME:CET
DTSTART:20251026T010000
END:STANDARD
BEGIN:DAYLIGHT
TZOFFSETFROM:+0100
TZOFFSETTO:+0200
TZNAME:CEST
DTSTART:20260329T010000
END:DAYLIGHT
BEGIN:STANDARD
TZOFFSETFROM:+0200
TZOFFSETTO:+0100
TZNAME:CET
DTSTART:20261025T010000
END:STANDARD
END:VTIMEZONE
BEGIN:VEVENT
DTSTART;TZID=Europe/Amsterdam:20250929T093000
DTEND;TZID=Europe/Amsterdam:20250929T163000
DTSTAMP:20260420T033320
CREATED:20250618T081218Z
LAST-MODIFIED:20250618T081316Z
UID:10037400-1759138200-1759163400@welkominutrecht.nu
SUMMARY:Open walk-in Living Room Pahud
DESCRIPTION:Description\n\nCome have a drink\, study or play a game in The Living Room of The Pahud. Meet new people there or meet up with those you already know. Sometimes you can participate in a workshop. Everyone is welcome! On Mondays between 11 a.m. and 1 p.m. for women only. \n\nLocation\n\nLiving room Plan Einstein Pahud | Pahud de Mortangesdreef 61 \n\nTransport\n\nEverybody can walk in \n\nRegistration\n\nNo need to sign up\, you can walk in anytime
URL:https://welkominutrecht.nu/en/agenda-item/open-walk-in-living-room-pahud-4/2025-09-29/
CATEGORIES:Cooking & eating,Games & Meeting
END:VEVENT
BEGIN:VEVENT
DTSTART;TZID=Europe/Amsterdam:20250929T190000
DTEND;TZID=Europe/Amsterdam:20250929T203000
DTSTAMP:20260420T033320
CREATED:20250618T130711Z
LAST-MODIFIED:20250618T130808Z
UID:10038903-1759172400-1759177800@welkominutrecht.nu
SUMMARY:Happy Hap Pahud with Buurtmaaltijden
DESCRIPTION:Description\n\nEverybody is welcome to come and have dinner with azc residents and neighborhood residents on Monday nights at Pahud\, organized by Buurtmaaltijden.  \n\nLocation\n\nLiving room Plan Einstein Pahud | Pahud de Mortangesdreef 61 \n\nTransport\n\nEverybody goes to the location by themselves.  \n\nRegistration\n\nWould you like to join dinner of help out with preparing the meal\, please contact Iman at iman@welkominutrecht.nu.
URL:https://welkominutrecht.nu/en/agenda-item/happy-hap-pahud-with-buurtmaaltijden-5/2025-09-29/
CATEGORIES:Cooking & eating
END:VEVENT
BEGIN:VEVENT
DTSTART;TZID=Europe/Amsterdam:20250930T093000
DTEND;TZID=Europe/Amsterdam:20250930T163000
DTSTAMP:20260420T033320
CREATED:20250618T081218Z
LAST-MODIFIED:20250618T081316Z
UID:10037401-1759224600-1759249800@welkominutrecht.nu
SUMMARY:Open walk-in Living Room Pahud
DESCRIPTION:Description\n\nCome have a drink\, study or play a game in The Living Room of The Pahud. Meet new people there or meet up with those you already know. Sometimes you can participate in a workshop. Everyone is welcome! On Mondays between 11 a.m. and 1 p.m. for women only. \n\nLocation\n\nLiving room Plan Einstein Pahud | Pahud de Mortangesdreef 61 \n\nTransport\n\nEverybody can walk in \n\nRegistration\n\nNo need to sign up\, you can walk in anytime
URL:https://welkominutrecht.nu/en/agenda-item/open-walk-in-living-room-pahud-4/2025-09-30/
CATEGORIES:Cooking & eating,Games & Meeting
END:VEVENT
BEGIN:VEVENT
DTSTART;TZID=Europe/Amsterdam:20251001T093000
DTEND;TZID=Europe/Amsterdam:20251001T163000
DTSTAMP:20260420T033320
CREATED:20250929T070533Z
LAST-MODIFIED:20250929T070621Z
UID:10039961-1759311000-1759336200@welkominutrecht.nu
SUMMARY:Walk in hours Living Room Pahud
DESCRIPTION:Description\n\nCome have a drink\, study or play a game in The Living Room of The Pahud. Meet new people there or meet up with those you already know. Sometimes you can participate in a workshop. Everyone is welcome! On Mondays between 11 a.m. and 1 p.m. for women only. \n\nLocation\n\nLiving room Plan Einstein Pahud | Pahud de Mortangesdreef 61 \n\nTransport\n\nEveryone can come by themselves \n\nRegistration\n\nNo need to sign up\, you can walk in anytime
URL:https://welkominutrecht.nu/en/agenda-item/walk-in-hours-living-room-pahud/2025-10-01/
CATEGORIES:Cooking & eating,Games & Meeting
END:VEVENT
BEGIN:VEVENT
DTSTART;TZID=Europe/Amsterdam:20251002T093000
DTEND;TZID=Europe/Amsterdam:20251002T163000
DTSTAMP:20260420T033320
CREATED:20250929T070533Z
LAST-MODIFIED:20250929T070621Z
UID:10039962-1759397400-1759422600@welkominutrecht.nu
SUMMARY:Walk in hours Living Room Pahud
DESCRIPTION:Description\n\nCome have a drink\, study or play a game in The Living Room of The Pahud. Meet new people there or meet up with those you already know. Sometimes you can participate in a workshop. Everyone is welcome! On Mondays between 11 a.m. and 1 p.m. for women only. \n\nLocation\n\nLiving room Plan Einstein Pahud | Pahud de Mortangesdreef 61 \n\nTransport\n\nEveryone can come by themselves \n\nRegistration\n\nNo need to sign up\, you can walk in anytime
URL:https://welkominutrecht.nu/en/agenda-item/walk-in-hours-living-room-pahud/2025-10-02/
CATEGORIES:Cooking & eating,Games & Meeting
END:VEVENT
BEGIN:VEVENT
DTSTART;TZID=Europe/Amsterdam:20251002T180000
DTEND;TZID=Europe/Amsterdam:20251002T203000
DTSTAMP:20260420T033320
CREATED:20250929T075850Z
LAST-MODIFIED:20250929T075928Z
UID:10040596-1759428000-1759437000@welkominutrecht.nu
SUMMARY:Meet-up night with Mijn Wijk Jouw Wijk
DESCRIPTION:Description\n\nMijn Wijk Jouw Wijk organizes a meet-up night every first Thursday of the month from 6 p.m. – 8:30 p.m. in the neighborhood restaurant A Beautiful Mess on the azc at Joseph Haydnlaan 2. About 30 neighborhood residents and 30 asylum seekers attend. Each time there is a different theme and we cook and eat together. The local residents pay for the azc residents. \n\nLocation\n\nRestaurant A Beautiful Mess | Joseph Haydnlaan 2\, Utrecht \n\nTransport\n\nEverybody goes to the location by themselves.  \n\nRegistration\n\nWould you like to join? You can register by sending an e-mail to mijnwijkjouwwijk@gmail.com.
URL:https://welkominutrecht.nu/en/agenda-item/meet-up-night-with-mijn-wijk-jouw-wijk/2025-10-02/
CATEGORIES:Cooking & eating,Games & Meeting,Getting to know Utrecht
END:VEVENT
BEGIN:VEVENT
DTSTART;TZID=Europe/Amsterdam:20251003T093000
DTEND;TZID=Europe/Amsterdam:20251003T163000
DTSTAMP:20260420T033320
CREATED:20250929T070533Z
LAST-MODIFIED:20250929T070621Z
UID:10039963-1759483800-1759509000@welkominutrecht.nu
SUMMARY:Walk in hours Living Room Pahud
DESCRIPTION:Description\n\nCome have a drink\, study or play a game in The Living Room of The Pahud. Meet new people there or meet up with those you already know. Sometimes you can participate in a workshop. Everyone is welcome! On Mondays between 11 a.m. and 1 p.m. for women only. \n\nLocation\n\nLiving room Plan Einstein Pahud | Pahud de Mortangesdreef 61 \n\nTransport\n\nEveryone can come by themselves \n\nRegistration\n\nNo need to sign up\, you can walk in anytime
URL:https://welkominutrecht.nu/en/agenda-item/walk-in-hours-living-room-pahud/2025-10-03/
CATEGORIES:Cooking & eating,Games & Meeting
END:VEVENT
END:VCALENDAR