BEGIN:VCALENDAR
VERSION:2.0
PRODID:-//Welkom in Utrecht | Verbindt vluchtelingen met Utrecht - ECPv6.15.18//NONSGML v1.0//EN
CALSCALE:GREGORIAN
METHOD:PUBLISH
X-WR-CALNAME:Welkom in Utrecht | Verbindt vluchtelingen met Utrecht
X-ORIGINAL-URL:https://welkominutrecht.nu/en/
X-WR-CALDESC:Events for Welkom in Utrecht | Verbindt vluchtelingen met Utrecht
REFRESH-INTERVAL;VALUE=DURATION:PT1H
X-Robots-Tag:noindex
X-PUBLISHED-TTL:PT1H
BEGIN:VTIMEZONE
TZID:Europe/Amsterdam
BEGIN:DAYLIGHT
TZOFFSETFROM:+0100
TZOFFSETTO:+0200
TZNAME:CEST
DTSTART:20230326T010000
END:DAYLIGHT
BEGIN:STANDARD
TZOFFSETFROM:+0200
TZOFFSETTO:+0100
TZNAME:CET
DTSTART:20231029T010000
END:STANDARD
BEGIN:DAYLIGHT
TZOFFSETFROM:+0100
TZOFFSETTO:+0200
TZNAME:CEST
DTSTART:20240331T010000
END:DAYLIGHT
BEGIN:STANDARD
TZOFFSETFROM:+0200
TZOFFSETTO:+0100
TZNAME:CET
DTSTART:20241027T010000
END:STANDARD
BEGIN:DAYLIGHT
TZOFFSETFROM:+0100
TZOFFSETTO:+0200
TZNAME:CEST
DTSTART:20250330T010000
END:DAYLIGHT
BEGIN:STANDARD
TZOFFSETFROM:+0200
TZOFFSETTO:+0100
TZNAME:CET
DTSTART:20251026T010000
END:STANDARD
END:VTIMEZONE
BEGIN:VEVENT
DTSTART;TZID=Europe/Amsterdam:20241022T100000
DTEND;TZID=Europe/Amsterdam:20241022T160000
DTSTAMP:20260420T231630
CREATED:20240927T070023Z
LAST-MODIFIED:20240927T070142Z
UID:10027348-1729591200-1729612800@welkominutrecht.nu
SUMMARY:Open walk-in Living Room Pahud
DESCRIPTION:Description\n\nCome have a drink\, study or play a game in The Living Room of The Pahud. Meet new people there or meet up with those you already know. Sometimes you can participate in a workshop. Everyone is welcome! On Mondays between 11 a.m. and 1 p.m. for women only. \n\nLocation\n\nLiving Room Plan Einstein Pahud | Pahud de Mortangesdreef 61 \n\nTransport\n\nEveryone can come by themselves \n\nRegistration\n\nNo need to sign up\, you can walk in anytime
URL:https://welkominutrecht.nu/en/agenda-item/open-walk-in-living-room-pahud/2024-10-22/
CATEGORIES:Cooking & eating,Games & Meeting
END:VEVENT
BEGIN:VEVENT
DTSTART;TZID=Europe/Amsterdam:20241021T190000
DTEND;TZID=Europe/Amsterdam:20241021T203000
DTSTAMP:20260420T231630
CREATED:20240924T140817Z
LAST-MODIFIED:20240924T140939Z
UID:10027085-1729537200-1729542600@welkominutrecht.nu
SUMMARY:Happy Hap Pahud with Buurtmaaltijden
DESCRIPTION:Description\n\nEverybody is welcome to come and have dinner with azc residents and neighborhood residents on Monday nights at Pahud\, organized by Buurtmaaltijden.  \n\nLocation\n\nLiving Room at Plan Einstein Pahud | Pahud de Mortangesdreef 61 \n\nTransport\n\nGo the the location by yourself  \n\nRegistration\n\nWould you like to help cooking or would you like to join dinner? Contact Iman at 0653618681 or iman@welkominutrecht.nu.
URL:https://welkominutrecht.nu/en/agenda-item/happy-hap-pahud-with-buurtmaaltijden-2/2024-10-21/
CATEGORIES:Cooking & eating
END:VEVENT
BEGIN:VEVENT
DTSTART;TZID=Europe/Amsterdam:20241021T100000
DTEND;TZID=Europe/Amsterdam:20241021T160000
DTSTAMP:20260420T231630
CREATED:20240927T070023Z
LAST-MODIFIED:20240927T070142Z
UID:10027347-1729504800-1729526400@welkominutrecht.nu
SUMMARY:Open walk-in Living Room Pahud
DESCRIPTION:Description\n\nCome have a drink\, study or play a game in The Living Room of The Pahud. Meet new people there or meet up with those you already know. Sometimes you can participate in a workshop. Everyone is welcome! On Mondays between 11 a.m. and 1 p.m. for women only. \n\nLocation\n\nLiving Room Plan Einstein Pahud | Pahud de Mortangesdreef 61 \n\nTransport\n\nEveryone can come by themselves \n\nRegistration\n\nNo need to sign up\, you can walk in anytime
URL:https://welkominutrecht.nu/en/agenda-item/open-walk-in-living-room-pahud/2024-10-21/
CATEGORIES:Cooking & eating,Games & Meeting
END:VEVENT
BEGIN:VEVENT
DTSTART;TZID=Europe/Amsterdam:20241018T100000
DTEND;TZID=Europe/Amsterdam:20241018T160000
DTSTAMP:20260420T231630
CREATED:20240927T070023Z
LAST-MODIFIED:20240927T070142Z
UID:10027346-1729245600-1729267200@welkominutrecht.nu
SUMMARY:Open walk-in Living Room Pahud
DESCRIPTION:Description\n\nCome have a drink\, study or play a game in The Living Room of The Pahud. Meet new people there or meet up with those you already know. Sometimes you can participate in a workshop. Everyone is welcome! On Mondays between 11 a.m. and 1 p.m. for women only. \n\nLocation\n\nLiving Room Plan Einstein Pahud | Pahud de Mortangesdreef 61 \n\nTransport\n\nEveryone can come by themselves \n\nRegistration\n\nNo need to sign up\, you can walk in anytime
URL:https://welkominutrecht.nu/en/agenda-item/open-walk-in-living-room-pahud/2024-10-18/
CATEGORIES:Cooking & eating,Games & Meeting
END:VEVENT
BEGIN:VEVENT
DTSTART;TZID=Europe/Amsterdam:20241017T100000
DTEND;TZID=Europe/Amsterdam:20241017T160000
DTSTAMP:20260420T231630
CREATED:20240927T070023Z
LAST-MODIFIED:20240927T070142Z
UID:10027345-1729159200-1729180800@welkominutrecht.nu
SUMMARY:Open walk-in Living Room Pahud
DESCRIPTION:Description\n\nCome have a drink\, study or play a game in The Living Room of The Pahud. Meet new people there or meet up with those you already know. Sometimes you can participate in a workshop. Everyone is welcome! On Mondays between 11 a.m. and 1 p.m. for women only. \n\nLocation\n\nLiving Room Plan Einstein Pahud | Pahud de Mortangesdreef 61 \n\nTransport\n\nEveryone can come by themselves \n\nRegistration\n\nNo need to sign up\, you can walk in anytime
URL:https://welkominutrecht.nu/en/agenda-item/open-walk-in-living-room-pahud/2024-10-17/
CATEGORIES:Cooking & eating,Games & Meeting
END:VEVENT
BEGIN:VEVENT
DTSTART;TZID=Europe/Amsterdam:20241016T100000
DTEND;TZID=Europe/Amsterdam:20241016T160000
DTSTAMP:20260420T231630
CREATED:20240927T070023Z
LAST-MODIFIED:20240927T070142Z
UID:10027344-1729072800-1729094400@welkominutrecht.nu
SUMMARY:Open walk-in Living Room Pahud
DESCRIPTION:Description\n\nCome have a drink\, study or play a game in The Living Room of The Pahud. Meet new people there or meet up with those you already know. Sometimes you can participate in a workshop. Everyone is welcome! On Mondays between 11 a.m. and 1 p.m. for women only. \n\nLocation\n\nLiving Room Plan Einstein Pahud | Pahud de Mortangesdreef 61 \n\nTransport\n\nEveryone can come by themselves \n\nRegistration\n\nNo need to sign up\, you can walk in anytime
URL:https://welkominutrecht.nu/en/agenda-item/open-walk-in-living-room-pahud/2024-10-16/
CATEGORIES:Cooking & eating,Games & Meeting
END:VEVENT
BEGIN:VEVENT
DTSTART;TZID=Europe/Amsterdam:20241015T100000
DTEND;TZID=Europe/Amsterdam:20241015T160000
DTSTAMP:20260420T231630
CREATED:20240927T070023Z
LAST-MODIFIED:20240927T070142Z
UID:10027343-1728986400-1729008000@welkominutrecht.nu
SUMMARY:Open walk-in Living Room Pahud
DESCRIPTION:Description\n\nCome have a drink\, study or play a game in The Living Room of The Pahud. Meet new people there or meet up with those you already know. Sometimes you can participate in a workshop. Everyone is welcome! On Mondays between 11 a.m. and 1 p.m. for women only. \n\nLocation\n\nLiving Room Plan Einstein Pahud | Pahud de Mortangesdreef 61 \n\nTransport\n\nEveryone can come by themselves \n\nRegistration\n\nNo need to sign up\, you can walk in anytime
URL:https://welkominutrecht.nu/en/agenda-item/open-walk-in-living-room-pahud/2024-10-15/
CATEGORIES:Cooking & eating,Games & Meeting
END:VEVENT
BEGIN:VEVENT
DTSTART;TZID=Europe/Amsterdam:20241014T190000
DTEND;TZID=Europe/Amsterdam:20241014T203000
DTSTAMP:20260420T231630
CREATED:20240924T140817Z
LAST-MODIFIED:20240924T140939Z
UID:10027084-1728932400-1728937800@welkominutrecht.nu
SUMMARY:Happy Hap Pahud with Buurtmaaltijden
DESCRIPTION:Description\n\nEverybody is welcome to come and have dinner with azc residents and neighborhood residents on Monday nights at Pahud\, organized by Buurtmaaltijden.  \n\nLocation\n\nLiving Room at Plan Einstein Pahud | Pahud de Mortangesdreef 61 \n\nTransport\n\nGo the the location by yourself  \n\nRegistration\n\nWould you like to help cooking or would you like to join dinner? Contact Iman at 0653618681 or iman@welkominutrecht.nu.
URL:https://welkominutrecht.nu/en/agenda-item/happy-hap-pahud-with-buurtmaaltijden-2/2024-10-14/
CATEGORIES:Cooking & eating
END:VEVENT
BEGIN:VEVENT
DTSTART;TZID=Europe/Amsterdam:20241014T100000
DTEND;TZID=Europe/Amsterdam:20241014T160000
DTSTAMP:20260420T231630
CREATED:20240927T070023Z
LAST-MODIFIED:20240927T070142Z
UID:10027342-1728900000-1728921600@welkominutrecht.nu
SUMMARY:Open walk-in Living Room Pahud
DESCRIPTION:Description\n\nCome have a drink\, study or play a game in The Living Room of The Pahud. Meet new people there or meet up with those you already know. Sometimes you can participate in a workshop. Everyone is welcome! On Mondays between 11 a.m. and 1 p.m. for women only. \n\nLocation\n\nLiving Room Plan Einstein Pahud | Pahud de Mortangesdreef 61 \n\nTransport\n\nEveryone can come by themselves \n\nRegistration\n\nNo need to sign up\, you can walk in anytime
URL:https://welkominutrecht.nu/en/agenda-item/open-walk-in-living-room-pahud/2024-10-14/
CATEGORIES:Cooking & eating,Games & Meeting
END:VEVENT
BEGIN:VEVENT
DTSTART;TZID=Europe/Amsterdam:20241011T100000
DTEND;TZID=Europe/Amsterdam:20241011T160000
DTSTAMP:20260420T231630
CREATED:20240927T070023Z
LAST-MODIFIED:20240927T070142Z
UID:10027341-1728640800-1728662400@welkominutrecht.nu
SUMMARY:Open walk-in Living Room Pahud
DESCRIPTION:Description\n\nCome have a drink\, study or play a game in The Living Room of The Pahud. Meet new people there or meet up with those you already know. Sometimes you can participate in a workshop. Everyone is welcome! On Mondays between 11 a.m. and 1 p.m. for women only. \n\nLocation\n\nLiving Room Plan Einstein Pahud | Pahud de Mortangesdreef 61 \n\nTransport\n\nEveryone can come by themselves \n\nRegistration\n\nNo need to sign up\, you can walk in anytime
URL:https://welkominutrecht.nu/en/agenda-item/open-walk-in-living-room-pahud/2024-10-11/
CATEGORIES:Cooking & eating,Games & Meeting
END:VEVENT
BEGIN:VEVENT
DTSTART;TZID=Europe/Amsterdam:20241010T100000
DTEND;TZID=Europe/Amsterdam:20241010T160000
DTSTAMP:20260420T231630
CREATED:20240927T070023Z
LAST-MODIFIED:20240927T070142Z
UID:10027340-1728554400-1728576000@welkominutrecht.nu
SUMMARY:Open walk-in Living Room Pahud
DESCRIPTION:Description\n\nCome have a drink\, study or play a game in The Living Room of The Pahud. Meet new people there or meet up with those you already know. Sometimes you can participate in a workshop. Everyone is welcome! On Mondays between 11 a.m. and 1 p.m. for women only. \n\nLocation\n\nLiving Room Plan Einstein Pahud | Pahud de Mortangesdreef 61 \n\nTransport\n\nEveryone can come by themselves \n\nRegistration\n\nNo need to sign up\, you can walk in anytime
URL:https://welkominutrecht.nu/en/agenda-item/open-walk-in-living-room-pahud/2024-10-10/
CATEGORIES:Cooking & eating,Games & Meeting
END:VEVENT
BEGIN:VEVENT
DTSTART;TZID=Europe/Amsterdam:20241009T100000
DTEND;TZID=Europe/Amsterdam:20241009T160000
DTSTAMP:20260420T231630
CREATED:20240927T070023Z
LAST-MODIFIED:20240927T070142Z
UID:10027339-1728468000-1728489600@welkominutrecht.nu
SUMMARY:Open walk-in Living Room Pahud
DESCRIPTION:Description\n\nCome have a drink\, study or play a game in The Living Room of The Pahud. Meet new people there or meet up with those you already know. Sometimes you can participate in a workshop. Everyone is welcome! On Mondays between 11 a.m. and 1 p.m. for women only. \n\nLocation\n\nLiving Room Plan Einstein Pahud | Pahud de Mortangesdreef 61 \n\nTransport\n\nEveryone can come by themselves \n\nRegistration\n\nNo need to sign up\, you can walk in anytime
URL:https://welkominutrecht.nu/en/agenda-item/open-walk-in-living-room-pahud/2024-10-09/
CATEGORIES:Cooking & eating,Games & Meeting
END:VEVENT
BEGIN:VEVENT
DTSTART;TZID=Europe/Amsterdam:20241008T100000
DTEND;TZID=Europe/Amsterdam:20241008T160000
DTSTAMP:20260420T231630
CREATED:20240927T070023Z
LAST-MODIFIED:20240927T070142Z
UID:10027338-1728381600-1728403200@welkominutrecht.nu
SUMMARY:Open walk-in Living Room Pahud
DESCRIPTION:Description\n\nCome have a drink\, study or play a game in The Living Room of The Pahud. Meet new people there or meet up with those you already know. Sometimes you can participate in a workshop. Everyone is welcome! On Mondays between 11 a.m. and 1 p.m. for women only. \n\nLocation\n\nLiving Room Plan Einstein Pahud | Pahud de Mortangesdreef 61 \n\nTransport\n\nEveryone can come by themselves \n\nRegistration\n\nNo need to sign up\, you can walk in anytime
URL:https://welkominutrecht.nu/en/agenda-item/open-walk-in-living-room-pahud/2024-10-08/
CATEGORIES:Cooking & eating,Games & Meeting
END:VEVENT
BEGIN:VEVENT
DTSTART;TZID=Europe/Amsterdam:20241007T190000
DTEND;TZID=Europe/Amsterdam:20241007T203000
DTSTAMP:20260420T231630
CREATED:20240924T140817Z
LAST-MODIFIED:20240924T140939Z
UID:10027083-1728327600-1728333000@welkominutrecht.nu
SUMMARY:Happy Hap Pahud with Buurtmaaltijden
DESCRIPTION:Description\n\nEverybody is welcome to come and have dinner with azc residents and neighborhood residents on Monday nights at Pahud\, organized by Buurtmaaltijden.  \n\nLocation\n\nLiving Room at Plan Einstein Pahud | Pahud de Mortangesdreef 61 \n\nTransport\n\nGo the the location by yourself  \n\nRegistration\n\nWould you like to help cooking or would you like to join dinner? Contact Iman at 0653618681 or iman@welkominutrecht.nu.
URL:https://welkominutrecht.nu/en/agenda-item/happy-hap-pahud-with-buurtmaaltijden-2/2024-10-07/
CATEGORIES:Cooking & eating
END:VEVENT
BEGIN:VEVENT
DTSTART;TZID=Europe/Amsterdam:20241007T100000
DTEND;TZID=Europe/Amsterdam:20241007T160000
DTSTAMP:20260420T231630
CREATED:20240927T070023Z
LAST-MODIFIED:20240927T070142Z
UID:10027337-1728295200-1728316800@welkominutrecht.nu
SUMMARY:Open walk-in Living Room Pahud
DESCRIPTION:Description\n\nCome have a drink\, study or play a game in The Living Room of The Pahud. Meet new people there or meet up with those you already know. Sometimes you can participate in a workshop. Everyone is welcome! On Mondays between 11 a.m. and 1 p.m. for women only. \n\nLocation\n\nLiving Room Plan Einstein Pahud | Pahud de Mortangesdreef 61 \n\nTransport\n\nEveryone can come by themselves \n\nRegistration\n\nNo need to sign up\, you can walk in anytime
URL:https://welkominutrecht.nu/en/agenda-item/open-walk-in-living-room-pahud/2024-10-07/
CATEGORIES:Cooking & eating,Games & Meeting
END:VEVENT
BEGIN:VEVENT
DTSTART;TZID=Europe/Amsterdam:20241004T100000
DTEND;TZID=Europe/Amsterdam:20241004T160000
DTSTAMP:20260420T231630
CREATED:20240927T070023Z
LAST-MODIFIED:20240927T070142Z
UID:10027336-1728036000-1728057600@welkominutrecht.nu
SUMMARY:Open walk-in Living Room Pahud
DESCRIPTION:Description\n\nCome have a drink\, study or play a game in The Living Room of The Pahud. Meet new people there or meet up with those you already know. Sometimes you can participate in a workshop. Everyone is welcome! On Mondays between 11 a.m. and 1 p.m. for women only. \n\nLocation\n\nLiving Room Plan Einstein Pahud | Pahud de Mortangesdreef 61 \n\nTransport\n\nEveryone can come by themselves \n\nRegistration\n\nNo need to sign up\, you can walk in anytime
URL:https://welkominutrecht.nu/en/agenda-item/open-walk-in-living-room-pahud/2024-10-04/
CATEGORIES:Cooking & eating,Games & Meeting
END:VEVENT
BEGIN:VEVENT
DTSTART;TZID=Europe/Amsterdam:20241003T180000
DTEND;TZID=Europe/Amsterdam:20241003T203000
DTSTAMP:20260420T231630
CREATED:20240930T134112Z
LAST-MODIFIED:20240930T134326Z
UID:10031940-1727978400-1727987400@welkominutrecht.nu
SUMMARY:Meet-up night Mijn Wijk Jouw Wijk
DESCRIPTION:Description\n\nMijn Wijk Jouw Wijk organizes a meet-up night every first Thursday of the month from 6 p.m. – 8:30 p.m. in the neighborhood restaurant A Beautiful Mess (ABM) on the azc at Joseph Haydnlaan 2. About 30 neighborhood residents and 30 asylum seekers attend. Each time there is a different theme and we cook and eat together. The local residents pay for the azc residents. \n\nLocation\n\nRestaurant A Beautiful Mess | Joseph Haydnlaan 2\, Utrecht \n\nTransport\n\nEverybody goes to the location by themselves.  \n\nRegistration\n\nWould you like to join? You can register by sending an e-mail to mijnwijkjouwwijk@gmail.com.
URL:https://welkominutrecht.nu/en/agenda-item/meet-up-night-mijn-wijk-jouw-wijk/2024-10-03/
CATEGORIES:Cooking & eating,Games & Meeting,Getting to know Utrecht
END:VEVENT
BEGIN:VEVENT
DTSTART;TZID=Europe/Amsterdam:20241003T100000
DTEND;TZID=Europe/Amsterdam:20241003T160000
DTSTAMP:20260420T231630
CREATED:20240927T070023Z
LAST-MODIFIED:20240927T070142Z
UID:10027335-1727949600-1727971200@welkominutrecht.nu
SUMMARY:Open walk-in Living Room Pahud
DESCRIPTION:Description\n\nCome have a drink\, study or play a game in The Living Room of The Pahud. Meet new people there or meet up with those you already know. Sometimes you can participate in a workshop. Everyone is welcome! On Mondays between 11 a.m. and 1 p.m. for women only. \n\nLocation\n\nLiving Room Plan Einstein Pahud | Pahud de Mortangesdreef 61 \n\nTransport\n\nEveryone can come by themselves \n\nRegistration\n\nNo need to sign up\, you can walk in anytime
URL:https://welkominutrecht.nu/en/agenda-item/open-walk-in-living-room-pahud/2024-10-03/
CATEGORIES:Cooking & eating,Games & Meeting
END:VEVENT
BEGIN:VEVENT
DTSTART;TZID=Europe/Amsterdam:20241002T100000
DTEND;TZID=Europe/Amsterdam:20241002T160000
DTSTAMP:20260420T231630
CREATED:20240927T070023Z
LAST-MODIFIED:20240927T070142Z
UID:10027334-1727863200-1727884800@welkominutrecht.nu
SUMMARY:Open walk-in Living Room Pahud
DESCRIPTION:Description\n\nCome have a drink\, study or play a game in The Living Room of The Pahud. Meet new people there or meet up with those you already know. Sometimes you can participate in a workshop. Everyone is welcome! On Mondays between 11 a.m. and 1 p.m. for women only. \n\nLocation\n\nLiving Room Plan Einstein Pahud | Pahud de Mortangesdreef 61 \n\nTransport\n\nEveryone can come by themselves \n\nRegistration\n\nNo need to sign up\, you can walk in anytime
URL:https://welkominutrecht.nu/en/agenda-item/open-walk-in-living-room-pahud/2024-10-02/
CATEGORIES:Cooking & eating,Games & Meeting
END:VEVENT
BEGIN:VEVENT
DTSTART;TZID=Europe/Amsterdam:20241001T100000
DTEND;TZID=Europe/Amsterdam:20241001T160000
DTSTAMP:20260420T231630
CREATED:20240927T070023Z
LAST-MODIFIED:20240927T070142Z
UID:10027333-1727776800-1727798400@welkominutrecht.nu
SUMMARY:Open walk-in Living Room Pahud
DESCRIPTION:Description\n\nCome have a drink\, study or play a game in The Living Room of The Pahud. Meet new people there or meet up with those you already know. Sometimes you can participate in a workshop. Everyone is welcome! On Mondays between 11 a.m. and 1 p.m. for women only. \n\nLocation\n\nLiving Room Plan Einstein Pahud | Pahud de Mortangesdreef 61 \n\nTransport\n\nEveryone can come by themselves \n\nRegistration\n\nNo need to sign up\, you can walk in anytime
URL:https://welkominutrecht.nu/en/agenda-item/open-walk-in-living-room-pahud/2024-10-01/
CATEGORIES:Cooking & eating,Games & Meeting
END:VEVENT
END:VCALENDAR