BEGIN:VCALENDAR
VERSION:2.0
PRODID:-//Welkom in Utrecht | Verbindt vluchtelingen met Utrecht - ECPv6.15.18//NONSGML v1.0//EN
CALSCALE:GREGORIAN
METHOD:PUBLISH
X-ORIGINAL-URL:https://welkominutrecht.nu/en/
X-WR-CALDESC:Events for Welkom in Utrecht | Verbindt vluchtelingen met Utrecht
REFRESH-INTERVAL;VALUE=DURATION:PT1H
X-Robots-Tag:noindex
X-PUBLISHED-TTL:PT1H
BEGIN:VTIMEZONE
TZID:Europe/Amsterdam
BEGIN:DAYLIGHT
TZOFFSETFROM:+0100
TZOFFSETTO:+0200
TZNAME:CEST
DTSTART:20230326T010000
END:DAYLIGHT
BEGIN:STANDARD
TZOFFSETFROM:+0200
TZOFFSETTO:+0100
TZNAME:CET
DTSTART:20231029T010000
END:STANDARD
BEGIN:DAYLIGHT
TZOFFSETFROM:+0100
TZOFFSETTO:+0200
TZNAME:CEST
DTSTART:20240331T010000
END:DAYLIGHT
BEGIN:STANDARD
TZOFFSETFROM:+0200
TZOFFSETTO:+0100
TZNAME:CET
DTSTART:20241027T010000
END:STANDARD
BEGIN:DAYLIGHT
TZOFFSETFROM:+0100
TZOFFSETTO:+0200
TZNAME:CEST
DTSTART:20250330T010000
END:DAYLIGHT
BEGIN:STANDARD
TZOFFSETFROM:+0200
TZOFFSETTO:+0100
TZNAME:CET
DTSTART:20251026T010000
END:STANDARD
BEGIN:DAYLIGHT
TZOFFSETFROM:+0100
TZOFFSETTO:+0200
TZNAME:CEST
DTSTART:20260329T010000
END:DAYLIGHT
BEGIN:STANDARD
TZOFFSETFROM:+0200
TZOFFSETTO:+0100
TZNAME:CET
DTSTART:20261025T010000
END:STANDARD
END:VTIMEZONE
BEGIN:VEVENT
DTSTART;TZID=Europe/Amsterdam:20250131T100000
DTEND;TZID=Europe/Amsterdam:20250131T160000
DTSTAMP:20260420T065825
CREATED:20241224T102918Z
LAST-MODIFIED:20250103T115857Z
UID:10034259-1738317600-1738339200@welkominutrecht.nu
SUMMARY:Open walk-in Living Room Pahud
DESCRIPTION:Description\n\nCome have a drink\, study or play a game in The Living Room of The Pahud. Meet new people there or meet up with those you already know. Sometimes you can participate in a workshop. Everyone is welcome! On Mondays between 11 a.m. and 1 p.m. for women only. \n\nLocation\n\nLiving Room Plan Einstein Pahud | Pahud de Mortangesdreef 61 \n\nTransport\n\nEveryone can come by themselves \n\nRegistration\n\nNo need to sign up\, you can walk in anytime
URL:https://welkominutrecht.nu/en/agenda-item/open-walk-in-living-room-pahud-2/2025-01-31/
CATEGORIES:Cooking & eating,Games & Meeting
END:VEVENT
BEGIN:VEVENT
DTSTART;TZID=Europe/Amsterdam:20250130T100000
DTEND;TZID=Europe/Amsterdam:20250130T160000
DTSTAMP:20260420T065825
CREATED:20241224T102918Z
LAST-MODIFIED:20250103T115857Z
UID:10034258-1738231200-1738252800@welkominutrecht.nu
SUMMARY:Open walk-in Living Room Pahud
DESCRIPTION:Description\n\nCome have a drink\, study or play a game in The Living Room of The Pahud. Meet new people there or meet up with those you already know. Sometimes you can participate in a workshop. Everyone is welcome! On Mondays between 11 a.m. and 1 p.m. for women only. \n\nLocation\n\nLiving Room Plan Einstein Pahud | Pahud de Mortangesdreef 61 \n\nTransport\n\nEveryone can come by themselves \n\nRegistration\n\nNo need to sign up\, you can walk in anytime
URL:https://welkominutrecht.nu/en/agenda-item/open-walk-in-living-room-pahud-2/2025-01-30/
CATEGORIES:Cooking & eating,Games & Meeting
END:VEVENT
BEGIN:VEVENT
DTSTART;TZID=Europe/Amsterdam:20250129T100000
DTEND;TZID=Europe/Amsterdam:20250129T160000
DTSTAMP:20260420T065825
CREATED:20241224T102918Z
LAST-MODIFIED:20250103T115857Z
UID:10034257-1738144800-1738166400@welkominutrecht.nu
SUMMARY:Open walk-in Living Room Pahud
DESCRIPTION:Description\n\nCome have a drink\, study or play a game in The Living Room of The Pahud. Meet new people there or meet up with those you already know. Sometimes you can participate in a workshop. Everyone is welcome! On Mondays between 11 a.m. and 1 p.m. for women only. \n\nLocation\n\nLiving Room Plan Einstein Pahud | Pahud de Mortangesdreef 61 \n\nTransport\n\nEveryone can come by themselves \n\nRegistration\n\nNo need to sign up\, you can walk in anytime
URL:https://welkominutrecht.nu/en/agenda-item/open-walk-in-living-room-pahud-2/2025-01-29/
CATEGORIES:Cooking & eating,Games & Meeting
END:VEVENT
BEGIN:VEVENT
DTSTART;TZID=Europe/Amsterdam:20250128T100000
DTEND;TZID=Europe/Amsterdam:20250128T160000
DTSTAMP:20260420T065825
CREATED:20241224T102918Z
LAST-MODIFIED:20250103T115857Z
UID:10034256-1738058400-1738080000@welkominutrecht.nu
SUMMARY:Open walk-in Living Room Pahud
DESCRIPTION:Description\n\nCome have a drink\, study or play a game in The Living Room of The Pahud. Meet new people there or meet up with those you already know. Sometimes you can participate in a workshop. Everyone is welcome! On Mondays between 11 a.m. and 1 p.m. for women only. \n\nLocation\n\nLiving Room Plan Einstein Pahud | Pahud de Mortangesdreef 61 \n\nTransport\n\nEveryone can come by themselves \n\nRegistration\n\nNo need to sign up\, you can walk in anytime
URL:https://welkominutrecht.nu/en/agenda-item/open-walk-in-living-room-pahud-2/2025-01-28/
CATEGORIES:Cooking & eating,Games & Meeting
END:VEVENT
BEGIN:VEVENT
DTSTART;TZID=Europe/Amsterdam:20250127T190000
DTEND;TZID=Europe/Amsterdam:20250127T203000
DTSTAMP:20260420T065825
CREATED:20241224T111321Z
LAST-MODIFIED:20250103T113039Z
UID:10033872-1738004400-1738009800@welkominutrecht.nu
SUMMARY:Happy Hap Pahud with Buurtmaaltijden
DESCRIPTION:Description\n\nEverybody is welcome to come and have dinner with azc residents and neighborhood residents on Monday nights at Pahud\, organized by Buurtmaaltijden.  \n\nLocation\n\nLiving Room Plan Einstein Pahud | Pahud de Mortangesdreef 61 \n\nTransport\n\nGo the the location by yourself  \n\nRegistration\n\nWould you like to help cooking or would you like to join dinner? Contact Iman at 0653618681 or iman@welkominutrecht.nu.
URL:https://welkominutrecht.nu/en/agenda-item/happy-hap-pahud-with-buurtmaaltijden-3/2025-01-27/
CATEGORIES:Cooking & eating
END:VEVENT
BEGIN:VEVENT
DTSTART;TZID=Europe/Amsterdam:20250127T100000
DTEND;TZID=Europe/Amsterdam:20250127T160000
DTSTAMP:20260420T065825
CREATED:20241224T102918Z
LAST-MODIFIED:20250103T115857Z
UID:10034255-1737972000-1737993600@welkominutrecht.nu
SUMMARY:Open walk-in Living Room Pahud
DESCRIPTION:Description\n\nCome have a drink\, study or play a game in The Living Room of The Pahud. Meet new people there or meet up with those you already know. Sometimes you can participate in a workshop. Everyone is welcome! On Mondays between 11 a.m. and 1 p.m. for women only. \n\nLocation\n\nLiving Room Plan Einstein Pahud | Pahud de Mortangesdreef 61 \n\nTransport\n\nEveryone can come by themselves \n\nRegistration\n\nNo need to sign up\, you can walk in anytime
URL:https://welkominutrecht.nu/en/agenda-item/open-walk-in-living-room-pahud-2/2025-01-27/
CATEGORIES:Cooking & eating,Games & Meeting
END:VEVENT
BEGIN:VEVENT
DTSTART;TZID=Europe/Amsterdam:20250124T100000
DTEND;TZID=Europe/Amsterdam:20250124T160000
DTSTAMP:20260420T065825
CREATED:20241224T102918Z
LAST-MODIFIED:20250103T115857Z
UID:10034254-1737712800-1737734400@welkominutrecht.nu
SUMMARY:Open walk-in Living Room Pahud
DESCRIPTION:Description\n\nCome have a drink\, study or play a game in The Living Room of The Pahud. Meet new people there or meet up with those you already know. Sometimes you can participate in a workshop. Everyone is welcome! On Mondays between 11 a.m. and 1 p.m. for women only. \n\nLocation\n\nLiving Room Plan Einstein Pahud | Pahud de Mortangesdreef 61 \n\nTransport\n\nEveryone can come by themselves \n\nRegistration\n\nNo need to sign up\, you can walk in anytime
URL:https://welkominutrecht.nu/en/agenda-item/open-walk-in-living-room-pahud-2/2025-01-24/
CATEGORIES:Cooking & eating,Games & Meeting
END:VEVENT
BEGIN:VEVENT
DTSTART;TZID=Europe/Amsterdam:20250123T100000
DTEND;TZID=Europe/Amsterdam:20250123T160000
DTSTAMP:20260420T065825
CREATED:20241224T102918Z
LAST-MODIFIED:20250103T115857Z
UID:10034253-1737626400-1737648000@welkominutrecht.nu
SUMMARY:Open walk-in Living Room Pahud
DESCRIPTION:Description\n\nCome have a drink\, study or play a game in The Living Room of The Pahud. Meet new people there or meet up with those you already know. Sometimes you can participate in a workshop. Everyone is welcome! On Mondays between 11 a.m. and 1 p.m. for women only. \n\nLocation\n\nLiving Room Plan Einstein Pahud | Pahud de Mortangesdreef 61 \n\nTransport\n\nEveryone can come by themselves \n\nRegistration\n\nNo need to sign up\, you can walk in anytime
URL:https://welkominutrecht.nu/en/agenda-item/open-walk-in-living-room-pahud-2/2025-01-23/
CATEGORIES:Cooking & eating,Games & Meeting
END:VEVENT
BEGIN:VEVENT
DTSTART;TZID=Europe/Amsterdam:20250122T100000
DTEND;TZID=Europe/Amsterdam:20250122T160000
DTSTAMP:20260420T065826
CREATED:20241224T102918Z
LAST-MODIFIED:20250103T115857Z
UID:10034252-1737540000-1737561600@welkominutrecht.nu
SUMMARY:Open walk-in Living Room Pahud
DESCRIPTION:Description\n\nCome have a drink\, study or play a game in The Living Room of The Pahud. Meet new people there or meet up with those you already know. Sometimes you can participate in a workshop. Everyone is welcome! On Mondays between 11 a.m. and 1 p.m. for women only. \n\nLocation\n\nLiving Room Plan Einstein Pahud | Pahud de Mortangesdreef 61 \n\nTransport\n\nEveryone can come by themselves \n\nRegistration\n\nNo need to sign up\, you can walk in anytime
URL:https://welkominutrecht.nu/en/agenda-item/open-walk-in-living-room-pahud-2/2025-01-22/
CATEGORIES:Cooking & eating,Games & Meeting
END:VEVENT
BEGIN:VEVENT
DTSTART;TZID=Europe/Amsterdam:20250121T100000
DTEND;TZID=Europe/Amsterdam:20250121T160000
DTSTAMP:20260420T065826
CREATED:20241224T102918Z
LAST-MODIFIED:20250103T115857Z
UID:10034251-1737453600-1737475200@welkominutrecht.nu
SUMMARY:Open walk-in Living Room Pahud
DESCRIPTION:Description\n\nCome have a drink\, study or play a game in The Living Room of The Pahud. Meet new people there or meet up with those you already know. Sometimes you can participate in a workshop. Everyone is welcome! On Mondays between 11 a.m. and 1 p.m. for women only. \n\nLocation\n\nLiving Room Plan Einstein Pahud | Pahud de Mortangesdreef 61 \n\nTransport\n\nEveryone can come by themselves \n\nRegistration\n\nNo need to sign up\, you can walk in anytime
URL:https://welkominutrecht.nu/en/agenda-item/open-walk-in-living-room-pahud-2/2025-01-21/
CATEGORIES:Cooking & eating,Games & Meeting
END:VEVENT
BEGIN:VEVENT
DTSTART;TZID=Europe/Amsterdam:20250120T190000
DTEND;TZID=Europe/Amsterdam:20250120T203000
DTSTAMP:20260420T065826
CREATED:20241224T111321Z
LAST-MODIFIED:20250103T113039Z
UID:10033871-1737399600-1737405000@welkominutrecht.nu
SUMMARY:Happy Hap Pahud with Buurtmaaltijden
DESCRIPTION:Description\n\nEverybody is welcome to come and have dinner with azc residents and neighborhood residents on Monday nights at Pahud\, organized by Buurtmaaltijden.  \n\nLocation\n\nLiving Room Plan Einstein Pahud | Pahud de Mortangesdreef 61 \n\nTransport\n\nGo the the location by yourself  \n\nRegistration\n\nWould you like to help cooking or would you like to join dinner? Contact Iman at 0653618681 or iman@welkominutrecht.nu.
URL:https://welkominutrecht.nu/en/agenda-item/happy-hap-pahud-with-buurtmaaltijden-3/2025-01-20/
CATEGORIES:Cooking & eating
END:VEVENT
BEGIN:VEVENT
DTSTART;TZID=Europe/Amsterdam:20250120T100000
DTEND;TZID=Europe/Amsterdam:20250120T160000
DTSTAMP:20260420T065826
CREATED:20241224T102918Z
LAST-MODIFIED:20250103T115857Z
UID:10034250-1737367200-1737388800@welkominutrecht.nu
SUMMARY:Open walk-in Living Room Pahud
DESCRIPTION:Description\n\nCome have a drink\, study or play a game in The Living Room of The Pahud. Meet new people there or meet up with those you already know. Sometimes you can participate in a workshop. Everyone is welcome! On Mondays between 11 a.m. and 1 p.m. for women only. \n\nLocation\n\nLiving Room Plan Einstein Pahud | Pahud de Mortangesdreef 61 \n\nTransport\n\nEveryone can come by themselves \n\nRegistration\n\nNo need to sign up\, you can walk in anytime
URL:https://welkominutrecht.nu/en/agenda-item/open-walk-in-living-room-pahud-2/2025-01-20/
CATEGORIES:Cooking & eating,Games & Meeting
END:VEVENT
BEGIN:VEVENT
DTSTART;TZID=Europe/Amsterdam:20250117T100000
DTEND;TZID=Europe/Amsterdam:20250117T160000
DTSTAMP:20260420T065826
CREATED:20241224T102918Z
LAST-MODIFIED:20250103T115857Z
UID:10034249-1737108000-1737129600@welkominutrecht.nu
SUMMARY:Open walk-in Living Room Pahud
DESCRIPTION:Description\n\nCome have a drink\, study or play a game in The Living Room of The Pahud. Meet new people there or meet up with those you already know. Sometimes you can participate in a workshop. Everyone is welcome! On Mondays between 11 a.m. and 1 p.m. for women only. \n\nLocation\n\nLiving Room Plan Einstein Pahud | Pahud de Mortangesdreef 61 \n\nTransport\n\nEveryone can come by themselves \n\nRegistration\n\nNo need to sign up\, you can walk in anytime
URL:https://welkominutrecht.nu/en/agenda-item/open-walk-in-living-room-pahud-2/2025-01-17/
CATEGORIES:Cooking & eating,Games & Meeting
END:VEVENT
BEGIN:VEVENT
DTSTART;TZID=Europe/Amsterdam:20250116T100000
DTEND;TZID=Europe/Amsterdam:20250116T160000
DTSTAMP:20260420T065826
CREATED:20241224T102918Z
LAST-MODIFIED:20250103T115857Z
UID:10034248-1737021600-1737043200@welkominutrecht.nu
SUMMARY:Open walk-in Living Room Pahud
DESCRIPTION:Description\n\nCome have a drink\, study or play a game in The Living Room of The Pahud. Meet new people there or meet up with those you already know. Sometimes you can participate in a workshop. Everyone is welcome! On Mondays between 11 a.m. and 1 p.m. for women only. \n\nLocation\n\nLiving Room Plan Einstein Pahud | Pahud de Mortangesdreef 61 \n\nTransport\n\nEveryone can come by themselves \n\nRegistration\n\nNo need to sign up\, you can walk in anytime
URL:https://welkominutrecht.nu/en/agenda-item/open-walk-in-living-room-pahud-2/2025-01-16/
CATEGORIES:Cooking & eating,Games & Meeting
END:VEVENT
BEGIN:VEVENT
DTSTART;TZID=Europe/Amsterdam:20250115T100000
DTEND;TZID=Europe/Amsterdam:20250115T160000
DTSTAMP:20260420T065826
CREATED:20241224T102918Z
LAST-MODIFIED:20250103T115857Z
UID:10034247-1736935200-1736956800@welkominutrecht.nu
SUMMARY:Open walk-in Living Room Pahud
DESCRIPTION:Description\n\nCome have a drink\, study or play a game in The Living Room of The Pahud. Meet new people there or meet up with those you already know. Sometimes you can participate in a workshop. Everyone is welcome! On Mondays between 11 a.m. and 1 p.m. for women only. \n\nLocation\n\nLiving Room Plan Einstein Pahud | Pahud de Mortangesdreef 61 \n\nTransport\n\nEveryone can come by themselves \n\nRegistration\n\nNo need to sign up\, you can walk in anytime
URL:https://welkominutrecht.nu/en/agenda-item/open-walk-in-living-room-pahud-2/2025-01-15/
CATEGORIES:Cooking & eating,Games & Meeting
END:VEVENT
BEGIN:VEVENT
DTSTART;TZID=Europe/Amsterdam:20250114T100000
DTEND;TZID=Europe/Amsterdam:20250114T160000
DTSTAMP:20260420T065826
CREATED:20241224T102918Z
LAST-MODIFIED:20250103T115857Z
UID:10034246-1736848800-1736870400@welkominutrecht.nu
SUMMARY:Open walk-in Living Room Pahud
DESCRIPTION:Description\n\nCome have a drink\, study or play a game in The Living Room of The Pahud. Meet new people there or meet up with those you already know. Sometimes you can participate in a workshop. Everyone is welcome! On Mondays between 11 a.m. and 1 p.m. for women only. \n\nLocation\n\nLiving Room Plan Einstein Pahud | Pahud de Mortangesdreef 61 \n\nTransport\n\nEveryone can come by themselves \n\nRegistration\n\nNo need to sign up\, you can walk in anytime
URL:https://welkominutrecht.nu/en/agenda-item/open-walk-in-living-room-pahud-2/2025-01-14/
CATEGORIES:Cooking & eating,Games & Meeting
END:VEVENT
BEGIN:VEVENT
DTSTART;TZID=Europe/Amsterdam:20250113T190000
DTEND;TZID=Europe/Amsterdam:20250113T203000
DTSTAMP:20260420T065826
CREATED:20241224T111321Z
LAST-MODIFIED:20250103T113039Z
UID:10033870-1736794800-1736800200@welkominutrecht.nu
SUMMARY:Happy Hap Pahud with Buurtmaaltijden
DESCRIPTION:Description\n\nEverybody is welcome to come and have dinner with azc residents and neighborhood residents on Monday nights at Pahud\, organized by Buurtmaaltijden.  \n\nLocation\n\nLiving Room Plan Einstein Pahud | Pahud de Mortangesdreef 61 \n\nTransport\n\nGo the the location by yourself  \n\nRegistration\n\nWould you like to help cooking or would you like to join dinner? Contact Iman at 0653618681 or iman@welkominutrecht.nu.
URL:https://welkominutrecht.nu/en/agenda-item/happy-hap-pahud-with-buurtmaaltijden-3/2025-01-13/
CATEGORIES:Cooking & eating
END:VEVENT
BEGIN:VEVENT
DTSTART;TZID=Europe/Amsterdam:20250113T100000
DTEND;TZID=Europe/Amsterdam:20250113T160000
DTSTAMP:20260420T065826
CREATED:20241224T102918Z
LAST-MODIFIED:20250103T115857Z
UID:10034245-1736762400-1736784000@welkominutrecht.nu
SUMMARY:Open walk-in Living Room Pahud
DESCRIPTION:Description\n\nCome have a drink\, study or play a game in The Living Room of The Pahud. Meet new people there or meet up with those you already know. Sometimes you can participate in a workshop. Everyone is welcome! On Mondays between 11 a.m. and 1 p.m. for women only. \n\nLocation\n\nLiving Room Plan Einstein Pahud | Pahud de Mortangesdreef 61 \n\nTransport\n\nEveryone can come by themselves \n\nRegistration\n\nNo need to sign up\, you can walk in anytime
URL:https://welkominutrecht.nu/en/agenda-item/open-walk-in-living-room-pahud-2/2025-01-13/
CATEGORIES:Cooking & eating,Games & Meeting
END:VEVENT
BEGIN:VEVENT
DTSTART;TZID=Europe/Amsterdam:20250110T100000
DTEND;TZID=Europe/Amsterdam:20250110T160000
DTSTAMP:20260420T065826
CREATED:20241224T102918Z
LAST-MODIFIED:20250103T115857Z
UID:10034244-1736503200-1736524800@welkominutrecht.nu
SUMMARY:Open walk-in Living Room Pahud
DESCRIPTION:Description\n\nCome have a drink\, study or play a game in The Living Room of The Pahud. Meet new people there or meet up with those you already know. Sometimes you can participate in a workshop. Everyone is welcome! On Mondays between 11 a.m. and 1 p.m. for women only. \n\nLocation\n\nLiving Room Plan Einstein Pahud | Pahud de Mortangesdreef 61 \n\nTransport\n\nEveryone can come by themselves \n\nRegistration\n\nNo need to sign up\, you can walk in anytime
URL:https://welkominutrecht.nu/en/agenda-item/open-walk-in-living-room-pahud-2/2025-01-10/
CATEGORIES:Cooking & eating,Games & Meeting
END:VEVENT
BEGIN:VEVENT
DTSTART;TZID=Europe/Amsterdam:20250109T180000
DTEND;TZID=Europe/Amsterdam:20250109T203000
DTSTAMP:20260420T065826
CREATED:20241224T110140Z
LAST-MODIFIED:20250103T112137Z
UID:10033672-1736445600-1736454600@welkominutrecht.nu
SUMMARY:Meet
DESCRIPTION:Description\n\nMijn Wijk Jouw Wijk organizes a meet-up night every first Thursday of the month from 6 p.m. – 8:30 p.m. in the neighborhood restaurant A Beautiful Mess (ABM) on the azc at Joseph Haydnlaan 2. About 30 neighborhood residents and 30 asylum seekers attend. Each time there is a different theme and we cook and eat together. The local residents pay for the azc residents. \n\nLocation\n\nRestaurant A Beautiful Mess | Joseph Haydnlaan 2\, Utrecht \n\nTransport\n\nEverybody goes to the location by themselves.  \n\nRegistration\n\nWould you like to join? You can register by sending an e-mail to mijnwijkjouwwijk@gmail.com.
URL:https://welkominutrecht.nu/en/agenda-item/meet/2025-01-09/
CATEGORIES:Cooking & eating,Games & Meeting,Getting to know Utrecht
END:VEVENT
BEGIN:VEVENT
DTSTART;TZID=Europe/Amsterdam:20250109T100000
DTEND;TZID=Europe/Amsterdam:20250109T160000
DTSTAMP:20260420T065826
CREATED:20241224T102918Z
LAST-MODIFIED:20250103T115857Z
UID:10034243-1736416800-1736438400@welkominutrecht.nu
SUMMARY:Open walk-in Living Room Pahud
DESCRIPTION:Description\n\nCome have a drink\, study or play a game in The Living Room of The Pahud. Meet new people there or meet up with those you already know. Sometimes you can participate in a workshop. Everyone is welcome! On Mondays between 11 a.m. and 1 p.m. for women only. \n\nLocation\n\nLiving Room Plan Einstein Pahud | Pahud de Mortangesdreef 61 \n\nTransport\n\nEveryone can come by themselves \n\nRegistration\n\nNo need to sign up\, you can walk in anytime
URL:https://welkominutrecht.nu/en/agenda-item/open-walk-in-living-room-pahud-2/2025-01-09/
CATEGORIES:Cooking & eating,Games & Meeting
END:VEVENT
BEGIN:VEVENT
DTSTART;TZID=Europe/Amsterdam:20250108T100000
DTEND;TZID=Europe/Amsterdam:20250108T160000
DTSTAMP:20260420T065826
CREATED:20241224T102918Z
LAST-MODIFIED:20250103T115857Z
UID:10034242-1736330400-1736352000@welkominutrecht.nu
SUMMARY:Open walk-in Living Room Pahud
DESCRIPTION:Description\n\nCome have a drink\, study or play a game in The Living Room of The Pahud. Meet new people there or meet up with those you already know. Sometimes you can participate in a workshop. Everyone is welcome! On Mondays between 11 a.m. and 1 p.m. for women only. \n\nLocation\n\nLiving Room Plan Einstein Pahud | Pahud de Mortangesdreef 61 \n\nTransport\n\nEveryone can come by themselves \n\nRegistration\n\nNo need to sign up\, you can walk in anytime
URL:https://welkominutrecht.nu/en/agenda-item/open-walk-in-living-room-pahud-2/2025-01-08/
CATEGORIES:Cooking & eating,Games & Meeting
END:VEVENT
BEGIN:VEVENT
DTSTART;TZID=Europe/Amsterdam:20250107T100000
DTEND;TZID=Europe/Amsterdam:20250107T160000
DTSTAMP:20260420T065826
CREATED:20241224T102918Z
LAST-MODIFIED:20250103T115857Z
UID:10034241-1736244000-1736265600@welkominutrecht.nu
SUMMARY:Open walk-in Living Room Pahud
DESCRIPTION:Description\n\nCome have a drink\, study or play a game in The Living Room of The Pahud. Meet new people there or meet up with those you already know. Sometimes you can participate in a workshop. Everyone is welcome! On Mondays between 11 a.m. and 1 p.m. for women only. \n\nLocation\n\nLiving Room Plan Einstein Pahud | Pahud de Mortangesdreef 61 \n\nTransport\n\nEveryone can come by themselves \n\nRegistration\n\nNo need to sign up\, you can walk in anytime
URL:https://welkominutrecht.nu/en/agenda-item/open-walk-in-living-room-pahud-2/2025-01-07/
CATEGORIES:Cooking & eating,Games & Meeting
END:VEVENT
BEGIN:VEVENT
DTSTART;TZID=Europe/Amsterdam:20250106T190000
DTEND;TZID=Europe/Amsterdam:20250106T203000
DTSTAMP:20260420T065826
CREATED:20241224T111321Z
LAST-MODIFIED:20250103T113039Z
UID:10033869-1736190000-1736195400@welkominutrecht.nu
SUMMARY:Happy Hap Pahud with Buurtmaaltijden
DESCRIPTION:Description\n\nEverybody is welcome to come and have dinner with azc residents and neighborhood residents on Monday nights at Pahud\, organized by Buurtmaaltijden.  \n\nLocation\n\nLiving Room Plan Einstein Pahud | Pahud de Mortangesdreef 61 \n\nTransport\n\nGo the the location by yourself  \n\nRegistration\n\nWould you like to help cooking or would you like to join dinner? Contact Iman at 0653618681 or iman@welkominutrecht.nu.
URL:https://welkominutrecht.nu/en/agenda-item/happy-hap-pahud-with-buurtmaaltijden-3/2025-01-06/
CATEGORIES:Cooking & eating
END:VEVENT
BEGIN:VEVENT
DTSTART;TZID=Europe/Amsterdam:20250106T100000
DTEND;TZID=Europe/Amsterdam:20250106T160000
DTSTAMP:20260420T065826
CREATED:20241224T102918Z
LAST-MODIFIED:20250103T115857Z
UID:10034240-1736157600-1736179200@welkominutrecht.nu
SUMMARY:Open walk-in Living Room Pahud
DESCRIPTION:Description\n\nCome have a drink\, study or play a game in The Living Room of The Pahud. Meet new people there or meet up with those you already know. Sometimes you can participate in a workshop. Everyone is welcome! On Mondays between 11 a.m. and 1 p.m. for women only. \n\nLocation\n\nLiving Room Plan Einstein Pahud | Pahud de Mortangesdreef 61 \n\nTransport\n\nEveryone can come by themselves \n\nRegistration\n\nNo need to sign up\, you can walk in anytime
URL:https://welkominutrecht.nu/en/agenda-item/open-walk-in-living-room-pahud-2/2025-01-06/
CATEGORIES:Cooking & eating,Games & Meeting
END:VEVENT
BEGIN:VEVENT
DTSTART;TZID=Europe/Amsterdam:20250103T100000
DTEND;TZID=Europe/Amsterdam:20250103T160000
DTSTAMP:20260420T065826
CREATED:20241224T102918Z
LAST-MODIFIED:20250103T115857Z
UID:10034239-1735898400-1735920000@welkominutrecht.nu
SUMMARY:Open walk-in Living Room Pahud
DESCRIPTION:Description\n\nCome have a drink\, study or play a game in The Living Room of The Pahud. Meet new people there or meet up with those you already know. Sometimes you can participate in a workshop. Everyone is welcome! On Mondays between 11 a.m. and 1 p.m. for women only. \n\nLocation\n\nLiving Room Plan Einstein Pahud | Pahud de Mortangesdreef 61 \n\nTransport\n\nEveryone can come by themselves \n\nRegistration\n\nNo need to sign up\, you can walk in anytime
URL:https://welkominutrecht.nu/en/agenda-item/open-walk-in-living-room-pahud-2/2025-01-03/
CATEGORIES:Cooking & eating,Games & Meeting
END:VEVENT
BEGIN:VEVENT
DTSTART;TZID=Europe/Amsterdam:20250102T100000
DTEND;TZID=Europe/Amsterdam:20250102T160000
DTSTAMP:20260420T065826
CREATED:20241224T102918Z
LAST-MODIFIED:20250103T115857Z
UID:10034238-1735812000-1735833600@welkominutrecht.nu
SUMMARY:Open walk-in Living Room Pahud
DESCRIPTION:Description\n\nCome have a drink\, study or play a game in The Living Room of The Pahud. Meet new people there or meet up with those you already know. Sometimes you can participate in a workshop. Everyone is welcome! On Mondays between 11 a.m. and 1 p.m. for women only. \n\nLocation\n\nLiving Room Plan Einstein Pahud | Pahud de Mortangesdreef 61 \n\nTransport\n\nEveryone can come by themselves \n\nRegistration\n\nNo need to sign up\, you can walk in anytime
URL:https://welkominutrecht.nu/en/agenda-item/open-walk-in-living-room-pahud-2/2025-01-02/
CATEGORIES:Cooking & eating,Games & Meeting
END:VEVENT
BEGIN:VEVENT
DTSTART;TZID=Europe/Amsterdam:20250101T100000
DTEND;TZID=Europe/Amsterdam:20250101T160000
DTSTAMP:20260420T065826
CREATED:20241224T102918Z
LAST-MODIFIED:20250103T115857Z
UID:10034237-1735725600-1735747200@welkominutrecht.nu
SUMMARY:Open walk-in Living Room Pahud
DESCRIPTION:Description\n\nCome have a drink\, study or play a game in The Living Room of The Pahud. Meet new people there or meet up with those you already know. Sometimes you can participate in a workshop. Everyone is welcome! On Mondays between 11 a.m. and 1 p.m. for women only. \n\nLocation\n\nLiving Room Plan Einstein Pahud | Pahud de Mortangesdreef 61 \n\nTransport\n\nEveryone can come by themselves \n\nRegistration\n\nNo need to sign up\, you can walk in anytime
URL:https://welkominutrecht.nu/en/agenda-item/open-walk-in-living-room-pahud-2/2025-01-01/
CATEGORIES:Cooking & eating,Games & Meeting
END:VEVENT
BEGIN:VEVENT
DTSTART;TZID=Europe/Amsterdam:20241231T100000
DTEND;TZID=Europe/Amsterdam:20241231T160000
DTSTAMP:20260420T065826
CREATED:20240927T070023Z
LAST-MODIFIED:20240927T070142Z
UID:10027398-1735639200-1735660800@welkominutrecht.nu
SUMMARY:Open walk-in Living Room Pahud
DESCRIPTION:Description\n\nCome have a drink\, study or play a game in The Living Room of The Pahud. Meet new people there or meet up with those you already know. Sometimes you can participate in a workshop. Everyone is welcome! On Mondays between 11 a.m. and 1 p.m. for women only. \n\nLocation\n\nLiving Room Plan Einstein Pahud | Pahud de Mortangesdreef 61 \n\nTransport\n\nEveryone can come by themselves \n\nRegistration\n\nNo need to sign up\, you can walk in anytime
URL:https://welkominutrecht.nu/en/agenda-item/open-walk-in-living-room-pahud/2024-12-31/
CATEGORIES:Cooking & eating,Games & Meeting
END:VEVENT
BEGIN:VEVENT
DTSTART;TZID=Europe/Amsterdam:20241230T190000
DTEND;TZID=Europe/Amsterdam:20241230T203000
DTSTAMP:20260420T065826
CREATED:20240924T140817Z
LAST-MODIFIED:20240924T140939Z
UID:10027095-1735585200-1735590600@welkominutrecht.nu
SUMMARY:Happy Hap Pahud with Buurtmaaltijden
DESCRIPTION:Description\n\nEverybody is welcome to come and have dinner with azc residents and neighborhood residents on Monday nights at Pahud\, organized by Buurtmaaltijden.  \n\nLocation\n\nLiving Room at Plan Einstein Pahud | Pahud de Mortangesdreef 61 \n\nTransport\n\nGo the the location by yourself  \n\nRegistration\n\nWould you like to help cooking or would you like to join dinner? Contact Iman at 0653618681 or iman@welkominutrecht.nu.
URL:https://welkominutrecht.nu/en/agenda-item/happy-hap-pahud-with-buurtmaaltijden-2/2024-12-30/
CATEGORIES:Cooking & eating
END:VEVENT
END:VCALENDAR