BEGIN:VCALENDAR
VERSION:2.0
PRODID:-//Welkom in Utrecht | Verbindt vluchtelingen met Utrecht - ECPv6.15.18//NONSGML v1.0//EN
CALSCALE:GREGORIAN
METHOD:PUBLISH
X-WR-CALNAME:Welkom in Utrecht | Verbindt vluchtelingen met Utrecht
X-ORIGINAL-URL:https://welkominutrecht.nu/en/
X-WR-CALDESC:Events for Welkom in Utrecht | Verbindt vluchtelingen met Utrecht
REFRESH-INTERVAL;VALUE=DURATION:PT1H
X-Robots-Tag:noindex
X-PUBLISHED-TTL:PT1H
BEGIN:VTIMEZONE
TZID:Europe/Amsterdam
BEGIN:DAYLIGHT
TZOFFSETFROM:+0100
TZOFFSETTO:+0200
TZNAME:CEST
DTSTART:20240331T010000
END:DAYLIGHT
BEGIN:STANDARD
TZOFFSETFROM:+0200
TZOFFSETTO:+0100
TZNAME:CET
DTSTART:20241027T010000
END:STANDARD
BEGIN:DAYLIGHT
TZOFFSETFROM:+0100
TZOFFSETTO:+0200
TZNAME:CEST
DTSTART:20250330T010000
END:DAYLIGHT
BEGIN:STANDARD
TZOFFSETFROM:+0200
TZOFFSETTO:+0100
TZNAME:CET
DTSTART:20251026T010000
END:STANDARD
BEGIN:DAYLIGHT
TZOFFSETFROM:+0100
TZOFFSETTO:+0200
TZNAME:CEST
DTSTART:20260329T010000
END:DAYLIGHT
BEGIN:STANDARD
TZOFFSETFROM:+0200
TZOFFSETTO:+0100
TZNAME:CET
DTSTART:20261025T010000
END:STANDARD
END:VTIMEZONE
BEGIN:VEVENT
DTSTART;TZID=Europe/Amsterdam:20250224T100000
DTEND;TZID=Europe/Amsterdam:20250224T160000
DTSTAMP:20260420T033227
CREATED:20241224T102918Z
LAST-MODIFIED:20250103T115857Z
UID:10034275-1740391200-1740412800@welkominutrecht.nu
SUMMARY:Open walk-in Living Room Pahud
DESCRIPTION:Description\n\nCome have a drink\, study or play a game in The Living Room of The Pahud. Meet new people there or meet up with those you already know. Sometimes you can participate in a workshop. Everyone is welcome! On Mondays between 11 a.m. and 1 p.m. for women only. \n\nLocation\n\nLiving Room Plan Einstein Pahud | Pahud de Mortangesdreef 61 \n\nTransport\n\nEveryone can come by themselves \n\nRegistration\n\nNo need to sign up\, you can walk in anytime
URL:https://welkominutrecht.nu/en/agenda-item/open-walk-in-living-room-pahud-2/2025-02-24/
CATEGORIES:Cooking & eating,Games & Meeting
END:VEVENT
BEGIN:VEVENT
DTSTART;TZID=Europe/Amsterdam:20250221T100000
DTEND;TZID=Europe/Amsterdam:20250221T160000
DTSTAMP:20260420T033227
CREATED:20241224T102918Z
LAST-MODIFIED:20250103T115857Z
UID:10034274-1740132000-1740153600@welkominutrecht.nu
SUMMARY:Open walk-in Living Room Pahud
DESCRIPTION:Description\n\nCome have a drink\, study or play a game in The Living Room of The Pahud. Meet new people there or meet up with those you already know. Sometimes you can participate in a workshop. Everyone is welcome! On Mondays between 11 a.m. and 1 p.m. for women only. \n\nLocation\n\nLiving Room Plan Einstein Pahud | Pahud de Mortangesdreef 61 \n\nTransport\n\nEveryone can come by themselves \n\nRegistration\n\nNo need to sign up\, you can walk in anytime
URL:https://welkominutrecht.nu/en/agenda-item/open-walk-in-living-room-pahud-2/2025-02-21/
CATEGORIES:Cooking & eating,Games & Meeting
END:VEVENT
BEGIN:VEVENT
DTSTART;TZID=Europe/Amsterdam:20250220T100000
DTEND;TZID=Europe/Amsterdam:20250220T160000
DTSTAMP:20260420T033227
CREATED:20241224T102918Z
LAST-MODIFIED:20250103T115857Z
UID:10034273-1740045600-1740067200@welkominutrecht.nu
SUMMARY:Open walk-in Living Room Pahud
DESCRIPTION:Description\n\nCome have a drink\, study or play a game in The Living Room of The Pahud. Meet new people there or meet up with those you already know. Sometimes you can participate in a workshop. Everyone is welcome! On Mondays between 11 a.m. and 1 p.m. for women only. \n\nLocation\n\nLiving Room Plan Einstein Pahud | Pahud de Mortangesdreef 61 \n\nTransport\n\nEveryone can come by themselves \n\nRegistration\n\nNo need to sign up\, you can walk in anytime
URL:https://welkominutrecht.nu/en/agenda-item/open-walk-in-living-room-pahud-2/2025-02-20/
CATEGORIES:Cooking & eating,Games & Meeting
END:VEVENT
BEGIN:VEVENT
DTSTART;TZID=Europe/Amsterdam:20250219T100000
DTEND;TZID=Europe/Amsterdam:20250219T160000
DTSTAMP:20260420T033227
CREATED:20241224T102918Z
LAST-MODIFIED:20250103T115857Z
UID:10034272-1739959200-1739980800@welkominutrecht.nu
SUMMARY:Open walk-in Living Room Pahud
DESCRIPTION:Description\n\nCome have a drink\, study or play a game in The Living Room of The Pahud. Meet new people there or meet up with those you already know. Sometimes you can participate in a workshop. Everyone is welcome! On Mondays between 11 a.m. and 1 p.m. for women only. \n\nLocation\n\nLiving Room Plan Einstein Pahud | Pahud de Mortangesdreef 61 \n\nTransport\n\nEveryone can come by themselves \n\nRegistration\n\nNo need to sign up\, you can walk in anytime
URL:https://welkominutrecht.nu/en/agenda-item/open-walk-in-living-room-pahud-2/2025-02-19/
CATEGORIES:Cooking & eating,Games & Meeting
END:VEVENT
BEGIN:VEVENT
DTSTART;TZID=Europe/Amsterdam:20250218T100000
DTEND;TZID=Europe/Amsterdam:20250218T160000
DTSTAMP:20260420T033227
CREATED:20241224T102918Z
LAST-MODIFIED:20250103T115857Z
UID:10034271-1739872800-1739894400@welkominutrecht.nu
SUMMARY:Open walk-in Living Room Pahud
DESCRIPTION:Description\n\nCome have a drink\, study or play a game in The Living Room of The Pahud. Meet new people there or meet up with those you already know. Sometimes you can participate in a workshop. Everyone is welcome! On Mondays between 11 a.m. and 1 p.m. for women only. \n\nLocation\n\nLiving Room Plan Einstein Pahud | Pahud de Mortangesdreef 61 \n\nTransport\n\nEveryone can come by themselves \n\nRegistration\n\nNo need to sign up\, you can walk in anytime
URL:https://welkominutrecht.nu/en/agenda-item/open-walk-in-living-room-pahud-2/2025-02-18/
CATEGORIES:Cooking & eating,Games & Meeting
END:VEVENT
BEGIN:VEVENT
DTSTART;TZID=Europe/Amsterdam:20250217T190000
DTEND;TZID=Europe/Amsterdam:20250217T203000
DTSTAMP:20260420T033227
CREATED:20241224T111321Z
LAST-MODIFIED:20250103T113039Z
UID:10033875-1739818800-1739824200@welkominutrecht.nu
SUMMARY:Happy Hap Pahud with Buurtmaaltijden
DESCRIPTION:Description\n\nEverybody is welcome to come and have dinner with azc residents and neighborhood residents on Monday nights at Pahud\, organized by Buurtmaaltijden.  \n\nLocation\n\nLiving Room Plan Einstein Pahud | Pahud de Mortangesdreef 61 \n\nTransport\n\nGo the the location by yourself  \n\nRegistration\n\nWould you like to help cooking or would you like to join dinner? Contact Iman at 0653618681 or iman@welkominutrecht.nu.
URL:https://welkominutrecht.nu/en/agenda-item/happy-hap-pahud-with-buurtmaaltijden-3/2025-02-17/
CATEGORIES:Cooking & eating
END:VEVENT
BEGIN:VEVENT
DTSTART;TZID=Europe/Amsterdam:20250217T100000
DTEND;TZID=Europe/Amsterdam:20250217T160000
DTSTAMP:20260420T033227
CREATED:20241224T102918Z
LAST-MODIFIED:20250103T115857Z
UID:10034270-1739786400-1739808000@welkominutrecht.nu
SUMMARY:Open walk-in Living Room Pahud
DESCRIPTION:Description\n\nCome have a drink\, study or play a game in The Living Room of The Pahud. Meet new people there or meet up with those you already know. Sometimes you can participate in a workshop. Everyone is welcome! On Mondays between 11 a.m. and 1 p.m. for women only. \n\nLocation\n\nLiving Room Plan Einstein Pahud | Pahud de Mortangesdreef 61 \n\nTransport\n\nEveryone can come by themselves \n\nRegistration\n\nNo need to sign up\, you can walk in anytime
URL:https://welkominutrecht.nu/en/agenda-item/open-walk-in-living-room-pahud-2/2025-02-17/
CATEGORIES:Cooking & eating,Games & Meeting
END:VEVENT
BEGIN:VEVENT
DTSTART;TZID=Europe/Amsterdam:20250214T100000
DTEND;TZID=Europe/Amsterdam:20250214T160000
DTSTAMP:20260420T033227
CREATED:20241224T102918Z
LAST-MODIFIED:20250103T115857Z
UID:10034269-1739527200-1739548800@welkominutrecht.nu
SUMMARY:Open walk-in Living Room Pahud
DESCRIPTION:Description\n\nCome have a drink\, study or play a game in The Living Room of The Pahud. Meet new people there or meet up with those you already know. Sometimes you can participate in a workshop. Everyone is welcome! On Mondays between 11 a.m. and 1 p.m. for women only. \n\nLocation\n\nLiving Room Plan Einstein Pahud | Pahud de Mortangesdreef 61 \n\nTransport\n\nEveryone can come by themselves \n\nRegistration\n\nNo need to sign up\, you can walk in anytime
URL:https://welkominutrecht.nu/en/agenda-item/open-walk-in-living-room-pahud-2/2025-02-14/
CATEGORIES:Cooking & eating,Games & Meeting
END:VEVENT
BEGIN:VEVENT
DTSTART;TZID=Europe/Amsterdam:20250213T180000
DTEND;TZID=Europe/Amsterdam:20250213T203000
DTSTAMP:20260420T033227
CREATED:20241224T110140Z
LAST-MODIFIED:20250103T112137Z
UID:10033673-1739469600-1739478600@welkominutrecht.nu
SUMMARY:Meet
DESCRIPTION:Description\n\nMijn Wijk Jouw Wijk organizes a meet-up night every first Thursday of the month from 6 p.m. – 8:30 p.m. in the neighborhood restaurant A Beautiful Mess (ABM) on the azc at Joseph Haydnlaan 2. About 30 neighborhood residents and 30 asylum seekers attend. Each time there is a different theme and we cook and eat together. The local residents pay for the azc residents. \n\nLocation\n\nRestaurant A Beautiful Mess | Joseph Haydnlaan 2\, Utrecht \n\nTransport\n\nEverybody goes to the location by themselves.  \n\nRegistration\n\nWould you like to join? You can register by sending an e-mail to mijnwijkjouwwijk@gmail.com.
URL:https://welkominutrecht.nu/en/agenda-item/meet/2025-02-13/
CATEGORIES:Cooking & eating,Games & Meeting,Getting to know Utrecht
END:VEVENT
BEGIN:VEVENT
DTSTART;TZID=Europe/Amsterdam:20250213T100000
DTEND;TZID=Europe/Amsterdam:20250213T160000
DTSTAMP:20260420T033227
CREATED:20241224T102918Z
LAST-MODIFIED:20250103T115857Z
UID:10034268-1739440800-1739462400@welkominutrecht.nu
SUMMARY:Open walk-in Living Room Pahud
DESCRIPTION:Description\n\nCome have a drink\, study or play a game in The Living Room of The Pahud. Meet new people there or meet up with those you already know. Sometimes you can participate in a workshop. Everyone is welcome! On Mondays between 11 a.m. and 1 p.m. for women only. \n\nLocation\n\nLiving Room Plan Einstein Pahud | Pahud de Mortangesdreef 61 \n\nTransport\n\nEveryone can come by themselves \n\nRegistration\n\nNo need to sign up\, you can walk in anytime
URL:https://welkominutrecht.nu/en/agenda-item/open-walk-in-living-room-pahud-2/2025-02-13/
CATEGORIES:Cooking & eating,Games & Meeting
END:VEVENT
BEGIN:VEVENT
DTSTART;TZID=Europe/Amsterdam:20250212T100000
DTEND;TZID=Europe/Amsterdam:20250212T160000
DTSTAMP:20260420T033227
CREATED:20241224T102918Z
LAST-MODIFIED:20250103T115857Z
UID:10034267-1739354400-1739376000@welkominutrecht.nu
SUMMARY:Open walk-in Living Room Pahud
DESCRIPTION:Description\n\nCome have a drink\, study or play a game in The Living Room of The Pahud. Meet new people there or meet up with those you already know. Sometimes you can participate in a workshop. Everyone is welcome! On Mondays between 11 a.m. and 1 p.m. for women only. \n\nLocation\n\nLiving Room Plan Einstein Pahud | Pahud de Mortangesdreef 61 \n\nTransport\n\nEveryone can come by themselves \n\nRegistration\n\nNo need to sign up\, you can walk in anytime
URL:https://welkominutrecht.nu/en/agenda-item/open-walk-in-living-room-pahud-2/2025-02-12/
CATEGORIES:Cooking & eating,Games & Meeting
END:VEVENT
BEGIN:VEVENT
DTSTART;TZID=Europe/Amsterdam:20250211T100000
DTEND;TZID=Europe/Amsterdam:20250211T160000
DTSTAMP:20260420T033227
CREATED:20241224T102918Z
LAST-MODIFIED:20250103T115857Z
UID:10034266-1739268000-1739289600@welkominutrecht.nu
SUMMARY:Open walk-in Living Room Pahud
DESCRIPTION:Description\n\nCome have a drink\, study or play a game in The Living Room of The Pahud. Meet new people there or meet up with those you already know. Sometimes you can participate in a workshop. Everyone is welcome! On Mondays between 11 a.m. and 1 p.m. for women only. \n\nLocation\n\nLiving Room Plan Einstein Pahud | Pahud de Mortangesdreef 61 \n\nTransport\n\nEveryone can come by themselves \n\nRegistration\n\nNo need to sign up\, you can walk in anytime
URL:https://welkominutrecht.nu/en/agenda-item/open-walk-in-living-room-pahud-2/2025-02-11/
CATEGORIES:Cooking & eating,Games & Meeting
END:VEVENT
BEGIN:VEVENT
DTSTART;TZID=Europe/Amsterdam:20250210T190000
DTEND;TZID=Europe/Amsterdam:20250210T203000
DTSTAMP:20260420T033227
CREATED:20241224T111321Z
LAST-MODIFIED:20250103T113039Z
UID:10033874-1739214000-1739219400@welkominutrecht.nu
SUMMARY:Happy Hap Pahud with Buurtmaaltijden
DESCRIPTION:Description\n\nEverybody is welcome to come and have dinner with azc residents and neighborhood residents on Monday nights at Pahud\, organized by Buurtmaaltijden.  \n\nLocation\n\nLiving Room Plan Einstein Pahud | Pahud de Mortangesdreef 61 \n\nTransport\n\nGo the the location by yourself  \n\nRegistration\n\nWould you like to help cooking or would you like to join dinner? Contact Iman at 0653618681 or iman@welkominutrecht.nu.
URL:https://welkominutrecht.nu/en/agenda-item/happy-hap-pahud-with-buurtmaaltijden-3/2025-02-10/
CATEGORIES:Cooking & eating
END:VEVENT
BEGIN:VEVENT
DTSTART;TZID=Europe/Amsterdam:20250210T100000
DTEND;TZID=Europe/Amsterdam:20250210T160000
DTSTAMP:20260420T033227
CREATED:20241224T102918Z
LAST-MODIFIED:20250103T115857Z
UID:10034265-1739181600-1739203200@welkominutrecht.nu
SUMMARY:Open walk-in Living Room Pahud
DESCRIPTION:Description\n\nCome have a drink\, study or play a game in The Living Room of The Pahud. Meet new people there or meet up with those you already know. Sometimes you can participate in a workshop. Everyone is welcome! On Mondays between 11 a.m. and 1 p.m. for women only. \n\nLocation\n\nLiving Room Plan Einstein Pahud | Pahud de Mortangesdreef 61 \n\nTransport\n\nEveryone can come by themselves \n\nRegistration\n\nNo need to sign up\, you can walk in anytime
URL:https://welkominutrecht.nu/en/agenda-item/open-walk-in-living-room-pahud-2/2025-02-10/
CATEGORIES:Cooking & eating,Games & Meeting
END:VEVENT
BEGIN:VEVENT
DTSTART;TZID=Europe/Amsterdam:20250207T100000
DTEND;TZID=Europe/Amsterdam:20250207T160000
DTSTAMP:20260420T033227
CREATED:20241224T102918Z
LAST-MODIFIED:20250103T115857Z
UID:10034264-1738922400-1738944000@welkominutrecht.nu
SUMMARY:Open walk-in Living Room Pahud
DESCRIPTION:Description\n\nCome have a drink\, study or play a game in The Living Room of The Pahud. Meet new people there or meet up with those you already know. Sometimes you can participate in a workshop. Everyone is welcome! On Mondays between 11 a.m. and 1 p.m. for women only. \n\nLocation\n\nLiving Room Plan Einstein Pahud | Pahud de Mortangesdreef 61 \n\nTransport\n\nEveryone can come by themselves \n\nRegistration\n\nNo need to sign up\, you can walk in anytime
URL:https://welkominutrecht.nu/en/agenda-item/open-walk-in-living-room-pahud-2/2025-02-07/
CATEGORIES:Cooking & eating,Games & Meeting
END:VEVENT
BEGIN:VEVENT
DTSTART;TZID=Europe/Amsterdam:20250206T100000
DTEND;TZID=Europe/Amsterdam:20250206T160000
DTSTAMP:20260420T033227
CREATED:20241224T102918Z
LAST-MODIFIED:20250103T115857Z
UID:10034263-1738836000-1738857600@welkominutrecht.nu
SUMMARY:Open walk-in Living Room Pahud
DESCRIPTION:Description\n\nCome have a drink\, study or play a game in The Living Room of The Pahud. Meet new people there or meet up with those you already know. Sometimes you can participate in a workshop. Everyone is welcome! On Mondays between 11 a.m. and 1 p.m. for women only. \n\nLocation\n\nLiving Room Plan Einstein Pahud | Pahud de Mortangesdreef 61 \n\nTransport\n\nEveryone can come by themselves \n\nRegistration\n\nNo need to sign up\, you can walk in anytime
URL:https://welkominutrecht.nu/en/agenda-item/open-walk-in-living-room-pahud-2/2025-02-06/
CATEGORIES:Cooking & eating,Games & Meeting
END:VEVENT
BEGIN:VEVENT
DTSTART;TZID=Europe/Amsterdam:20250205T100000
DTEND;TZID=Europe/Amsterdam:20250205T160000
DTSTAMP:20260420T033227
CREATED:20241224T102918Z
LAST-MODIFIED:20250103T115857Z
UID:10034262-1738749600-1738771200@welkominutrecht.nu
SUMMARY:Open walk-in Living Room Pahud
DESCRIPTION:Description\n\nCome have a drink\, study or play a game in The Living Room of The Pahud. Meet new people there or meet up with those you already know. Sometimes you can participate in a workshop. Everyone is welcome! On Mondays between 11 a.m. and 1 p.m. for women only. \n\nLocation\n\nLiving Room Plan Einstein Pahud | Pahud de Mortangesdreef 61 \n\nTransport\n\nEveryone can come by themselves \n\nRegistration\n\nNo need to sign up\, you can walk in anytime
URL:https://welkominutrecht.nu/en/agenda-item/open-walk-in-living-room-pahud-2/2025-02-05/
CATEGORIES:Cooking & eating,Games & Meeting
END:VEVENT
BEGIN:VEVENT
DTSTART;TZID=Europe/Amsterdam:20250204T100000
DTEND;TZID=Europe/Amsterdam:20250204T160000
DTSTAMP:20260420T033227
CREATED:20241224T102918Z
LAST-MODIFIED:20250103T115857Z
UID:10034261-1738663200-1738684800@welkominutrecht.nu
SUMMARY:Open walk-in Living Room Pahud
DESCRIPTION:Description\n\nCome have a drink\, study or play a game in The Living Room of The Pahud. Meet new people there or meet up with those you already know. Sometimes you can participate in a workshop. Everyone is welcome! On Mondays between 11 a.m. and 1 p.m. for women only. \n\nLocation\n\nLiving Room Plan Einstein Pahud | Pahud de Mortangesdreef 61 \n\nTransport\n\nEveryone can come by themselves \n\nRegistration\n\nNo need to sign up\, you can walk in anytime
URL:https://welkominutrecht.nu/en/agenda-item/open-walk-in-living-room-pahud-2/2025-02-04/
CATEGORIES:Cooking & eating,Games & Meeting
END:VEVENT
BEGIN:VEVENT
DTSTART;TZID=Europe/Amsterdam:20250203T190000
DTEND;TZID=Europe/Amsterdam:20250203T203000
DTSTAMP:20260420T033227
CREATED:20241224T111321Z
LAST-MODIFIED:20250103T113039Z
UID:10033873-1738609200-1738614600@welkominutrecht.nu
SUMMARY:Happy Hap Pahud with Buurtmaaltijden
DESCRIPTION:Description\n\nEverybody is welcome to come and have dinner with azc residents and neighborhood residents on Monday nights at Pahud\, organized by Buurtmaaltijden.  \n\nLocation\n\nLiving Room Plan Einstein Pahud | Pahud de Mortangesdreef 61 \n\nTransport\n\nGo the the location by yourself  \n\nRegistration\n\nWould you like to help cooking or would you like to join dinner? Contact Iman at 0653618681 or iman@welkominutrecht.nu.
URL:https://welkominutrecht.nu/en/agenda-item/happy-hap-pahud-with-buurtmaaltijden-3/2025-02-03/
CATEGORIES:Cooking & eating
END:VEVENT
BEGIN:VEVENT
DTSTART;TZID=Europe/Amsterdam:20250203T100000
DTEND;TZID=Europe/Amsterdam:20250203T160000
DTSTAMP:20260420T033227
CREATED:20241224T102918Z
LAST-MODIFIED:20250103T115857Z
UID:10034260-1738576800-1738598400@welkominutrecht.nu
SUMMARY:Open walk-in Living Room Pahud
DESCRIPTION:Description\n\nCome have a drink\, study or play a game in The Living Room of The Pahud. Meet new people there or meet up with those you already know. Sometimes you can participate in a workshop. Everyone is welcome! On Mondays between 11 a.m. and 1 p.m. for women only. \n\nLocation\n\nLiving Room Plan Einstein Pahud | Pahud de Mortangesdreef 61 \n\nTransport\n\nEveryone can come by themselves \n\nRegistration\n\nNo need to sign up\, you can walk in anytime
URL:https://welkominutrecht.nu/en/agenda-item/open-walk-in-living-room-pahud-2/2025-02-03/
CATEGORIES:Cooking & eating,Games & Meeting
END:VEVENT
BEGIN:VEVENT
DTSTART;TZID=Europe/Amsterdam:20250131T100000
DTEND;TZID=Europe/Amsterdam:20250131T160000
DTSTAMP:20260420T033227
CREATED:20241224T102918Z
LAST-MODIFIED:20250103T115857Z
UID:10034259-1738317600-1738339200@welkominutrecht.nu
SUMMARY:Open walk-in Living Room Pahud
DESCRIPTION:Description\n\nCome have a drink\, study or play a game in The Living Room of The Pahud. Meet new people there or meet up with those you already know. Sometimes you can participate in a workshop. Everyone is welcome! On Mondays between 11 a.m. and 1 p.m. for women only. \n\nLocation\n\nLiving Room Plan Einstein Pahud | Pahud de Mortangesdreef 61 \n\nTransport\n\nEveryone can come by themselves \n\nRegistration\n\nNo need to sign up\, you can walk in anytime
URL:https://welkominutrecht.nu/en/agenda-item/open-walk-in-living-room-pahud-2/2025-01-31/
CATEGORIES:Cooking & eating,Games & Meeting
END:VEVENT
BEGIN:VEVENT
DTSTART;TZID=Europe/Amsterdam:20250130T100000
DTEND;TZID=Europe/Amsterdam:20250130T160000
DTSTAMP:20260420T033227
CREATED:20241224T102918Z
LAST-MODIFIED:20250103T115857Z
UID:10034258-1738231200-1738252800@welkominutrecht.nu
SUMMARY:Open walk-in Living Room Pahud
DESCRIPTION:Description\n\nCome have a drink\, study or play a game in The Living Room of The Pahud. Meet new people there or meet up with those you already know. Sometimes you can participate in a workshop. Everyone is welcome! On Mondays between 11 a.m. and 1 p.m. for women only. \n\nLocation\n\nLiving Room Plan Einstein Pahud | Pahud de Mortangesdreef 61 \n\nTransport\n\nEveryone can come by themselves \n\nRegistration\n\nNo need to sign up\, you can walk in anytime
URL:https://welkominutrecht.nu/en/agenda-item/open-walk-in-living-room-pahud-2/2025-01-30/
CATEGORIES:Cooking & eating,Games & Meeting
END:VEVENT
BEGIN:VEVENT
DTSTART;TZID=Europe/Amsterdam:20250129T100000
DTEND;TZID=Europe/Amsterdam:20250129T160000
DTSTAMP:20260420T033227
CREATED:20241224T102918Z
LAST-MODIFIED:20250103T115857Z
UID:10034257-1738144800-1738166400@welkominutrecht.nu
SUMMARY:Open walk-in Living Room Pahud
DESCRIPTION:Description\n\nCome have a drink\, study or play a game in The Living Room of The Pahud. Meet new people there or meet up with those you already know. Sometimes you can participate in a workshop. Everyone is welcome! On Mondays between 11 a.m. and 1 p.m. for women only. \n\nLocation\n\nLiving Room Plan Einstein Pahud | Pahud de Mortangesdreef 61 \n\nTransport\n\nEveryone can come by themselves \n\nRegistration\n\nNo need to sign up\, you can walk in anytime
URL:https://welkominutrecht.nu/en/agenda-item/open-walk-in-living-room-pahud-2/2025-01-29/
CATEGORIES:Cooking & eating,Games & Meeting
END:VEVENT
BEGIN:VEVENT
DTSTART;TZID=Europe/Amsterdam:20250128T100000
DTEND;TZID=Europe/Amsterdam:20250128T160000
DTSTAMP:20260420T033227
CREATED:20241224T102918Z
LAST-MODIFIED:20250103T115857Z
UID:10034256-1738058400-1738080000@welkominutrecht.nu
SUMMARY:Open walk-in Living Room Pahud
DESCRIPTION:Description\n\nCome have a drink\, study or play a game in The Living Room of The Pahud. Meet new people there or meet up with those you already know. Sometimes you can participate in a workshop. Everyone is welcome! On Mondays between 11 a.m. and 1 p.m. for women only. \n\nLocation\n\nLiving Room Plan Einstein Pahud | Pahud de Mortangesdreef 61 \n\nTransport\n\nEveryone can come by themselves \n\nRegistration\n\nNo need to sign up\, you can walk in anytime
URL:https://welkominutrecht.nu/en/agenda-item/open-walk-in-living-room-pahud-2/2025-01-28/
CATEGORIES:Cooking & eating,Games & Meeting
END:VEVENT
BEGIN:VEVENT
DTSTART;TZID=Europe/Amsterdam:20250127T190000
DTEND;TZID=Europe/Amsterdam:20250127T203000
DTSTAMP:20260420T033227
CREATED:20241224T111321Z
LAST-MODIFIED:20250103T113039Z
UID:10033872-1738004400-1738009800@welkominutrecht.nu
SUMMARY:Happy Hap Pahud with Buurtmaaltijden
DESCRIPTION:Description\n\nEverybody is welcome to come and have dinner with azc residents and neighborhood residents on Monday nights at Pahud\, organized by Buurtmaaltijden.  \n\nLocation\n\nLiving Room Plan Einstein Pahud | Pahud de Mortangesdreef 61 \n\nTransport\n\nGo the the location by yourself  \n\nRegistration\n\nWould you like to help cooking or would you like to join dinner? Contact Iman at 0653618681 or iman@welkominutrecht.nu.
URL:https://welkominutrecht.nu/en/agenda-item/happy-hap-pahud-with-buurtmaaltijden-3/2025-01-27/
CATEGORIES:Cooking & eating
END:VEVENT
BEGIN:VEVENT
DTSTART;TZID=Europe/Amsterdam:20250127T100000
DTEND;TZID=Europe/Amsterdam:20250127T160000
DTSTAMP:20260420T033227
CREATED:20241224T102918Z
LAST-MODIFIED:20250103T115857Z
UID:10034255-1737972000-1737993600@welkominutrecht.nu
SUMMARY:Open walk-in Living Room Pahud
DESCRIPTION:Description\n\nCome have a drink\, study or play a game in The Living Room of The Pahud. Meet new people there or meet up with those you already know. Sometimes you can participate in a workshop. Everyone is welcome! On Mondays between 11 a.m. and 1 p.m. for women only. \n\nLocation\n\nLiving Room Plan Einstein Pahud | Pahud de Mortangesdreef 61 \n\nTransport\n\nEveryone can come by themselves \n\nRegistration\n\nNo need to sign up\, you can walk in anytime
URL:https://welkominutrecht.nu/en/agenda-item/open-walk-in-living-room-pahud-2/2025-01-27/
CATEGORIES:Cooking & eating,Games & Meeting
END:VEVENT
BEGIN:VEVENT
DTSTART;TZID=Europe/Amsterdam:20250124T100000
DTEND;TZID=Europe/Amsterdam:20250124T160000
DTSTAMP:20260420T033227
CREATED:20241224T102918Z
LAST-MODIFIED:20250103T115857Z
UID:10034254-1737712800-1737734400@welkominutrecht.nu
SUMMARY:Open walk-in Living Room Pahud
DESCRIPTION:Description\n\nCome have a drink\, study or play a game in The Living Room of The Pahud. Meet new people there or meet up with those you already know. Sometimes you can participate in a workshop. Everyone is welcome! On Mondays between 11 a.m. and 1 p.m. for women only. \n\nLocation\n\nLiving Room Plan Einstein Pahud | Pahud de Mortangesdreef 61 \n\nTransport\n\nEveryone can come by themselves \n\nRegistration\n\nNo need to sign up\, you can walk in anytime
URL:https://welkominutrecht.nu/en/agenda-item/open-walk-in-living-room-pahud-2/2025-01-24/
CATEGORIES:Cooking & eating,Games & Meeting
END:VEVENT
BEGIN:VEVENT
DTSTART;TZID=Europe/Amsterdam:20250123T100000
DTEND;TZID=Europe/Amsterdam:20250123T160000
DTSTAMP:20260420T033227
CREATED:20241224T102918Z
LAST-MODIFIED:20250103T115857Z
UID:10034253-1737626400-1737648000@welkominutrecht.nu
SUMMARY:Open walk-in Living Room Pahud
DESCRIPTION:Description\n\nCome have a drink\, study or play a game in The Living Room of The Pahud. Meet new people there or meet up with those you already know. Sometimes you can participate in a workshop. Everyone is welcome! On Mondays between 11 a.m. and 1 p.m. for women only. \n\nLocation\n\nLiving Room Plan Einstein Pahud | Pahud de Mortangesdreef 61 \n\nTransport\n\nEveryone can come by themselves \n\nRegistration\n\nNo need to sign up\, you can walk in anytime
URL:https://welkominutrecht.nu/en/agenda-item/open-walk-in-living-room-pahud-2/2025-01-23/
CATEGORIES:Cooking & eating,Games & Meeting
END:VEVENT
BEGIN:VEVENT
DTSTART;TZID=Europe/Amsterdam:20250122T100000
DTEND;TZID=Europe/Amsterdam:20250122T160000
DTSTAMP:20260420T033227
CREATED:20241224T102918Z
LAST-MODIFIED:20250103T115857Z
UID:10034252-1737540000-1737561600@welkominutrecht.nu
SUMMARY:Open walk-in Living Room Pahud
DESCRIPTION:Description\n\nCome have a drink\, study or play a game in The Living Room of The Pahud. Meet new people there or meet up with those you already know. Sometimes you can participate in a workshop. Everyone is welcome! On Mondays between 11 a.m. and 1 p.m. for women only. \n\nLocation\n\nLiving Room Plan Einstein Pahud | Pahud de Mortangesdreef 61 \n\nTransport\n\nEveryone can come by themselves \n\nRegistration\n\nNo need to sign up\, you can walk in anytime
URL:https://welkominutrecht.nu/en/agenda-item/open-walk-in-living-room-pahud-2/2025-01-22/
CATEGORIES:Cooking & eating,Games & Meeting
END:VEVENT
BEGIN:VEVENT
DTSTART;TZID=Europe/Amsterdam:20250121T100000
DTEND;TZID=Europe/Amsterdam:20250121T160000
DTSTAMP:20260420T033227
CREATED:20241224T102918Z
LAST-MODIFIED:20250103T115857Z
UID:10034251-1737453600-1737475200@welkominutrecht.nu
SUMMARY:Open walk-in Living Room Pahud
DESCRIPTION:Description\n\nCome have a drink\, study or play a game in The Living Room of The Pahud. Meet new people there or meet up with those you already know. Sometimes you can participate in a workshop. Everyone is welcome! On Mondays between 11 a.m. and 1 p.m. for women only. \n\nLocation\n\nLiving Room Plan Einstein Pahud | Pahud de Mortangesdreef 61 \n\nTransport\n\nEveryone can come by themselves \n\nRegistration\n\nNo need to sign up\, you can walk in anytime
URL:https://welkominutrecht.nu/en/agenda-item/open-walk-in-living-room-pahud-2/2025-01-21/
CATEGORIES:Cooking & eating,Games & Meeting
END:VEVENT
END:VCALENDAR