BEGIN:VCALENDAR
VERSION:2.0
PRODID:-//Welkom in Utrecht | Verbindt vluchtelingen met Utrecht - ECPv6.15.18//NONSGML v1.0//EN
CALSCALE:GREGORIAN
METHOD:PUBLISH
X-ORIGINAL-URL:https://welkominutrecht.nu/en/
X-WR-CALDESC:Events for Welkom in Utrecht | Verbindt vluchtelingen met Utrecht
REFRESH-INTERVAL;VALUE=DURATION:PT1H
X-Robots-Tag:noindex
X-PUBLISHED-TTL:PT1H
BEGIN:VTIMEZONE
TZID:Europe/Amsterdam
BEGIN:DAYLIGHT
TZOFFSETFROM:+0100
TZOFFSETTO:+0200
TZNAME:CEST
DTSTART:20240331T010000
END:DAYLIGHT
BEGIN:STANDARD
TZOFFSETFROM:+0200
TZOFFSETTO:+0100
TZNAME:CET
DTSTART:20241027T010000
END:STANDARD
BEGIN:DAYLIGHT
TZOFFSETFROM:+0100
TZOFFSETTO:+0200
TZNAME:CEST
DTSTART:20250330T010000
END:DAYLIGHT
BEGIN:STANDARD
TZOFFSETFROM:+0200
TZOFFSETTO:+0100
TZNAME:CET
DTSTART:20251026T010000
END:STANDARD
BEGIN:DAYLIGHT
TZOFFSETFROM:+0100
TZOFFSETTO:+0200
TZNAME:CEST
DTSTART:20260329T010000
END:DAYLIGHT
BEGIN:STANDARD
TZOFFSETFROM:+0200
TZOFFSETTO:+0100
TZNAME:CET
DTSTART:20261025T010000
END:STANDARD
END:VTIMEZONE
BEGIN:VEVENT
DTSTART;TZID=Europe/Amsterdam:20250328T100000
DTEND;TZID=Europe/Amsterdam:20250328T160000
DTSTAMP:20260419T222212
CREATED:20241224T102918Z
LAST-MODIFIED:20250103T115857Z
UID:10034299-1743156000-1743177600@welkominutrecht.nu
SUMMARY:Open walk-in Living Room Pahud
DESCRIPTION:Description\n\nCome have a drink\, study or play a game in The Living Room of The Pahud. Meet new people there or meet up with those you already know. Sometimes you can participate in a workshop. Everyone is welcome! On Mondays between 11 a.m. and 1 p.m. for women only. \n\nLocation\n\nLiving Room Plan Einstein Pahud | Pahud de Mortangesdreef 61 \n\nTransport\n\nEveryone can come by themselves \n\nRegistration\n\nNo need to sign up\, you can walk in anytime
URL:https://welkominutrecht.nu/en/agenda-item/open-walk-in-living-room-pahud-2/2025-03-28/
CATEGORIES:Cooking & eating,Games & Meeting
END:VEVENT
BEGIN:VEVENT
DTSTART;TZID=Europe/Amsterdam:20250327T100000
DTEND;TZID=Europe/Amsterdam:20250327T160000
DTSTAMP:20260419T222212
CREATED:20241224T102918Z
LAST-MODIFIED:20250103T115857Z
UID:10034298-1743069600-1743091200@welkominutrecht.nu
SUMMARY:Open walk-in Living Room Pahud
DESCRIPTION:Description\n\nCome have a drink\, study or play a game in The Living Room of The Pahud. Meet new people there or meet up with those you already know. Sometimes you can participate in a workshop. Everyone is welcome! On Mondays between 11 a.m. and 1 p.m. for women only. \n\nLocation\n\nLiving Room Plan Einstein Pahud | Pahud de Mortangesdreef 61 \n\nTransport\n\nEveryone can come by themselves \n\nRegistration\n\nNo need to sign up\, you can walk in anytime
URL:https://welkominutrecht.nu/en/agenda-item/open-walk-in-living-room-pahud-2/2025-03-27/
CATEGORIES:Cooking & eating,Games & Meeting
END:VEVENT
BEGIN:VEVENT
DTSTART;TZID=Europe/Amsterdam:20250326T100000
DTEND;TZID=Europe/Amsterdam:20250326T160000
DTSTAMP:20260419T222212
CREATED:20241224T102918Z
LAST-MODIFIED:20250103T115857Z
UID:10034297-1742983200-1743004800@welkominutrecht.nu
SUMMARY:Open walk-in Living Room Pahud
DESCRIPTION:Description\n\nCome have a drink\, study or play a game in The Living Room of The Pahud. Meet new people there or meet up with those you already know. Sometimes you can participate in a workshop. Everyone is welcome! On Mondays between 11 a.m. and 1 p.m. for women only. \n\nLocation\n\nLiving Room Plan Einstein Pahud | Pahud de Mortangesdreef 61 \n\nTransport\n\nEveryone can come by themselves \n\nRegistration\n\nNo need to sign up\, you can walk in anytime
URL:https://welkominutrecht.nu/en/agenda-item/open-walk-in-living-room-pahud-2/2025-03-26/
CATEGORIES:Cooking & eating,Games & Meeting
END:VEVENT
BEGIN:VEVENT
DTSTART;TZID=Europe/Amsterdam:20250325T100000
DTEND;TZID=Europe/Amsterdam:20250325T160000
DTSTAMP:20260419T222212
CREATED:20241224T102918Z
LAST-MODIFIED:20250103T115857Z
UID:10034296-1742896800-1742918400@welkominutrecht.nu
SUMMARY:Open walk-in Living Room Pahud
DESCRIPTION:Description\n\nCome have a drink\, study or play a game in The Living Room of The Pahud. Meet new people there or meet up with those you already know. Sometimes you can participate in a workshop. Everyone is welcome! On Mondays between 11 a.m. and 1 p.m. for women only. \n\nLocation\n\nLiving Room Plan Einstein Pahud | Pahud de Mortangesdreef 61 \n\nTransport\n\nEveryone can come by themselves \n\nRegistration\n\nNo need to sign up\, you can walk in anytime
URL:https://welkominutrecht.nu/en/agenda-item/open-walk-in-living-room-pahud-2/2025-03-25/
CATEGORIES:Cooking & eating,Games & Meeting
END:VEVENT
BEGIN:VEVENT
DTSTART;TZID=Europe/Amsterdam:20250324T190000
DTEND;TZID=Europe/Amsterdam:20250324T203000
DTSTAMP:20260419T222212
CREATED:20241224T111321Z
LAST-MODIFIED:20250103T113039Z
UID:10033880-1742842800-1742848200@welkominutrecht.nu
SUMMARY:Happy Hap Pahud with Buurtmaaltijden
DESCRIPTION:Description\n\nEverybody is welcome to come and have dinner with azc residents and neighborhood residents on Monday nights at Pahud\, organized by Buurtmaaltijden.  \n\nLocation\n\nLiving Room Plan Einstein Pahud | Pahud de Mortangesdreef 61 \n\nTransport\n\nGo the the location by yourself  \n\nRegistration\n\nWould you like to help cooking or would you like to join dinner? Contact Iman at 0653618681 or iman@welkominutrecht.nu.
URL:https://welkominutrecht.nu/en/agenda-item/happy-hap-pahud-with-buurtmaaltijden-3/2025-03-24/
CATEGORIES:Cooking & eating
END:VEVENT
BEGIN:VEVENT
DTSTART;TZID=Europe/Amsterdam:20250324T100000
DTEND;TZID=Europe/Amsterdam:20250324T160000
DTSTAMP:20260419T222212
CREATED:20241224T102918Z
LAST-MODIFIED:20250103T115857Z
UID:10034295-1742810400-1742832000@welkominutrecht.nu
SUMMARY:Open walk-in Living Room Pahud
DESCRIPTION:Description\n\nCome have a drink\, study or play a game in The Living Room of The Pahud. Meet new people there or meet up with those you already know. Sometimes you can participate in a workshop. Everyone is welcome! On Mondays between 11 a.m. and 1 p.m. for women only. \n\nLocation\n\nLiving Room Plan Einstein Pahud | Pahud de Mortangesdreef 61 \n\nTransport\n\nEveryone can come by themselves \n\nRegistration\n\nNo need to sign up\, you can walk in anytime
URL:https://welkominutrecht.nu/en/agenda-item/open-walk-in-living-room-pahud-2/2025-03-24/
CATEGORIES:Cooking & eating,Games & Meeting
END:VEVENT
BEGIN:VEVENT
DTSTART;TZID=Europe/Amsterdam:20250321T100000
DTEND;TZID=Europe/Amsterdam:20250321T160000
DTSTAMP:20260419T222212
CREATED:20241224T102918Z
LAST-MODIFIED:20250103T115857Z
UID:10034294-1742551200-1742572800@welkominutrecht.nu
SUMMARY:Open walk-in Living Room Pahud
DESCRIPTION:Description\n\nCome have a drink\, study or play a game in The Living Room of The Pahud. Meet new people there or meet up with those you already know. Sometimes you can participate in a workshop. Everyone is welcome! On Mondays between 11 a.m. and 1 p.m. for women only. \n\nLocation\n\nLiving Room Plan Einstein Pahud | Pahud de Mortangesdreef 61 \n\nTransport\n\nEveryone can come by themselves \n\nRegistration\n\nNo need to sign up\, you can walk in anytime
URL:https://welkominutrecht.nu/en/agenda-item/open-walk-in-living-room-pahud-2/2025-03-21/
CATEGORIES:Cooking & eating,Games & Meeting
END:VEVENT
BEGIN:VEVENT
DTSTART;TZID=Europe/Amsterdam:20250320T100000
DTEND;TZID=Europe/Amsterdam:20250320T160000
DTSTAMP:20260419T222212
CREATED:20241224T102918Z
LAST-MODIFIED:20250103T115857Z
UID:10034293-1742464800-1742486400@welkominutrecht.nu
SUMMARY:Open walk-in Living Room Pahud
DESCRIPTION:Description\n\nCome have a drink\, study or play a game in The Living Room of The Pahud. Meet new people there or meet up with those you already know. Sometimes you can participate in a workshop. Everyone is welcome! On Mondays between 11 a.m. and 1 p.m. for women only. \n\nLocation\n\nLiving Room Plan Einstein Pahud | Pahud de Mortangesdreef 61 \n\nTransport\n\nEveryone can come by themselves \n\nRegistration\n\nNo need to sign up\, you can walk in anytime
URL:https://welkominutrecht.nu/en/agenda-item/open-walk-in-living-room-pahud-2/2025-03-20/
CATEGORIES:Cooking & eating,Games & Meeting
END:VEVENT
BEGIN:VEVENT
DTSTART;TZID=Europe/Amsterdam:20250319T100000
DTEND;TZID=Europe/Amsterdam:20250319T160000
DTSTAMP:20260419T222212
CREATED:20241224T102918Z
LAST-MODIFIED:20250103T115857Z
UID:10034292-1742378400-1742400000@welkominutrecht.nu
SUMMARY:Open walk-in Living Room Pahud
DESCRIPTION:Description\n\nCome have a drink\, study or play a game in The Living Room of The Pahud. Meet new people there or meet up with those you already know. Sometimes you can participate in a workshop. Everyone is welcome! On Mondays between 11 a.m. and 1 p.m. for women only. \n\nLocation\n\nLiving Room Plan Einstein Pahud | Pahud de Mortangesdreef 61 \n\nTransport\n\nEveryone can come by themselves \n\nRegistration\n\nNo need to sign up\, you can walk in anytime
URL:https://welkominutrecht.nu/en/agenda-item/open-walk-in-living-room-pahud-2/2025-03-19/
CATEGORIES:Cooking & eating,Games & Meeting
END:VEVENT
BEGIN:VEVENT
DTSTART;TZID=Europe/Amsterdam:20250318T100000
DTEND;TZID=Europe/Amsterdam:20250318T160000
DTSTAMP:20260419T222212
CREATED:20241224T102918Z
LAST-MODIFIED:20250103T115857Z
UID:10034291-1742292000-1742313600@welkominutrecht.nu
SUMMARY:Open walk-in Living Room Pahud
DESCRIPTION:Description\n\nCome have a drink\, study or play a game in The Living Room of The Pahud. Meet new people there or meet up with those you already know. Sometimes you can participate in a workshop. Everyone is welcome! On Mondays between 11 a.m. and 1 p.m. for women only. \n\nLocation\n\nLiving Room Plan Einstein Pahud | Pahud de Mortangesdreef 61 \n\nTransport\n\nEveryone can come by themselves \n\nRegistration\n\nNo need to sign up\, you can walk in anytime
URL:https://welkominutrecht.nu/en/agenda-item/open-walk-in-living-room-pahud-2/2025-03-18/
CATEGORIES:Cooking & eating,Games & Meeting
END:VEVENT
BEGIN:VEVENT
DTSTART;TZID=Europe/Amsterdam:20250317T190000
DTEND;TZID=Europe/Amsterdam:20250317T203000
DTSTAMP:20260419T222212
CREATED:20241224T111321Z
LAST-MODIFIED:20250103T113039Z
UID:10033879-1742238000-1742243400@welkominutrecht.nu
SUMMARY:Happy Hap Pahud with Buurtmaaltijden
DESCRIPTION:Description\n\nEverybody is welcome to come and have dinner with azc residents and neighborhood residents on Monday nights at Pahud\, organized by Buurtmaaltijden.  \n\nLocation\n\nLiving Room Plan Einstein Pahud | Pahud de Mortangesdreef 61 \n\nTransport\n\nGo the the location by yourself  \n\nRegistration\n\nWould you like to help cooking or would you like to join dinner? Contact Iman at 0653618681 or iman@welkominutrecht.nu.
URL:https://welkominutrecht.nu/en/agenda-item/happy-hap-pahud-with-buurtmaaltijden-3/2025-03-17/
CATEGORIES:Cooking & eating
END:VEVENT
BEGIN:VEVENT
DTSTART;TZID=Europe/Amsterdam:20250317T100000
DTEND;TZID=Europe/Amsterdam:20250317T160000
DTSTAMP:20260419T222212
CREATED:20241224T102918Z
LAST-MODIFIED:20250103T115857Z
UID:10034290-1742205600-1742227200@welkominutrecht.nu
SUMMARY:Open walk-in Living Room Pahud
DESCRIPTION:Description\n\nCome have a drink\, study or play a game in The Living Room of The Pahud. Meet new people there or meet up with those you already know. Sometimes you can participate in a workshop. Everyone is welcome! On Mondays between 11 a.m. and 1 p.m. for women only. \n\nLocation\n\nLiving Room Plan Einstein Pahud | Pahud de Mortangesdreef 61 \n\nTransport\n\nEveryone can come by themselves \n\nRegistration\n\nNo need to sign up\, you can walk in anytime
URL:https://welkominutrecht.nu/en/agenda-item/open-walk-in-living-room-pahud-2/2025-03-17/
CATEGORIES:Cooking & eating,Games & Meeting
END:VEVENT
BEGIN:VEVENT
DTSTART;TZID=Europe/Amsterdam:20250314T100000
DTEND;TZID=Europe/Amsterdam:20250314T160000
DTSTAMP:20260419T222212
CREATED:20241224T102918Z
LAST-MODIFIED:20250103T115857Z
UID:10034289-1741946400-1741968000@welkominutrecht.nu
SUMMARY:Open walk-in Living Room Pahud
DESCRIPTION:Description\n\nCome have a drink\, study or play a game in The Living Room of The Pahud. Meet new people there or meet up with those you already know. Sometimes you can participate in a workshop. Everyone is welcome! On Mondays between 11 a.m. and 1 p.m. for women only. \n\nLocation\n\nLiving Room Plan Einstein Pahud | Pahud de Mortangesdreef 61 \n\nTransport\n\nEveryone can come by themselves \n\nRegistration\n\nNo need to sign up\, you can walk in anytime
URL:https://welkominutrecht.nu/en/agenda-item/open-walk-in-living-room-pahud-2/2025-03-14/
CATEGORIES:Cooking & eating,Games & Meeting
END:VEVENT
BEGIN:VEVENT
DTSTART;TZID=Europe/Amsterdam:20250313T180000
DTEND;TZID=Europe/Amsterdam:20250313T203000
DTSTAMP:20260419T222212
CREATED:20241224T110140Z
LAST-MODIFIED:20250103T112137Z
UID:10033674-1741888800-1741897800@welkominutrecht.nu
SUMMARY:Meet
DESCRIPTION:Description\n\nMijn Wijk Jouw Wijk organizes a meet-up night every first Thursday of the month from 6 p.m. – 8:30 p.m. in the neighborhood restaurant A Beautiful Mess (ABM) on the azc at Joseph Haydnlaan 2. About 30 neighborhood residents and 30 asylum seekers attend. Each time there is a different theme and we cook and eat together. The local residents pay for the azc residents. \n\nLocation\n\nRestaurant A Beautiful Mess | Joseph Haydnlaan 2\, Utrecht \n\nTransport\n\nEverybody goes to the location by themselves.  \n\nRegistration\n\nWould you like to join? You can register by sending an e-mail to mijnwijkjouwwijk@gmail.com.
URL:https://welkominutrecht.nu/en/agenda-item/meet/2025-03-13/
CATEGORIES:Cooking & eating,Games & Meeting,Getting to know Utrecht
END:VEVENT
BEGIN:VEVENT
DTSTART;TZID=Europe/Amsterdam:20250313T100000
DTEND;TZID=Europe/Amsterdam:20250313T160000
DTSTAMP:20260419T222212
CREATED:20241224T102918Z
LAST-MODIFIED:20250103T115857Z
UID:10034288-1741860000-1741881600@welkominutrecht.nu
SUMMARY:Open walk-in Living Room Pahud
DESCRIPTION:Description\n\nCome have a drink\, study or play a game in The Living Room of The Pahud. Meet new people there or meet up with those you already know. Sometimes you can participate in a workshop. Everyone is welcome! On Mondays between 11 a.m. and 1 p.m. for women only. \n\nLocation\n\nLiving Room Plan Einstein Pahud | Pahud de Mortangesdreef 61 \n\nTransport\n\nEveryone can come by themselves \n\nRegistration\n\nNo need to sign up\, you can walk in anytime
URL:https://welkominutrecht.nu/en/agenda-item/open-walk-in-living-room-pahud-2/2025-03-13/
CATEGORIES:Cooking & eating,Games & Meeting
END:VEVENT
BEGIN:VEVENT
DTSTART;TZID=Europe/Amsterdam:20250312T100000
DTEND;TZID=Europe/Amsterdam:20250312T160000
DTSTAMP:20260419T222212
CREATED:20241224T102918Z
LAST-MODIFIED:20250103T115857Z
UID:10034287-1741773600-1741795200@welkominutrecht.nu
SUMMARY:Open walk-in Living Room Pahud
DESCRIPTION:Description\n\nCome have a drink\, study or play a game in The Living Room of The Pahud. Meet new people there or meet up with those you already know. Sometimes you can participate in a workshop. Everyone is welcome! On Mondays between 11 a.m. and 1 p.m. for women only. \n\nLocation\n\nLiving Room Plan Einstein Pahud | Pahud de Mortangesdreef 61 \n\nTransport\n\nEveryone can come by themselves \n\nRegistration\n\nNo need to sign up\, you can walk in anytime
URL:https://welkominutrecht.nu/en/agenda-item/open-walk-in-living-room-pahud-2/2025-03-12/
CATEGORIES:Cooking & eating,Games & Meeting
END:VEVENT
BEGIN:VEVENT
DTSTART;TZID=Europe/Amsterdam:20250311T100000
DTEND;TZID=Europe/Amsterdam:20250311T160000
DTSTAMP:20260419T222212
CREATED:20241224T102918Z
LAST-MODIFIED:20250103T115857Z
UID:10034286-1741687200-1741708800@welkominutrecht.nu
SUMMARY:Open walk-in Living Room Pahud
DESCRIPTION:Description\n\nCome have a drink\, study or play a game in The Living Room of The Pahud. Meet new people there or meet up with those you already know. Sometimes you can participate in a workshop. Everyone is welcome! On Mondays between 11 a.m. and 1 p.m. for women only. \n\nLocation\n\nLiving Room Plan Einstein Pahud | Pahud de Mortangesdreef 61 \n\nTransport\n\nEveryone can come by themselves \n\nRegistration\n\nNo need to sign up\, you can walk in anytime
URL:https://welkominutrecht.nu/en/agenda-item/open-walk-in-living-room-pahud-2/2025-03-11/
CATEGORIES:Cooking & eating,Games & Meeting
END:VEVENT
BEGIN:VEVENT
DTSTART;TZID=Europe/Amsterdam:20250310T190000
DTEND;TZID=Europe/Amsterdam:20250310T203000
DTSTAMP:20260419T222212
CREATED:20241224T111321Z
LAST-MODIFIED:20250103T113039Z
UID:10033878-1741633200-1741638600@welkominutrecht.nu
SUMMARY:Happy Hap Pahud with Buurtmaaltijden
DESCRIPTION:Description\n\nEverybody is welcome to come and have dinner with azc residents and neighborhood residents on Monday nights at Pahud\, organized by Buurtmaaltijden.  \n\nLocation\n\nLiving Room Plan Einstein Pahud | Pahud de Mortangesdreef 61 \n\nTransport\n\nGo the the location by yourself  \n\nRegistration\n\nWould you like to help cooking or would you like to join dinner? Contact Iman at 0653618681 or iman@welkominutrecht.nu.
URL:https://welkominutrecht.nu/en/agenda-item/happy-hap-pahud-with-buurtmaaltijden-3/2025-03-10/
CATEGORIES:Cooking & eating
END:VEVENT
BEGIN:VEVENT
DTSTART;TZID=Europe/Amsterdam:20250310T100000
DTEND;TZID=Europe/Amsterdam:20250310T160000
DTSTAMP:20260419T222212
CREATED:20241224T102918Z
LAST-MODIFIED:20250103T115857Z
UID:10034285-1741600800-1741622400@welkominutrecht.nu
SUMMARY:Open walk-in Living Room Pahud
DESCRIPTION:Description\n\nCome have a drink\, study or play a game in The Living Room of The Pahud. Meet new people there or meet up with those you already know. Sometimes you can participate in a workshop. Everyone is welcome! On Mondays between 11 a.m. and 1 p.m. for women only. \n\nLocation\n\nLiving Room Plan Einstein Pahud | Pahud de Mortangesdreef 61 \n\nTransport\n\nEveryone can come by themselves \n\nRegistration\n\nNo need to sign up\, you can walk in anytime
URL:https://welkominutrecht.nu/en/agenda-item/open-walk-in-living-room-pahud-2/2025-03-10/
CATEGORIES:Cooking & eating,Games & Meeting
END:VEVENT
BEGIN:VEVENT
DTSTART;TZID=Europe/Amsterdam:20250307T100000
DTEND;TZID=Europe/Amsterdam:20250307T160000
DTSTAMP:20260419T222212
CREATED:20241224T102918Z
LAST-MODIFIED:20250103T115857Z
UID:10034284-1741341600-1741363200@welkominutrecht.nu
SUMMARY:Open walk-in Living Room Pahud
DESCRIPTION:Description\n\nCome have a drink\, study or play a game in The Living Room of The Pahud. Meet new people there or meet up with those you already know. Sometimes you can participate in a workshop. Everyone is welcome! On Mondays between 11 a.m. and 1 p.m. for women only. \n\nLocation\n\nLiving Room Plan Einstein Pahud | Pahud de Mortangesdreef 61 \n\nTransport\n\nEveryone can come by themselves \n\nRegistration\n\nNo need to sign up\, you can walk in anytime
URL:https://welkominutrecht.nu/en/agenda-item/open-walk-in-living-room-pahud-2/2025-03-07/
CATEGORIES:Cooking & eating,Games & Meeting
END:VEVENT
BEGIN:VEVENT
DTSTART;TZID=Europe/Amsterdam:20250306T100000
DTEND;TZID=Europe/Amsterdam:20250306T160000
DTSTAMP:20260419T222212
CREATED:20241224T102918Z
LAST-MODIFIED:20250103T115857Z
UID:10034283-1741255200-1741276800@welkominutrecht.nu
SUMMARY:Open walk-in Living Room Pahud
DESCRIPTION:Description\n\nCome have a drink\, study or play a game in The Living Room of The Pahud. Meet new people there or meet up with those you already know. Sometimes you can participate in a workshop. Everyone is welcome! On Mondays between 11 a.m. and 1 p.m. for women only. \n\nLocation\n\nLiving Room Plan Einstein Pahud | Pahud de Mortangesdreef 61 \n\nTransport\n\nEveryone can come by themselves \n\nRegistration\n\nNo need to sign up\, you can walk in anytime
URL:https://welkominutrecht.nu/en/agenda-item/open-walk-in-living-room-pahud-2/2025-03-06/
CATEGORIES:Cooking & eating,Games & Meeting
END:VEVENT
BEGIN:VEVENT
DTSTART;TZID=Europe/Amsterdam:20250305T100000
DTEND;TZID=Europe/Amsterdam:20250305T160000
DTSTAMP:20260419T222212
CREATED:20241224T102918Z
LAST-MODIFIED:20250103T115857Z
UID:10034282-1741168800-1741190400@welkominutrecht.nu
SUMMARY:Open walk-in Living Room Pahud
DESCRIPTION:Description\n\nCome have a drink\, study or play a game in The Living Room of The Pahud. Meet new people there or meet up with those you already know. Sometimes you can participate in a workshop. Everyone is welcome! On Mondays between 11 a.m. and 1 p.m. for women only. \n\nLocation\n\nLiving Room Plan Einstein Pahud | Pahud de Mortangesdreef 61 \n\nTransport\n\nEveryone can come by themselves \n\nRegistration\n\nNo need to sign up\, you can walk in anytime
URL:https://welkominutrecht.nu/en/agenda-item/open-walk-in-living-room-pahud-2/2025-03-05/
CATEGORIES:Cooking & eating,Games & Meeting
END:VEVENT
BEGIN:VEVENT
DTSTART;TZID=Europe/Amsterdam:20250304T100000
DTEND;TZID=Europe/Amsterdam:20250304T160000
DTSTAMP:20260419T222212
CREATED:20241224T102918Z
LAST-MODIFIED:20250103T115857Z
UID:10034281-1741082400-1741104000@welkominutrecht.nu
SUMMARY:Open walk-in Living Room Pahud
DESCRIPTION:Description\n\nCome have a drink\, study or play a game in The Living Room of The Pahud. Meet new people there or meet up with those you already know. Sometimes you can participate in a workshop. Everyone is welcome! On Mondays between 11 a.m. and 1 p.m. for women only. \n\nLocation\n\nLiving Room Plan Einstein Pahud | Pahud de Mortangesdreef 61 \n\nTransport\n\nEveryone can come by themselves \n\nRegistration\n\nNo need to sign up\, you can walk in anytime
URL:https://welkominutrecht.nu/en/agenda-item/open-walk-in-living-room-pahud-2/2025-03-04/
CATEGORIES:Cooking & eating,Games & Meeting
END:VEVENT
BEGIN:VEVENT
DTSTART;TZID=Europe/Amsterdam:20250303T190000
DTEND;TZID=Europe/Amsterdam:20250303T203000
DTSTAMP:20260419T222212
CREATED:20241224T111321Z
LAST-MODIFIED:20250103T113039Z
UID:10033877-1741028400-1741033800@welkominutrecht.nu
SUMMARY:Happy Hap Pahud with Buurtmaaltijden
DESCRIPTION:Description\n\nEverybody is welcome to come and have dinner with azc residents and neighborhood residents on Monday nights at Pahud\, organized by Buurtmaaltijden.  \n\nLocation\n\nLiving Room Plan Einstein Pahud | Pahud de Mortangesdreef 61 \n\nTransport\n\nGo the the location by yourself  \n\nRegistration\n\nWould you like to help cooking or would you like to join dinner? Contact Iman at 0653618681 or iman@welkominutrecht.nu.
URL:https://welkominutrecht.nu/en/agenda-item/happy-hap-pahud-with-buurtmaaltijden-3/2025-03-03/
CATEGORIES:Cooking & eating
END:VEVENT
BEGIN:VEVENT
DTSTART;TZID=Europe/Amsterdam:20250303T100000
DTEND;TZID=Europe/Amsterdam:20250303T160000
DTSTAMP:20260419T222212
CREATED:20241224T102918Z
LAST-MODIFIED:20250103T115857Z
UID:10034280-1740996000-1741017600@welkominutrecht.nu
SUMMARY:Open walk-in Living Room Pahud
DESCRIPTION:Description\n\nCome have a drink\, study or play a game in The Living Room of The Pahud. Meet new people there or meet up with those you already know. Sometimes you can participate in a workshop. Everyone is welcome! On Mondays between 11 a.m. and 1 p.m. for women only. \n\nLocation\n\nLiving Room Plan Einstein Pahud | Pahud de Mortangesdreef 61 \n\nTransport\n\nEveryone can come by themselves \n\nRegistration\n\nNo need to sign up\, you can walk in anytime
URL:https://welkominutrecht.nu/en/agenda-item/open-walk-in-living-room-pahud-2/2025-03-03/
CATEGORIES:Cooking & eating,Games & Meeting
END:VEVENT
BEGIN:VEVENT
DTSTART;TZID=Europe/Amsterdam:20250228T100000
DTEND;TZID=Europe/Amsterdam:20250228T160000
DTSTAMP:20260419T222212
CREATED:20241224T102918Z
LAST-MODIFIED:20250103T115857Z
UID:10034279-1740736800-1740758400@welkominutrecht.nu
SUMMARY:Open walk-in Living Room Pahud
DESCRIPTION:Description\n\nCome have a drink\, study or play a game in The Living Room of The Pahud. Meet new people there or meet up with those you already know. Sometimes you can participate in a workshop. Everyone is welcome! On Mondays between 11 a.m. and 1 p.m. for women only. \n\nLocation\n\nLiving Room Plan Einstein Pahud | Pahud de Mortangesdreef 61 \n\nTransport\n\nEveryone can come by themselves \n\nRegistration\n\nNo need to sign up\, you can walk in anytime
URL:https://welkominutrecht.nu/en/agenda-item/open-walk-in-living-room-pahud-2/2025-02-28/
CATEGORIES:Cooking & eating,Games & Meeting
END:VEVENT
BEGIN:VEVENT
DTSTART;TZID=Europe/Amsterdam:20250227T100000
DTEND;TZID=Europe/Amsterdam:20250227T160000
DTSTAMP:20260419T222212
CREATED:20241224T102918Z
LAST-MODIFIED:20250103T115857Z
UID:10034278-1740650400-1740672000@welkominutrecht.nu
SUMMARY:Open walk-in Living Room Pahud
DESCRIPTION:Description\n\nCome have a drink\, study or play a game in The Living Room of The Pahud. Meet new people there or meet up with those you already know. Sometimes you can participate in a workshop. Everyone is welcome! On Mondays between 11 a.m. and 1 p.m. for women only. \n\nLocation\n\nLiving Room Plan Einstein Pahud | Pahud de Mortangesdreef 61 \n\nTransport\n\nEveryone can come by themselves \n\nRegistration\n\nNo need to sign up\, you can walk in anytime
URL:https://welkominutrecht.nu/en/agenda-item/open-walk-in-living-room-pahud-2/2025-02-27/
CATEGORIES:Cooking & eating,Games & Meeting
END:VEVENT
BEGIN:VEVENT
DTSTART;TZID=Europe/Amsterdam:20250226T100000
DTEND;TZID=Europe/Amsterdam:20250226T160000
DTSTAMP:20260419T222212
CREATED:20241224T102918Z
LAST-MODIFIED:20250103T115857Z
UID:10034277-1740564000-1740585600@welkominutrecht.nu
SUMMARY:Open walk-in Living Room Pahud
DESCRIPTION:Description\n\nCome have a drink\, study or play a game in The Living Room of The Pahud. Meet new people there or meet up with those you already know. Sometimes you can participate in a workshop. Everyone is welcome! On Mondays between 11 a.m. and 1 p.m. for women only. \n\nLocation\n\nLiving Room Plan Einstein Pahud | Pahud de Mortangesdreef 61 \n\nTransport\n\nEveryone can come by themselves \n\nRegistration\n\nNo need to sign up\, you can walk in anytime
URL:https://welkominutrecht.nu/en/agenda-item/open-walk-in-living-room-pahud-2/2025-02-26/
CATEGORIES:Cooking & eating,Games & Meeting
END:VEVENT
BEGIN:VEVENT
DTSTART;TZID=Europe/Amsterdam:20250225T100000
DTEND;TZID=Europe/Amsterdam:20250225T160000
DTSTAMP:20260419T222212
CREATED:20241224T102918Z
LAST-MODIFIED:20250103T115857Z
UID:10034276-1740477600-1740499200@welkominutrecht.nu
SUMMARY:Open walk-in Living Room Pahud
DESCRIPTION:Description\n\nCome have a drink\, study or play a game in The Living Room of The Pahud. Meet new people there or meet up with those you already know. Sometimes you can participate in a workshop. Everyone is welcome! On Mondays between 11 a.m. and 1 p.m. for women only. \n\nLocation\n\nLiving Room Plan Einstein Pahud | Pahud de Mortangesdreef 61 \n\nTransport\n\nEveryone can come by themselves \n\nRegistration\n\nNo need to sign up\, you can walk in anytime
URL:https://welkominutrecht.nu/en/agenda-item/open-walk-in-living-room-pahud-2/2025-02-25/
CATEGORIES:Cooking & eating,Games & Meeting
END:VEVENT
BEGIN:VEVENT
DTSTART;TZID=Europe/Amsterdam:20250224T190000
DTEND;TZID=Europe/Amsterdam:20250224T203000
DTSTAMP:20260419T222212
CREATED:20241224T111321Z
LAST-MODIFIED:20250103T113039Z
UID:10033876-1740423600-1740429000@welkominutrecht.nu
SUMMARY:Happy Hap Pahud with Buurtmaaltijden
DESCRIPTION:Description\n\nEverybody is welcome to come and have dinner with azc residents and neighborhood residents on Monday nights at Pahud\, organized by Buurtmaaltijden.  \n\nLocation\n\nLiving Room Plan Einstein Pahud | Pahud de Mortangesdreef 61 \n\nTransport\n\nGo the the location by yourself  \n\nRegistration\n\nWould you like to help cooking or would you like to join dinner? Contact Iman at 0653618681 or iman@welkominutrecht.nu.
URL:https://welkominutrecht.nu/en/agenda-item/happy-hap-pahud-with-buurtmaaltijden-3/2025-02-24/
CATEGORIES:Cooking & eating
END:VEVENT
END:VCALENDAR