BEGIN:VCALENDAR
VERSION:2.0
PRODID:-//Welkom in Utrecht | Verbindt vluchtelingen met Utrecht - ECPv6.15.18//NONSGML v1.0//EN
CALSCALE:GREGORIAN
METHOD:PUBLISH
X-ORIGINAL-URL:https://welkominutrecht.nu/en/
X-WR-CALDESC:Events for Welkom in Utrecht | Verbindt vluchtelingen met Utrecht
REFRESH-INTERVAL;VALUE=DURATION:PT1H
X-Robots-Tag:noindex
X-PUBLISHED-TTL:PT1H
BEGIN:VTIMEZONE
TZID:Europe/Amsterdam
BEGIN:DAYLIGHT
TZOFFSETFROM:+0100
TZOFFSETTO:+0200
TZNAME:CEST
DTSTART:20230326T010000
END:DAYLIGHT
BEGIN:STANDARD
TZOFFSETFROM:+0200
TZOFFSETTO:+0100
TZNAME:CET
DTSTART:20231029T010000
END:STANDARD
BEGIN:DAYLIGHT
TZOFFSETFROM:+0100
TZOFFSETTO:+0200
TZNAME:CEST
DTSTART:20240331T010000
END:DAYLIGHT
BEGIN:STANDARD
TZOFFSETFROM:+0200
TZOFFSETTO:+0100
TZNAME:CET
DTSTART:20241027T010000
END:STANDARD
BEGIN:DAYLIGHT
TZOFFSETFROM:+0100
TZOFFSETTO:+0200
TZNAME:CEST
DTSTART:20250330T010000
END:DAYLIGHT
BEGIN:STANDARD
TZOFFSETFROM:+0200
TZOFFSETTO:+0100
TZNAME:CET
DTSTART:20251026T010000
END:STANDARD
BEGIN:DAYLIGHT
TZOFFSETFROM:+0100
TZOFFSETTO:+0200
TZNAME:CEST
DTSTART:20260329T010000
END:DAYLIGHT
BEGIN:STANDARD
TZOFFSETFROM:+0200
TZOFFSETTO:+0100
TZNAME:CET
DTSTART:20261025T010000
END:STANDARD
END:VTIMEZONE
BEGIN:VEVENT
DTSTART;TZID=Europe/Amsterdam:20250324T110000
DTEND;TZID=Europe/Amsterdam:20250324T130000
DTSTAMP:20260423T092316
CREATED:20241224T110817Z
LAST-MODIFIED:20250103T113426Z
UID:10033932-1742814000-1742821200@welkominutrecht.nu
SUMMARY:Women cafe Star Lodge
DESCRIPTION:Description\n\nA weekly afternoon especially for women at Star Lodge. Every week there is a different\, fun activity to do together!  \n\nLocation\n\nLiving Room Star Lodge | Biltsestraatweg 92 \n\nTransport\n\nEveryone comes to the location themselves \n\nRegistration\n\nMore info with Deema: 06-40776030
URL:https://welkominutrecht.nu/en/agenda-item/women-cafe-star-lodge-2/2025-03-24/
CATEGORIES:Beauty & body,Creativity & crafts,Games & Meeting
END:VEVENT
BEGIN:VEVENT
DTSTART;TZID=Europe/Amsterdam:20250320T110000
DTEND;TZID=Europe/Amsterdam:20250320T130000
DTSTAMP:20260423T092316
CREATED:20241224T105710Z
LAST-MODIFIED:20250103T115431Z
UID:10034183-1742468400-1742475600@welkominutrecht.nu
SUMMARY:Time for women Pahud
DESCRIPTION:Description\n\nThe Living Room at Pahud is open on Thursdays between 11 and 1 o’clock especially for women. In that time there will be danced\, painted\, or something delicious will be baked. Feel welcome to join\, also if you just would like to have a chat or listen to music.  \n\nLocation\n\nLiving Room Plan Einstein Pahud | Pahud de Mortangesdreef 61 \n\nTransport\n\nEveryone comes to the location themselves \n\nRegistration\n\nNo need to sign up\, you can just walk in
URL:https://welkominutrecht.nu/en/agenda-item/time-for-women-pahud-2/2025-03-20/
CATEGORIES:Beauty & body,Creativity & crafts,Games & Meeting,Music
END:VEVENT
BEGIN:VEVENT
DTSTART;TZID=Europe/Amsterdam:20250317T110000
DTEND;TZID=Europe/Amsterdam:20250317T130000
DTSTAMP:20260423T092316
CREATED:20241224T110817Z
LAST-MODIFIED:20250103T113426Z
UID:10033931-1742209200-1742216400@welkominutrecht.nu
SUMMARY:Women cafe Star Lodge
DESCRIPTION:Description\n\nA weekly afternoon especially for women at Star Lodge. Every week there is a different\, fun activity to do together!  \n\nLocation\n\nLiving Room Star Lodge | Biltsestraatweg 92 \n\nTransport\n\nEveryone comes to the location themselves \n\nRegistration\n\nMore info with Deema: 06-40776030
URL:https://welkominutrecht.nu/en/agenda-item/women-cafe-star-lodge-2/2025-03-17/
CATEGORIES:Beauty & body,Creativity & crafts,Games & Meeting
END:VEVENT
BEGIN:VEVENT
DTSTART;TZID=Europe/Amsterdam:20250313T110000
DTEND;TZID=Europe/Amsterdam:20250313T130000
DTSTAMP:20260423T092316
CREATED:20241224T105710Z
LAST-MODIFIED:20250103T115431Z
UID:10034182-1741863600-1741870800@welkominutrecht.nu
SUMMARY:Time for women Pahud
DESCRIPTION:Description\n\nThe Living Room at Pahud is open on Thursdays between 11 and 1 o’clock especially for women. In that time there will be danced\, painted\, or something delicious will be baked. Feel welcome to join\, also if you just would like to have a chat or listen to music.  \n\nLocation\n\nLiving Room Plan Einstein Pahud | Pahud de Mortangesdreef 61 \n\nTransport\n\nEveryone comes to the location themselves \n\nRegistration\n\nNo need to sign up\, you can just walk in
URL:https://welkominutrecht.nu/en/agenda-item/time-for-women-pahud-2/2025-03-13/
CATEGORIES:Beauty & body,Creativity & crafts,Games & Meeting,Music
END:VEVENT
BEGIN:VEVENT
DTSTART;TZID=Europe/Amsterdam:20250310T110000
DTEND;TZID=Europe/Amsterdam:20250310T130000
DTSTAMP:20260423T092316
CREATED:20241224T110817Z
LAST-MODIFIED:20250103T113426Z
UID:10033930-1741604400-1741611600@welkominutrecht.nu
SUMMARY:Women cafe Star Lodge
DESCRIPTION:Description\n\nA weekly afternoon especially for women at Star Lodge. Every week there is a different\, fun activity to do together!  \n\nLocation\n\nLiving Room Star Lodge | Biltsestraatweg 92 \n\nTransport\n\nEveryone comes to the location themselves \n\nRegistration\n\nMore info with Deema: 06-40776030
URL:https://welkominutrecht.nu/en/agenda-item/women-cafe-star-lodge-2/2025-03-10/
CATEGORIES:Beauty & body,Creativity & crafts,Games & Meeting
END:VEVENT
BEGIN:VEVENT
DTSTART;TZID=Europe/Amsterdam:20250306T110000
DTEND;TZID=Europe/Amsterdam:20250306T130000
DTSTAMP:20260423T092316
CREATED:20241224T105710Z
LAST-MODIFIED:20250103T115431Z
UID:10034181-1741258800-1741266000@welkominutrecht.nu
SUMMARY:Time for women Pahud
DESCRIPTION:Description\n\nThe Living Room at Pahud is open on Thursdays between 11 and 1 o’clock especially for women. In that time there will be danced\, painted\, or something delicious will be baked. Feel welcome to join\, also if you just would like to have a chat or listen to music.  \n\nLocation\n\nLiving Room Plan Einstein Pahud | Pahud de Mortangesdreef 61 \n\nTransport\n\nEveryone comes to the location themselves \n\nRegistration\n\nNo need to sign up\, you can just walk in
URL:https://welkominutrecht.nu/en/agenda-item/time-for-women-pahud-2/2025-03-06/
CATEGORIES:Beauty & body,Creativity & crafts,Games & Meeting,Music
END:VEVENT
BEGIN:VEVENT
DTSTART;TZID=Europe/Amsterdam:20250303T110000
DTEND;TZID=Europe/Amsterdam:20250303T130000
DTSTAMP:20260423T092316
CREATED:20241224T110817Z
LAST-MODIFIED:20250103T113426Z
UID:10033929-1740999600-1741006800@welkominutrecht.nu
SUMMARY:Women cafe Star Lodge
DESCRIPTION:Description\n\nA weekly afternoon especially for women at Star Lodge. Every week there is a different\, fun activity to do together!  \n\nLocation\n\nLiving Room Star Lodge | Biltsestraatweg 92 \n\nTransport\n\nEveryone comes to the location themselves \n\nRegistration\n\nMore info with Deema: 06-40776030
URL:https://welkominutrecht.nu/en/agenda-item/women-cafe-star-lodge-2/2025-03-03/
CATEGORIES:Beauty & body,Creativity & crafts,Games & Meeting
END:VEVENT
BEGIN:VEVENT
DTSTART;TZID=Europe/Amsterdam:20250227T110000
DTEND;TZID=Europe/Amsterdam:20250227T130000
DTSTAMP:20260423T092316
CREATED:20241224T105710Z
LAST-MODIFIED:20250103T115431Z
UID:10034180-1740654000-1740661200@welkominutrecht.nu
SUMMARY:Time for women Pahud
DESCRIPTION:Description\n\nThe Living Room at Pahud is open on Thursdays between 11 and 1 o’clock especially for women. In that time there will be danced\, painted\, or something delicious will be baked. Feel welcome to join\, also if you just would like to have a chat or listen to music.  \n\nLocation\n\nLiving Room Plan Einstein Pahud | Pahud de Mortangesdreef 61 \n\nTransport\n\nEveryone comes to the location themselves \n\nRegistration\n\nNo need to sign up\, you can just walk in
URL:https://welkominutrecht.nu/en/agenda-item/time-for-women-pahud-2/2025-02-27/
CATEGORIES:Beauty & body,Creativity & crafts,Games & Meeting,Music
END:VEVENT
BEGIN:VEVENT
DTSTART;TZID=Europe/Amsterdam:20250224T110000
DTEND;TZID=Europe/Amsterdam:20250224T130000
DTSTAMP:20260423T092316
CREATED:20241224T110817Z
LAST-MODIFIED:20250103T113426Z
UID:10033928-1740394800-1740402000@welkominutrecht.nu
SUMMARY:Women cafe Star Lodge
DESCRIPTION:Description\n\nA weekly afternoon especially for women at Star Lodge. Every week there is a different\, fun activity to do together!  \n\nLocation\n\nLiving Room Star Lodge | Biltsestraatweg 92 \n\nTransport\n\nEveryone comes to the location themselves \n\nRegistration\n\nMore info with Deema: 06-40776030
URL:https://welkominutrecht.nu/en/agenda-item/women-cafe-star-lodge-2/2025-02-24/
CATEGORIES:Beauty & body,Creativity & crafts,Games & Meeting
END:VEVENT
BEGIN:VEVENT
DTSTART;TZID=Europe/Amsterdam:20250220T110000
DTEND;TZID=Europe/Amsterdam:20250220T130000
DTSTAMP:20260423T092316
CREATED:20241224T105710Z
LAST-MODIFIED:20250103T115431Z
UID:10034179-1740049200-1740056400@welkominutrecht.nu
SUMMARY:Time for women Pahud
DESCRIPTION:Description\n\nThe Living Room at Pahud is open on Thursdays between 11 and 1 o’clock especially for women. In that time there will be danced\, painted\, or something delicious will be baked. Feel welcome to join\, also if you just would like to have a chat or listen to music.  \n\nLocation\n\nLiving Room Plan Einstein Pahud | Pahud de Mortangesdreef 61 \n\nTransport\n\nEveryone comes to the location themselves \n\nRegistration\n\nNo need to sign up\, you can just walk in
URL:https://welkominutrecht.nu/en/agenda-item/time-for-women-pahud-2/2025-02-20/
CATEGORIES:Beauty & body,Creativity & crafts,Games & Meeting,Music
END:VEVENT
BEGIN:VEVENT
DTSTART;TZID=Europe/Amsterdam:20250217T110000
DTEND;TZID=Europe/Amsterdam:20250217T130000
DTSTAMP:20260423T092316
CREATED:20241224T110817Z
LAST-MODIFIED:20250103T113426Z
UID:10033927-1739790000-1739797200@welkominutrecht.nu
SUMMARY:Women cafe Star Lodge
DESCRIPTION:Description\n\nA weekly afternoon especially for women at Star Lodge. Every week there is a different\, fun activity to do together!  \n\nLocation\n\nLiving Room Star Lodge | Biltsestraatweg 92 \n\nTransport\n\nEveryone comes to the location themselves \n\nRegistration\n\nMore info with Deema: 06-40776030
URL:https://welkominutrecht.nu/en/agenda-item/women-cafe-star-lodge-2/2025-02-17/
CATEGORIES:Beauty & body,Creativity & crafts,Games & Meeting
END:VEVENT
BEGIN:VEVENT
DTSTART;TZID=Europe/Amsterdam:20250213T110000
DTEND;TZID=Europe/Amsterdam:20250213T130000
DTSTAMP:20260423T092316
CREATED:20241224T105710Z
LAST-MODIFIED:20250103T115431Z
UID:10034178-1739444400-1739451600@welkominutrecht.nu
SUMMARY:Time for women Pahud
DESCRIPTION:Description\n\nThe Living Room at Pahud is open on Thursdays between 11 and 1 o’clock especially for women. In that time there will be danced\, painted\, or something delicious will be baked. Feel welcome to join\, also if you just would like to have a chat or listen to music.  \n\nLocation\n\nLiving Room Plan Einstein Pahud | Pahud de Mortangesdreef 61 \n\nTransport\n\nEveryone comes to the location themselves \n\nRegistration\n\nNo need to sign up\, you can just walk in
URL:https://welkominutrecht.nu/en/agenda-item/time-for-women-pahud-2/2025-02-13/
CATEGORIES:Beauty & body,Creativity & crafts,Games & Meeting,Music
END:VEVENT
BEGIN:VEVENT
DTSTART;TZID=Europe/Amsterdam:20250210T110000
DTEND;TZID=Europe/Amsterdam:20250210T130000
DTSTAMP:20260423T092316
CREATED:20241224T110817Z
LAST-MODIFIED:20250103T113426Z
UID:10033926-1739185200-1739192400@welkominutrecht.nu
SUMMARY:Women cafe Star Lodge
DESCRIPTION:Description\n\nA weekly afternoon especially for women at Star Lodge. Every week there is a different\, fun activity to do together!  \n\nLocation\n\nLiving Room Star Lodge | Biltsestraatweg 92 \n\nTransport\n\nEveryone comes to the location themselves \n\nRegistration\n\nMore info with Deema: 06-40776030
URL:https://welkominutrecht.nu/en/agenda-item/women-cafe-star-lodge-2/2025-02-10/
CATEGORIES:Beauty & body,Creativity & crafts,Games & Meeting
END:VEVENT
BEGIN:VEVENT
DTSTART;TZID=Europe/Amsterdam:20250206T110000
DTEND;TZID=Europe/Amsterdam:20250206T130000
DTSTAMP:20260423T092316
CREATED:20241224T105710Z
LAST-MODIFIED:20250103T115431Z
UID:10034177-1738839600-1738846800@welkominutrecht.nu
SUMMARY:Time for women Pahud
DESCRIPTION:Description\n\nThe Living Room at Pahud is open on Thursdays between 11 and 1 o’clock especially for women. In that time there will be danced\, painted\, or something delicious will be baked. Feel welcome to join\, also if you just would like to have a chat or listen to music.  \n\nLocation\n\nLiving Room Plan Einstein Pahud | Pahud de Mortangesdreef 61 \n\nTransport\n\nEveryone comes to the location themselves \n\nRegistration\n\nNo need to sign up\, you can just walk in
URL:https://welkominutrecht.nu/en/agenda-item/time-for-women-pahud-2/2025-02-06/
CATEGORIES:Beauty & body,Creativity & crafts,Games & Meeting,Music
END:VEVENT
BEGIN:VEVENT
DTSTART;TZID=Europe/Amsterdam:20250203T110000
DTEND;TZID=Europe/Amsterdam:20250203T130000
DTSTAMP:20260423T092316
CREATED:20241224T110817Z
LAST-MODIFIED:20250103T113426Z
UID:10033925-1738580400-1738587600@welkominutrecht.nu
SUMMARY:Women cafe Star Lodge
DESCRIPTION:Description\n\nA weekly afternoon especially for women at Star Lodge. Every week there is a different\, fun activity to do together!  \n\nLocation\n\nLiving Room Star Lodge | Biltsestraatweg 92 \n\nTransport\n\nEveryone comes to the location themselves \n\nRegistration\n\nMore info with Deema: 06-40776030
URL:https://welkominutrecht.nu/en/agenda-item/women-cafe-star-lodge-2/2025-02-03/
CATEGORIES:Beauty & body,Creativity & crafts,Games & Meeting
END:VEVENT
BEGIN:VEVENT
DTSTART;TZID=Europe/Amsterdam:20250130T110000
DTEND;TZID=Europe/Amsterdam:20250130T130000
DTSTAMP:20260423T092316
CREATED:20241224T105710Z
LAST-MODIFIED:20250103T115431Z
UID:10034176-1738234800-1738242000@welkominutrecht.nu
SUMMARY:Time for women Pahud
DESCRIPTION:Description\n\nThe Living Room at Pahud is open on Thursdays between 11 and 1 o’clock especially for women. In that time there will be danced\, painted\, or something delicious will be baked. Feel welcome to join\, also if you just would like to have a chat or listen to music.  \n\nLocation\n\nLiving Room Plan Einstein Pahud | Pahud de Mortangesdreef 61 \n\nTransport\n\nEveryone comes to the location themselves \n\nRegistration\n\nNo need to sign up\, you can just walk in
URL:https://welkominutrecht.nu/en/agenda-item/time-for-women-pahud-2/2025-01-30/
CATEGORIES:Beauty & body,Creativity & crafts,Games & Meeting,Music
END:VEVENT
BEGIN:VEVENT
DTSTART;TZID=Europe/Amsterdam:20250127T110000
DTEND;TZID=Europe/Amsterdam:20250127T130000
DTSTAMP:20260423T092316
CREATED:20241224T110817Z
LAST-MODIFIED:20250103T113426Z
UID:10033924-1737975600-1737982800@welkominutrecht.nu
SUMMARY:Women cafe Star Lodge
DESCRIPTION:Description\n\nA weekly afternoon especially for women at Star Lodge. Every week there is a different\, fun activity to do together!  \n\nLocation\n\nLiving Room Star Lodge | Biltsestraatweg 92 \n\nTransport\n\nEveryone comes to the location themselves \n\nRegistration\n\nMore info with Deema: 06-40776030
URL:https://welkominutrecht.nu/en/agenda-item/women-cafe-star-lodge-2/2025-01-27/
CATEGORIES:Beauty & body,Creativity & crafts,Games & Meeting
END:VEVENT
BEGIN:VEVENT
DTSTART;TZID=Europe/Amsterdam:20250123T110000
DTEND;TZID=Europe/Amsterdam:20250123T130000
DTSTAMP:20260423T092316
CREATED:20241224T105710Z
LAST-MODIFIED:20250103T115431Z
UID:10034175-1737630000-1737637200@welkominutrecht.nu
SUMMARY:Time for women Pahud
DESCRIPTION:Description\n\nThe Living Room at Pahud is open on Thursdays between 11 and 1 o’clock especially for women. In that time there will be danced\, painted\, or something delicious will be baked. Feel welcome to join\, also if you just would like to have a chat or listen to music.  \n\nLocation\n\nLiving Room Plan Einstein Pahud | Pahud de Mortangesdreef 61 \n\nTransport\n\nEveryone comes to the location themselves \n\nRegistration\n\nNo need to sign up\, you can just walk in
URL:https://welkominutrecht.nu/en/agenda-item/time-for-women-pahud-2/2025-01-23/
CATEGORIES:Beauty & body,Creativity & crafts,Games & Meeting,Music
END:VEVENT
BEGIN:VEVENT
DTSTART;TZID=Europe/Amsterdam:20250120T110000
DTEND;TZID=Europe/Amsterdam:20250120T130000
DTSTAMP:20260423T092316
CREATED:20241224T110817Z
LAST-MODIFIED:20250103T113426Z
UID:10033923-1737370800-1737378000@welkominutrecht.nu
SUMMARY:Women cafe Star Lodge
DESCRIPTION:Description\n\nA weekly afternoon especially for women at Star Lodge. Every week there is a different\, fun activity to do together!  \n\nLocation\n\nLiving Room Star Lodge | Biltsestraatweg 92 \n\nTransport\n\nEveryone comes to the location themselves \n\nRegistration\n\nMore info with Deema: 06-40776030
URL:https://welkominutrecht.nu/en/agenda-item/women-cafe-star-lodge-2/2025-01-20/
CATEGORIES:Beauty & body,Creativity & crafts,Games & Meeting
END:VEVENT
BEGIN:VEVENT
DTSTART;TZID=Europe/Amsterdam:20250116T110000
DTEND;TZID=Europe/Amsterdam:20250116T130000
DTSTAMP:20260423T092316
CREATED:20241224T105710Z
LAST-MODIFIED:20250103T115431Z
UID:10034174-1737025200-1737032400@welkominutrecht.nu
SUMMARY:Time for women Pahud
DESCRIPTION:Description\n\nThe Living Room at Pahud is open on Thursdays between 11 and 1 o’clock especially for women. In that time there will be danced\, painted\, or something delicious will be baked. Feel welcome to join\, also if you just would like to have a chat or listen to music.  \n\nLocation\n\nLiving Room Plan Einstein Pahud | Pahud de Mortangesdreef 61 \n\nTransport\n\nEveryone comes to the location themselves \n\nRegistration\n\nNo need to sign up\, you can just walk in
URL:https://welkominutrecht.nu/en/agenda-item/time-for-women-pahud-2/2025-01-16/
CATEGORIES:Beauty & body,Creativity & crafts,Games & Meeting,Music
END:VEVENT
BEGIN:VEVENT
DTSTART;TZID=Europe/Amsterdam:20250113T110000
DTEND;TZID=Europe/Amsterdam:20250113T130000
DTSTAMP:20260423T092316
CREATED:20241224T110817Z
LAST-MODIFIED:20250103T113426Z
UID:10033922-1736766000-1736773200@welkominutrecht.nu
SUMMARY:Women cafe Star Lodge
DESCRIPTION:Description\n\nA weekly afternoon especially for women at Star Lodge. Every week there is a different\, fun activity to do together!  \n\nLocation\n\nLiving Room Star Lodge | Biltsestraatweg 92 \n\nTransport\n\nEveryone comes to the location themselves \n\nRegistration\n\nMore info with Deema: 06-40776030
URL:https://welkominutrecht.nu/en/agenda-item/women-cafe-star-lodge-2/2025-01-13/
CATEGORIES:Beauty & body,Creativity & crafts,Games & Meeting
END:VEVENT
BEGIN:VEVENT
DTSTART;TZID=Europe/Amsterdam:20250109T110000
DTEND;TZID=Europe/Amsterdam:20250109T130000
DTSTAMP:20260423T092316
CREATED:20241224T105710Z
LAST-MODIFIED:20250103T115431Z
UID:10034173-1736420400-1736427600@welkominutrecht.nu
SUMMARY:Time for women Pahud
DESCRIPTION:Description\n\nThe Living Room at Pahud is open on Thursdays between 11 and 1 o’clock especially for women. In that time there will be danced\, painted\, or something delicious will be baked. Feel welcome to join\, also if you just would like to have a chat or listen to music.  \n\nLocation\n\nLiving Room Plan Einstein Pahud | Pahud de Mortangesdreef 61 \n\nTransport\n\nEveryone comes to the location themselves \n\nRegistration\n\nNo need to sign up\, you can just walk in
URL:https://welkominutrecht.nu/en/agenda-item/time-for-women-pahud-2/2025-01-09/
CATEGORIES:Beauty & body,Creativity & crafts,Games & Meeting,Music
END:VEVENT
BEGIN:VEVENT
DTSTART;TZID=Europe/Amsterdam:20250106T110000
DTEND;TZID=Europe/Amsterdam:20250106T130000
DTSTAMP:20260423T092316
CREATED:20241224T110817Z
LAST-MODIFIED:20250103T113426Z
UID:10033921-1736161200-1736168400@welkominutrecht.nu
SUMMARY:Women cafe Star Lodge
DESCRIPTION:Description\n\nA weekly afternoon especially for women at Star Lodge. Every week there is a different\, fun activity to do together!  \n\nLocation\n\nLiving Room Star Lodge | Biltsestraatweg 92 \n\nTransport\n\nEveryone comes to the location themselves \n\nRegistration\n\nMore info with Deema: 06-40776030
URL:https://welkominutrecht.nu/en/agenda-item/women-cafe-star-lodge-2/2025-01-06/
CATEGORIES:Beauty & body,Creativity & crafts,Games & Meeting
END:VEVENT
BEGIN:VEVENT
DTSTART;TZID=Europe/Amsterdam:20250102T110000
DTEND;TZID=Europe/Amsterdam:20250102T130000
DTSTAMP:20260423T092316
CREATED:20241224T105710Z
LAST-MODIFIED:20250103T115431Z
UID:10034172-1735815600-1735822800@welkominutrecht.nu
SUMMARY:Time for women Pahud
DESCRIPTION:Description\n\nThe Living Room at Pahud is open on Thursdays between 11 and 1 o’clock especially for women. In that time there will be danced\, painted\, or something delicious will be baked. Feel welcome to join\, also if you just would like to have a chat or listen to music.  \n\nLocation\n\nLiving Room Plan Einstein Pahud | Pahud de Mortangesdreef 61 \n\nTransport\n\nEveryone comes to the location themselves \n\nRegistration\n\nNo need to sign up\, you can just walk in
URL:https://welkominutrecht.nu/en/agenda-item/time-for-women-pahud-2/2025-01-02/
CATEGORIES:Beauty & body,Creativity & crafts,Games & Meeting,Music
END:VEVENT
BEGIN:VEVENT
DTSTART;TZID=Europe/Amsterdam:20241230T110000
DTEND;TZID=Europe/Amsterdam:20241230T130000
DTSTAMP:20260423T092316
CREATED:20240918T100214Z
LAST-MODIFIED:20240918T100425Z
UID:10026704-1735556400-1735563600@welkominutrecht.nu
SUMMARY:Women cafe Star Lodge
DESCRIPTION:Description\n\nA weekly afternoon especially for women at Star Lodge. Every week there is a different\, fun activity to do together!  \n\nLocation\n\nLiving room Star Lodge | Biltsestraatweg 92 \n\nTransport\n\nEveryone comes to the location by themselves \n\nRegistration\n\nMore info with Deema: 06-40776030
URL:https://welkominutrecht.nu/en/agenda-item/women-cafe-star-lodge/2024-12-30/
CATEGORIES:Beauty & body,Creativity & crafts,Games & Meeting
END:VEVENT
BEGIN:VEVENT
DTSTART;TZID=Europe/Amsterdam:20241226T110000
DTEND;TZID=Europe/Amsterdam:20241226T130000
DTSTAMP:20260423T092316
CREATED:20240927T065051Z
LAST-MODIFIED:20240927T065311Z
UID:10027161-1735210800-1735218000@welkominutrecht.nu
SUMMARY:Time for women Pahud
DESCRIPTION:Description\n\nThe Living Room at Pahud is open on Thursdays between 11 and 1 o’clock especially for women. In that time there will be danced\, painted\, or something delicious will be baked. Feel welcome to join\, also if you just would like to have a chat or listen to music.  \n\nLocation\n\nLiving Room Plan Einstein Pahud | Pahud de Mortangesdreef 61 \n\nTransport\n\nEveryone comes to the location themselves \n\nRegistration\n\nNo need to sign up\, you can just walk in
URL:https://welkominutrecht.nu/en/agenda-item/time-for-women-pahud/2024-12-26/
CATEGORIES:Beauty & body,Creativity & crafts,Games & Meeting,Music
END:VEVENT
BEGIN:VEVENT
DTSTART;TZID=Europe/Amsterdam:20241223T110000
DTEND;TZID=Europe/Amsterdam:20241223T130000
DTSTAMP:20260423T092316
CREATED:20240918T100214Z
LAST-MODIFIED:20240918T100425Z
UID:10026703-1734951600-1734958800@welkominutrecht.nu
SUMMARY:Women cafe Star Lodge
DESCRIPTION:Description\n\nA weekly afternoon especially for women at Star Lodge. Every week there is a different\, fun activity to do together!  \n\nLocation\n\nLiving room Star Lodge | Biltsestraatweg 92 \n\nTransport\n\nEveryone comes to the location by themselves \n\nRegistration\n\nMore info with Deema: 06-40776030
URL:https://welkominutrecht.nu/en/agenda-item/women-cafe-star-lodge/2024-12-23/
CATEGORIES:Beauty & body,Creativity & crafts,Games & Meeting
END:VEVENT
BEGIN:VEVENT
DTSTART;TZID=Europe/Amsterdam:20241219T110000
DTEND;TZID=Europe/Amsterdam:20241219T130000
DTSTAMP:20260423T092316
CREATED:20240927T065051Z
LAST-MODIFIED:20240927T065311Z
UID:10027160-1734606000-1734613200@welkominutrecht.nu
SUMMARY:Time for women Pahud
DESCRIPTION:Description\n\nThe Living Room at Pahud is open on Thursdays between 11 and 1 o’clock especially for women. In that time there will be danced\, painted\, or something delicious will be baked. Feel welcome to join\, also if you just would like to have a chat or listen to music.  \n\nLocation\n\nLiving Room Plan Einstein Pahud | Pahud de Mortangesdreef 61 \n\nTransport\n\nEveryone comes to the location themselves \n\nRegistration\n\nNo need to sign up\, you can just walk in
URL:https://welkominutrecht.nu/en/agenda-item/time-for-women-pahud/2024-12-19/
CATEGORIES:Beauty & body,Creativity & crafts,Games & Meeting,Music
END:VEVENT
BEGIN:VEVENT
DTSTART;TZID=Europe/Amsterdam:20241216T110000
DTEND;TZID=Europe/Amsterdam:20241216T130000
DTSTAMP:20260423T092316
CREATED:20240918T100214Z
LAST-MODIFIED:20240918T100425Z
UID:10026702-1734346800-1734354000@welkominutrecht.nu
SUMMARY:Women cafe Star Lodge
DESCRIPTION:Description\n\nA weekly afternoon especially for women at Star Lodge. Every week there is a different\, fun activity to do together!  \n\nLocation\n\nLiving room Star Lodge | Biltsestraatweg 92 \n\nTransport\n\nEveryone comes to the location by themselves \n\nRegistration\n\nMore info with Deema: 06-40776030
URL:https://welkominutrecht.nu/en/agenda-item/women-cafe-star-lodge/2024-12-16/
CATEGORIES:Beauty & body,Creativity & crafts,Games & Meeting
END:VEVENT
BEGIN:VEVENT
DTSTART;TZID=Europe/Amsterdam:20241212T110000
DTEND;TZID=Europe/Amsterdam:20241212T130000
DTSTAMP:20260423T092316
CREATED:20240927T065051Z
LAST-MODIFIED:20240927T065311Z
UID:10027159-1734001200-1734008400@welkominutrecht.nu
SUMMARY:Time for women Pahud
DESCRIPTION:Description\n\nThe Living Room at Pahud is open on Thursdays between 11 and 1 o’clock especially for women. In that time there will be danced\, painted\, or something delicious will be baked. Feel welcome to join\, also if you just would like to have a chat or listen to music.  \n\nLocation\n\nLiving Room Plan Einstein Pahud | Pahud de Mortangesdreef 61 \n\nTransport\n\nEveryone comes to the location themselves \n\nRegistration\n\nNo need to sign up\, you can just walk in
URL:https://welkominutrecht.nu/en/agenda-item/time-for-women-pahud/2024-12-12/
CATEGORIES:Beauty & body,Creativity & crafts,Games & Meeting,Music
END:VEVENT
END:VCALENDAR