BEGIN:VCALENDAR
VERSION:2.0
PRODID:-//Welkom in Utrecht | Verbindt vluchtelingen met Utrecht - ECPv6.15.18//NONSGML v1.0//EN
CALSCALE:GREGORIAN
METHOD:PUBLISH
X-ORIGINAL-URL:https://welkominutrecht.nu/en/
X-WR-CALDESC:Events for Welkom in Utrecht | Verbindt vluchtelingen met Utrecht
REFRESH-INTERVAL;VALUE=DURATION:PT1H
X-Robots-Tag:noindex
X-PUBLISHED-TTL:PT1H
BEGIN:VTIMEZONE
TZID:Europe/Amsterdam
BEGIN:DAYLIGHT
TZOFFSETFROM:+0100
TZOFFSETTO:+0200
TZNAME:CEST
DTSTART:20240331T010000
END:DAYLIGHT
BEGIN:STANDARD
TZOFFSETFROM:+0200
TZOFFSETTO:+0100
TZNAME:CET
DTSTART:20241027T010000
END:STANDARD
BEGIN:DAYLIGHT
TZOFFSETFROM:+0100
TZOFFSETTO:+0200
TZNAME:CEST
DTSTART:20250330T010000
END:DAYLIGHT
BEGIN:STANDARD
TZOFFSETFROM:+0200
TZOFFSETTO:+0100
TZNAME:CET
DTSTART:20251026T010000
END:STANDARD
BEGIN:DAYLIGHT
TZOFFSETFROM:+0100
TZOFFSETTO:+0200
TZNAME:CEST
DTSTART:20260329T010000
END:DAYLIGHT
BEGIN:STANDARD
TZOFFSETFROM:+0200
TZOFFSETTO:+0100
TZNAME:CET
DTSTART:20261025T010000
END:STANDARD
END:VTIMEZONE
BEGIN:VEVENT
DTSTART;TZID=Europe/Amsterdam:20250602T110000
DTEND;TZID=Europe/Amsterdam:20250602T130000
DTSTAMP:20260423T060219
CREATED:20250319T150634Z
LAST-MODIFIED:20250319T150750Z
UID:10035134-1748862000-1748869200@welkominutrecht.nu
SUMMARY:Women cafe Star Lodge
DESCRIPTION:Description\n\nMonday between 11 and 1 is dedicated to the women of Star Lodge. We meet and do activities together.  \n\nLocation\n\nLiving room Star Lodge | Biltsestraatweg 92 \n\nTransport\n\nEveryone comes to the location themselves \n\nRegistration\n\nMore info and registration with Deema: deema@welkominutrecht.nu.
URL:https://welkominutrecht.nu/en/agenda-item/women-cafe-star-lodge-3/2025-06-02/
CATEGORIES:Beauty & body,Creativity & crafts,Games & Meeting
ATTACH;FMTTYPE=image/jpeg:https://welkominutrecht.nu/wp-content/uploads/2025/03/vonecia-carswell-0aMMMUjiiEQ-unsplash-scaled.jpg
END:VEVENT
BEGIN:VEVENT
DTSTART;TZID=Europe/Amsterdam:20250529T110000
DTEND;TZID=Europe/Amsterdam:20250529T130000
DTSTAMP:20260423T060219
CREATED:20250324T130023Z
LAST-MODIFIED:20250324T130301Z
UID:10035788-1748516400-1748523600@welkominutrecht.nu
SUMMARY:Time for women Pahud
DESCRIPTION:Description\n\nPahud’s Living Room is open on Thursdays between 11 a.m. – 1 p.m. especially for women. During that time\, we’ll dance\, paint\, or bake something delicious. Feel welcome to join\, even if you just want to have a chat or listen to music. \n\nLocation\n\nLiving room Plan Einstein Pahud | Pahud de Mortangesdreef 61 \n\nTransport\n\nEverybody comes to the location by themselves.  \n\nRegistration\n\nRegistration is not needed\, you’re welcome to walk in!
URL:https://welkominutrecht.nu/en/agenda-item/time-for-women-pahud-3/2025-05-29/
CATEGORIES:Beauty & body,Creativity & crafts,Games & Meeting,Music
END:VEVENT
BEGIN:VEVENT
DTSTART;TZID=Europe/Amsterdam:20250526T110000
DTEND;TZID=Europe/Amsterdam:20250526T130000
DTSTAMP:20260423T060219
CREATED:20250319T150634Z
LAST-MODIFIED:20250319T150750Z
UID:10035133-1748257200-1748264400@welkominutrecht.nu
SUMMARY:Women cafe Star Lodge
DESCRIPTION:Description\n\nMonday between 11 and 1 is dedicated to the women of Star Lodge. We meet and do activities together.  \n\nLocation\n\nLiving room Star Lodge | Biltsestraatweg 92 \n\nTransport\n\nEveryone comes to the location themselves \n\nRegistration\n\nMore info and registration with Deema: deema@welkominutrecht.nu.
URL:https://welkominutrecht.nu/en/agenda-item/women-cafe-star-lodge-3/2025-05-26/
CATEGORIES:Beauty & body,Creativity & crafts,Games & Meeting
ATTACH;FMTTYPE=image/jpeg:https://welkominutrecht.nu/wp-content/uploads/2025/03/vonecia-carswell-0aMMMUjiiEQ-unsplash-scaled.jpg
END:VEVENT
BEGIN:VEVENT
DTSTART;TZID=Europe/Amsterdam:20250522T110000
DTEND;TZID=Europe/Amsterdam:20250522T130000
DTSTAMP:20260423T060219
CREATED:20250324T130023Z
LAST-MODIFIED:20250324T130301Z
UID:10035787-1747911600-1747918800@welkominutrecht.nu
SUMMARY:Time for women Pahud
DESCRIPTION:Description\n\nPahud’s Living Room is open on Thursdays between 11 a.m. – 1 p.m. especially for women. During that time\, we’ll dance\, paint\, or bake something delicious. Feel welcome to join\, even if you just want to have a chat or listen to music. \n\nLocation\n\nLiving room Plan Einstein Pahud | Pahud de Mortangesdreef 61 \n\nTransport\n\nEverybody comes to the location by themselves.  \n\nRegistration\n\nRegistration is not needed\, you’re welcome to walk in!
URL:https://welkominutrecht.nu/en/agenda-item/time-for-women-pahud-3/2025-05-22/
CATEGORIES:Beauty & body,Creativity & crafts,Games & Meeting,Music
END:VEVENT
BEGIN:VEVENT
DTSTART;TZID=Europe/Amsterdam:20250519T110000
DTEND;TZID=Europe/Amsterdam:20250519T130000
DTSTAMP:20260423T060219
CREATED:20250319T150634Z
LAST-MODIFIED:20250319T150750Z
UID:10035132-1747652400-1747659600@welkominutrecht.nu
SUMMARY:Women cafe Star Lodge
DESCRIPTION:Description\n\nMonday between 11 and 1 is dedicated to the women of Star Lodge. We meet and do activities together.  \n\nLocation\n\nLiving room Star Lodge | Biltsestraatweg 92 \n\nTransport\n\nEveryone comes to the location themselves \n\nRegistration\n\nMore info and registration with Deema: deema@welkominutrecht.nu.
URL:https://welkominutrecht.nu/en/agenda-item/women-cafe-star-lodge-3/2025-05-19/
CATEGORIES:Beauty & body,Creativity & crafts,Games & Meeting
ATTACH;FMTTYPE=image/jpeg:https://welkominutrecht.nu/wp-content/uploads/2025/03/vonecia-carswell-0aMMMUjiiEQ-unsplash-scaled.jpg
END:VEVENT
BEGIN:VEVENT
DTSTART;TZID=Europe/Amsterdam:20250515T110000
DTEND;TZID=Europe/Amsterdam:20250515T130000
DTSTAMP:20260423T060219
CREATED:20250324T130023Z
LAST-MODIFIED:20250324T130301Z
UID:10035786-1747306800-1747314000@welkominutrecht.nu
SUMMARY:Time for women Pahud
DESCRIPTION:Description\n\nPahud’s Living Room is open on Thursdays between 11 a.m. – 1 p.m. especially for women. During that time\, we’ll dance\, paint\, or bake something delicious. Feel welcome to join\, even if you just want to have a chat or listen to music. \n\nLocation\n\nLiving room Plan Einstein Pahud | Pahud de Mortangesdreef 61 \n\nTransport\n\nEverybody comes to the location by themselves.  \n\nRegistration\n\nRegistration is not needed\, you’re welcome to walk in!
URL:https://welkominutrecht.nu/en/agenda-item/time-for-women-pahud-3/2025-05-15/
CATEGORIES:Beauty & body,Creativity & crafts,Games & Meeting,Music
END:VEVENT
BEGIN:VEVENT
DTSTART;TZID=Europe/Amsterdam:20250512T110000
DTEND;TZID=Europe/Amsterdam:20250512T130000
DTSTAMP:20260423T060219
CREATED:20250319T150634Z
LAST-MODIFIED:20250319T150750Z
UID:10035131-1747047600-1747054800@welkominutrecht.nu
SUMMARY:Women cafe Star Lodge
DESCRIPTION:Description\n\nMonday between 11 and 1 is dedicated to the women of Star Lodge. We meet and do activities together.  \n\nLocation\n\nLiving room Star Lodge | Biltsestraatweg 92 \n\nTransport\n\nEveryone comes to the location themselves \n\nRegistration\n\nMore info and registration with Deema: deema@welkominutrecht.nu.
URL:https://welkominutrecht.nu/en/agenda-item/women-cafe-star-lodge-3/2025-05-12/
CATEGORIES:Beauty & body,Creativity & crafts,Games & Meeting
ATTACH;FMTTYPE=image/jpeg:https://welkominutrecht.nu/wp-content/uploads/2025/03/vonecia-carswell-0aMMMUjiiEQ-unsplash-scaled.jpg
END:VEVENT
BEGIN:VEVENT
DTSTART;TZID=Europe/Amsterdam:20250508T110000
DTEND;TZID=Europe/Amsterdam:20250508T130000
DTSTAMP:20260423T060219
CREATED:20250324T130023Z
LAST-MODIFIED:20250324T130301Z
UID:10035785-1746702000-1746709200@welkominutrecht.nu
SUMMARY:Time for women Pahud
DESCRIPTION:Description\n\nPahud’s Living Room is open on Thursdays between 11 a.m. – 1 p.m. especially for women. During that time\, we’ll dance\, paint\, or bake something delicious. Feel welcome to join\, even if you just want to have a chat or listen to music. \n\nLocation\n\nLiving room Plan Einstein Pahud | Pahud de Mortangesdreef 61 \n\nTransport\n\nEverybody comes to the location by themselves.  \n\nRegistration\n\nRegistration is not needed\, you’re welcome to walk in!
URL:https://welkominutrecht.nu/en/agenda-item/time-for-women-pahud-3/2025-05-08/
CATEGORIES:Beauty & body,Creativity & crafts,Games & Meeting,Music
END:VEVENT
BEGIN:VEVENT
DTSTART;TZID=Europe/Amsterdam:20250505T110000
DTEND;TZID=Europe/Amsterdam:20250505T130000
DTSTAMP:20260423T060219
CREATED:20250319T150634Z
LAST-MODIFIED:20250319T150750Z
UID:10035130-1746442800-1746450000@welkominutrecht.nu
SUMMARY:Women cafe Star Lodge
DESCRIPTION:Description\n\nMonday between 11 and 1 is dedicated to the women of Star Lodge. We meet and do activities together.  \n\nLocation\n\nLiving room Star Lodge | Biltsestraatweg 92 \n\nTransport\n\nEveryone comes to the location themselves \n\nRegistration\n\nMore info and registration with Deema: deema@welkominutrecht.nu.
URL:https://welkominutrecht.nu/en/agenda-item/women-cafe-star-lodge-3/2025-05-05/
CATEGORIES:Beauty & body,Creativity & crafts,Games & Meeting
ATTACH;FMTTYPE=image/jpeg:https://welkominutrecht.nu/wp-content/uploads/2025/03/vonecia-carswell-0aMMMUjiiEQ-unsplash-scaled.jpg
END:VEVENT
BEGIN:VEVENT
DTSTART;TZID=Europe/Amsterdam:20250501T110000
DTEND;TZID=Europe/Amsterdam:20250501T130000
DTSTAMP:20260423T060219
CREATED:20250324T130023Z
LAST-MODIFIED:20250324T130301Z
UID:10035784-1746097200-1746104400@welkominutrecht.nu
SUMMARY:Time for women Pahud
DESCRIPTION:Description\n\nPahud’s Living Room is open on Thursdays between 11 a.m. – 1 p.m. especially for women. During that time\, we’ll dance\, paint\, or bake something delicious. Feel welcome to join\, even if you just want to have a chat or listen to music. \n\nLocation\n\nLiving room Plan Einstein Pahud | Pahud de Mortangesdreef 61 \n\nTransport\n\nEverybody comes to the location by themselves.  \n\nRegistration\n\nRegistration is not needed\, you’re welcome to walk in!
URL:https://welkominutrecht.nu/en/agenda-item/time-for-women-pahud-3/2025-05-01/
CATEGORIES:Beauty & body,Creativity & crafts,Games & Meeting,Music
END:VEVENT
BEGIN:VEVENT
DTSTART;TZID=Europe/Amsterdam:20250428T110000
DTEND;TZID=Europe/Amsterdam:20250428T130000
DTSTAMP:20260423T060219
CREATED:20250319T150634Z
LAST-MODIFIED:20250319T150750Z
UID:10035129-1745838000-1745845200@welkominutrecht.nu
SUMMARY:Women cafe Star Lodge
DESCRIPTION:Description\n\nMonday between 11 and 1 is dedicated to the women of Star Lodge. We meet and do activities together.  \n\nLocation\n\nLiving room Star Lodge | Biltsestraatweg 92 \n\nTransport\n\nEveryone comes to the location themselves \n\nRegistration\n\nMore info and registration with Deema: deema@welkominutrecht.nu.
URL:https://welkominutrecht.nu/en/agenda-item/women-cafe-star-lodge-3/2025-04-28/
CATEGORIES:Beauty & body,Creativity & crafts,Games & Meeting
ATTACH;FMTTYPE=image/jpeg:https://welkominutrecht.nu/wp-content/uploads/2025/03/vonecia-carswell-0aMMMUjiiEQ-unsplash-scaled.jpg
END:VEVENT
BEGIN:VEVENT
DTSTART;TZID=Europe/Amsterdam:20250424T110000
DTEND;TZID=Europe/Amsterdam:20250424T130000
DTSTAMP:20260423T060219
CREATED:20250324T130023Z
LAST-MODIFIED:20250324T130301Z
UID:10035783-1745492400-1745499600@welkominutrecht.nu
SUMMARY:Time for women Pahud
DESCRIPTION:Description\n\nPahud’s Living Room is open on Thursdays between 11 a.m. – 1 p.m. especially for women. During that time\, we’ll dance\, paint\, or bake something delicious. Feel welcome to join\, even if you just want to have a chat or listen to music. \n\nLocation\n\nLiving room Plan Einstein Pahud | Pahud de Mortangesdreef 61 \n\nTransport\n\nEverybody comes to the location by themselves.  \n\nRegistration\n\nRegistration is not needed\, you’re welcome to walk in!
URL:https://welkominutrecht.nu/en/agenda-item/time-for-women-pahud-3/2025-04-24/
CATEGORIES:Beauty & body,Creativity & crafts,Games & Meeting,Music
END:VEVENT
BEGIN:VEVENT
DTSTART;TZID=Europe/Amsterdam:20250421T110000
DTEND;TZID=Europe/Amsterdam:20250421T130000
DTSTAMP:20260423T060219
CREATED:20250319T150634Z
LAST-MODIFIED:20250319T150750Z
UID:10035128-1745233200-1745240400@welkominutrecht.nu
SUMMARY:Women cafe Star Lodge
DESCRIPTION:Description\n\nMonday between 11 and 1 is dedicated to the women of Star Lodge. We meet and do activities together.  \n\nLocation\n\nLiving room Star Lodge | Biltsestraatweg 92 \n\nTransport\n\nEveryone comes to the location themselves \n\nRegistration\n\nMore info and registration with Deema: deema@welkominutrecht.nu.
URL:https://welkominutrecht.nu/en/agenda-item/women-cafe-star-lodge-3/2025-04-21/
CATEGORIES:Beauty & body,Creativity & crafts,Games & Meeting
ATTACH;FMTTYPE=image/jpeg:https://welkominutrecht.nu/wp-content/uploads/2025/03/vonecia-carswell-0aMMMUjiiEQ-unsplash-scaled.jpg
END:VEVENT
BEGIN:VEVENT
DTSTART;TZID=Europe/Amsterdam:20250417T110000
DTEND;TZID=Europe/Amsterdam:20250417T130000
DTSTAMP:20260423T060219
CREATED:20250324T130023Z
LAST-MODIFIED:20250324T130301Z
UID:10035782-1744887600-1744894800@welkominutrecht.nu
SUMMARY:Time for women Pahud
DESCRIPTION:Description\n\nPahud’s Living Room is open on Thursdays between 11 a.m. – 1 p.m. especially for women. During that time\, we’ll dance\, paint\, or bake something delicious. Feel welcome to join\, even if you just want to have a chat or listen to music. \n\nLocation\n\nLiving room Plan Einstein Pahud | Pahud de Mortangesdreef 61 \n\nTransport\n\nEverybody comes to the location by themselves.  \n\nRegistration\n\nRegistration is not needed\, you’re welcome to walk in!
URL:https://welkominutrecht.nu/en/agenda-item/time-for-women-pahud-3/2025-04-17/
CATEGORIES:Beauty & body,Creativity & crafts,Games & Meeting,Music
END:VEVENT
BEGIN:VEVENT
DTSTART;TZID=Europe/Amsterdam:20250414T110000
DTEND;TZID=Europe/Amsterdam:20250414T130000
DTSTAMP:20260423T060219
CREATED:20250319T150634Z
LAST-MODIFIED:20250319T150750Z
UID:10035127-1744628400-1744635600@welkominutrecht.nu
SUMMARY:Women cafe Star Lodge
DESCRIPTION:Description\n\nMonday between 11 and 1 is dedicated to the women of Star Lodge. We meet and do activities together.  \n\nLocation\n\nLiving room Star Lodge | Biltsestraatweg 92 \n\nTransport\n\nEveryone comes to the location themselves \n\nRegistration\n\nMore info and registration with Deema: deema@welkominutrecht.nu.
URL:https://welkominutrecht.nu/en/agenda-item/women-cafe-star-lodge-3/2025-04-14/
CATEGORIES:Beauty & body,Creativity & crafts,Games & Meeting
ATTACH;FMTTYPE=image/jpeg:https://welkominutrecht.nu/wp-content/uploads/2025/03/vonecia-carswell-0aMMMUjiiEQ-unsplash-scaled.jpg
END:VEVENT
BEGIN:VEVENT
DTSTART;TZID=Europe/Amsterdam:20250410T110000
DTEND;TZID=Europe/Amsterdam:20250410T130000
DTSTAMP:20260423T060219
CREATED:20250324T130023Z
LAST-MODIFIED:20250324T130301Z
UID:10035781-1744282800-1744290000@welkominutrecht.nu
SUMMARY:Time for women Pahud
DESCRIPTION:Description\n\nPahud’s Living Room is open on Thursdays between 11 a.m. – 1 p.m. especially for women. During that time\, we’ll dance\, paint\, or bake something delicious. Feel welcome to join\, even if you just want to have a chat or listen to music. \n\nLocation\n\nLiving room Plan Einstein Pahud | Pahud de Mortangesdreef 61 \n\nTransport\n\nEverybody comes to the location by themselves.  \n\nRegistration\n\nRegistration is not needed\, you’re welcome to walk in!
URL:https://welkominutrecht.nu/en/agenda-item/time-for-women-pahud-3/2025-04-10/
CATEGORIES:Beauty & body,Creativity & crafts,Games & Meeting,Music
END:VEVENT
BEGIN:VEVENT
DTSTART;TZID=Europe/Amsterdam:20250407T110000
DTEND;TZID=Europe/Amsterdam:20250407T130000
DTSTAMP:20260423T060219
CREATED:20250319T150634Z
LAST-MODIFIED:20250319T150750Z
UID:10035126-1744023600-1744030800@welkominutrecht.nu
SUMMARY:Women cafe Star Lodge
DESCRIPTION:Description\n\nMonday between 11 and 1 is dedicated to the women of Star Lodge. We meet and do activities together.  \n\nLocation\n\nLiving room Star Lodge | Biltsestraatweg 92 \n\nTransport\n\nEveryone comes to the location themselves \n\nRegistration\n\nMore info and registration with Deema: deema@welkominutrecht.nu.
URL:https://welkominutrecht.nu/en/agenda-item/women-cafe-star-lodge-3/2025-04-07/
CATEGORIES:Beauty & body,Creativity & crafts,Games & Meeting
ATTACH;FMTTYPE=image/jpeg:https://welkominutrecht.nu/wp-content/uploads/2025/03/vonecia-carswell-0aMMMUjiiEQ-unsplash-scaled.jpg
END:VEVENT
BEGIN:VEVENT
DTSTART;TZID=Europe/Amsterdam:20250403T110000
DTEND;TZID=Europe/Amsterdam:20250403T130000
DTSTAMP:20260423T060219
CREATED:20250324T130023Z
LAST-MODIFIED:20250324T130301Z
UID:10035780-1743678000-1743685200@welkominutrecht.nu
SUMMARY:Time for women Pahud
DESCRIPTION:Description\n\nPahud’s Living Room is open on Thursdays between 11 a.m. – 1 p.m. especially for women. During that time\, we’ll dance\, paint\, or bake something delicious. Feel welcome to join\, even if you just want to have a chat or listen to music. \n\nLocation\n\nLiving room Plan Einstein Pahud | Pahud de Mortangesdreef 61 \n\nTransport\n\nEverybody comes to the location by themselves.  \n\nRegistration\n\nRegistration is not needed\, you’re welcome to walk in!
URL:https://welkominutrecht.nu/en/agenda-item/time-for-women-pahud-3/2025-04-03/
CATEGORIES:Beauty & body,Creativity & crafts,Games & Meeting,Music
END:VEVENT
BEGIN:VEVENT
DTSTART;TZID=Europe/Amsterdam:20250331T110000
DTEND;TZID=Europe/Amsterdam:20250331T130000
DTSTAMP:20260423T060219
CREATED:20241224T110817Z
LAST-MODIFIED:20250103T113426Z
UID:10033933-1743418800-1743426000@welkominutrecht.nu
SUMMARY:Women cafe Star Lodge
DESCRIPTION:Description\n\nA weekly afternoon especially for women at Star Lodge. Every week there is a different\, fun activity to do together!  \n\nLocation\n\nLiving Room Star Lodge | Biltsestraatweg 92 \n\nTransport\n\nEveryone comes to the location themselves \n\nRegistration\n\nMore info with Deema: 06-40776030
URL:https://welkominutrecht.nu/en/agenda-item/women-cafe-star-lodge-2/2025-03-31/
CATEGORIES:Beauty & body,Creativity & crafts,Games & Meeting
END:VEVENT
BEGIN:VEVENT
DTSTART;TZID=Europe/Amsterdam:20250327T110000
DTEND;TZID=Europe/Amsterdam:20250327T130000
DTSTAMP:20260423T060219
CREATED:20241224T105710Z
LAST-MODIFIED:20250103T115431Z
UID:10034184-1743073200-1743080400@welkominutrecht.nu
SUMMARY:Time for women Pahud
DESCRIPTION:Description\n\nThe Living Room at Pahud is open on Thursdays between 11 and 1 o’clock especially for women. In that time there will be danced\, painted\, or something delicious will be baked. Feel welcome to join\, also if you just would like to have a chat or listen to music.  \n\nLocation\n\nLiving Room Plan Einstein Pahud | Pahud de Mortangesdreef 61 \n\nTransport\n\nEveryone comes to the location themselves \n\nRegistration\n\nNo need to sign up\, you can just walk in
URL:https://welkominutrecht.nu/en/agenda-item/time-for-women-pahud-2/2025-03-27/
CATEGORIES:Beauty & body,Creativity & crafts,Games & Meeting,Music
END:VEVENT
BEGIN:VEVENT
DTSTART;TZID=Europe/Amsterdam:20250324T110000
DTEND;TZID=Europe/Amsterdam:20250324T130000
DTSTAMP:20260423T060219
CREATED:20241224T110817Z
LAST-MODIFIED:20250103T113426Z
UID:10033932-1742814000-1742821200@welkominutrecht.nu
SUMMARY:Women cafe Star Lodge
DESCRIPTION:Description\n\nA weekly afternoon especially for women at Star Lodge. Every week there is a different\, fun activity to do together!  \n\nLocation\n\nLiving Room Star Lodge | Biltsestraatweg 92 \n\nTransport\n\nEveryone comes to the location themselves \n\nRegistration\n\nMore info with Deema: 06-40776030
URL:https://welkominutrecht.nu/en/agenda-item/women-cafe-star-lodge-2/2025-03-24/
CATEGORIES:Beauty & body,Creativity & crafts,Games & Meeting
END:VEVENT
BEGIN:VEVENT
DTSTART;TZID=Europe/Amsterdam:20250320T110000
DTEND;TZID=Europe/Amsterdam:20250320T130000
DTSTAMP:20260423T060219
CREATED:20241224T105710Z
LAST-MODIFIED:20250103T115431Z
UID:10034183-1742468400-1742475600@welkominutrecht.nu
SUMMARY:Time for women Pahud
DESCRIPTION:Description\n\nThe Living Room at Pahud is open on Thursdays between 11 and 1 o’clock especially for women. In that time there will be danced\, painted\, or something delicious will be baked. Feel welcome to join\, also if you just would like to have a chat or listen to music.  \n\nLocation\n\nLiving Room Plan Einstein Pahud | Pahud de Mortangesdreef 61 \n\nTransport\n\nEveryone comes to the location themselves \n\nRegistration\n\nNo need to sign up\, you can just walk in
URL:https://welkominutrecht.nu/en/agenda-item/time-for-women-pahud-2/2025-03-20/
CATEGORIES:Beauty & body,Creativity & crafts,Games & Meeting,Music
END:VEVENT
BEGIN:VEVENT
DTSTART;TZID=Europe/Amsterdam:20250317T110000
DTEND;TZID=Europe/Amsterdam:20250317T130000
DTSTAMP:20260423T060220
CREATED:20241224T110817Z
LAST-MODIFIED:20250103T113426Z
UID:10033931-1742209200-1742216400@welkominutrecht.nu
SUMMARY:Women cafe Star Lodge
DESCRIPTION:Description\n\nA weekly afternoon especially for women at Star Lodge. Every week there is a different\, fun activity to do together!  \n\nLocation\n\nLiving Room Star Lodge | Biltsestraatweg 92 \n\nTransport\n\nEveryone comes to the location themselves \n\nRegistration\n\nMore info with Deema: 06-40776030
URL:https://welkominutrecht.nu/en/agenda-item/women-cafe-star-lodge-2/2025-03-17/
CATEGORIES:Beauty & body,Creativity & crafts,Games & Meeting
END:VEVENT
BEGIN:VEVENT
DTSTART;TZID=Europe/Amsterdam:20250313T110000
DTEND;TZID=Europe/Amsterdam:20250313T130000
DTSTAMP:20260423T060220
CREATED:20241224T105710Z
LAST-MODIFIED:20250103T115431Z
UID:10034182-1741863600-1741870800@welkominutrecht.nu
SUMMARY:Time for women Pahud
DESCRIPTION:Description\n\nThe Living Room at Pahud is open on Thursdays between 11 and 1 o’clock especially for women. In that time there will be danced\, painted\, or something delicious will be baked. Feel welcome to join\, also if you just would like to have a chat or listen to music.  \n\nLocation\n\nLiving Room Plan Einstein Pahud | Pahud de Mortangesdreef 61 \n\nTransport\n\nEveryone comes to the location themselves \n\nRegistration\n\nNo need to sign up\, you can just walk in
URL:https://welkominutrecht.nu/en/agenda-item/time-for-women-pahud-2/2025-03-13/
CATEGORIES:Beauty & body,Creativity & crafts,Games & Meeting,Music
END:VEVENT
BEGIN:VEVENT
DTSTART;TZID=Europe/Amsterdam:20250310T110000
DTEND;TZID=Europe/Amsterdam:20250310T130000
DTSTAMP:20260423T060220
CREATED:20241224T110817Z
LAST-MODIFIED:20250103T113426Z
UID:10033930-1741604400-1741611600@welkominutrecht.nu
SUMMARY:Women cafe Star Lodge
DESCRIPTION:Description\n\nA weekly afternoon especially for women at Star Lodge. Every week there is a different\, fun activity to do together!  \n\nLocation\n\nLiving Room Star Lodge | Biltsestraatweg 92 \n\nTransport\n\nEveryone comes to the location themselves \n\nRegistration\n\nMore info with Deema: 06-40776030
URL:https://welkominutrecht.nu/en/agenda-item/women-cafe-star-lodge-2/2025-03-10/
CATEGORIES:Beauty & body,Creativity & crafts,Games & Meeting
END:VEVENT
BEGIN:VEVENT
DTSTART;TZID=Europe/Amsterdam:20250306T110000
DTEND;TZID=Europe/Amsterdam:20250306T130000
DTSTAMP:20260423T060220
CREATED:20241224T105710Z
LAST-MODIFIED:20250103T115431Z
UID:10034181-1741258800-1741266000@welkominutrecht.nu
SUMMARY:Time for women Pahud
DESCRIPTION:Description\n\nThe Living Room at Pahud is open on Thursdays between 11 and 1 o’clock especially for women. In that time there will be danced\, painted\, or something delicious will be baked. Feel welcome to join\, also if you just would like to have a chat or listen to music.  \n\nLocation\n\nLiving Room Plan Einstein Pahud | Pahud de Mortangesdreef 61 \n\nTransport\n\nEveryone comes to the location themselves \n\nRegistration\n\nNo need to sign up\, you can just walk in
URL:https://welkominutrecht.nu/en/agenda-item/time-for-women-pahud-2/2025-03-06/
CATEGORIES:Beauty & body,Creativity & crafts,Games & Meeting,Music
END:VEVENT
BEGIN:VEVENT
DTSTART;TZID=Europe/Amsterdam:20250303T110000
DTEND;TZID=Europe/Amsterdam:20250303T130000
DTSTAMP:20260423T060220
CREATED:20241224T110817Z
LAST-MODIFIED:20250103T113426Z
UID:10033929-1740999600-1741006800@welkominutrecht.nu
SUMMARY:Women cafe Star Lodge
DESCRIPTION:Description\n\nA weekly afternoon especially for women at Star Lodge. Every week there is a different\, fun activity to do together!  \n\nLocation\n\nLiving Room Star Lodge | Biltsestraatweg 92 \n\nTransport\n\nEveryone comes to the location themselves \n\nRegistration\n\nMore info with Deema: 06-40776030
URL:https://welkominutrecht.nu/en/agenda-item/women-cafe-star-lodge-2/2025-03-03/
CATEGORIES:Beauty & body,Creativity & crafts,Games & Meeting
END:VEVENT
BEGIN:VEVENT
DTSTART;TZID=Europe/Amsterdam:20250227T110000
DTEND;TZID=Europe/Amsterdam:20250227T130000
DTSTAMP:20260423T060220
CREATED:20241224T105710Z
LAST-MODIFIED:20250103T115431Z
UID:10034180-1740654000-1740661200@welkominutrecht.nu
SUMMARY:Time for women Pahud
DESCRIPTION:Description\n\nThe Living Room at Pahud is open on Thursdays between 11 and 1 o’clock especially for women. In that time there will be danced\, painted\, or something delicious will be baked. Feel welcome to join\, also if you just would like to have a chat or listen to music.  \n\nLocation\n\nLiving Room Plan Einstein Pahud | Pahud de Mortangesdreef 61 \n\nTransport\n\nEveryone comes to the location themselves \n\nRegistration\n\nNo need to sign up\, you can just walk in
URL:https://welkominutrecht.nu/en/agenda-item/time-for-women-pahud-2/2025-02-27/
CATEGORIES:Beauty & body,Creativity & crafts,Games & Meeting,Music
END:VEVENT
BEGIN:VEVENT
DTSTART;TZID=Europe/Amsterdam:20250224T110000
DTEND;TZID=Europe/Amsterdam:20250224T130000
DTSTAMP:20260423T060220
CREATED:20241224T110817Z
LAST-MODIFIED:20250103T113426Z
UID:10033928-1740394800-1740402000@welkominutrecht.nu
SUMMARY:Women cafe Star Lodge
DESCRIPTION:Description\n\nA weekly afternoon especially for women at Star Lodge. Every week there is a different\, fun activity to do together!  \n\nLocation\n\nLiving Room Star Lodge | Biltsestraatweg 92 \n\nTransport\n\nEveryone comes to the location themselves \n\nRegistration\n\nMore info with Deema: 06-40776030
URL:https://welkominutrecht.nu/en/agenda-item/women-cafe-star-lodge-2/2025-02-24/
CATEGORIES:Beauty & body,Creativity & crafts,Games & Meeting
END:VEVENT
BEGIN:VEVENT
DTSTART;TZID=Europe/Amsterdam:20250220T110000
DTEND;TZID=Europe/Amsterdam:20250220T130000
DTSTAMP:20260423T060220
CREATED:20241224T105710Z
LAST-MODIFIED:20250103T115431Z
UID:10034179-1740049200-1740056400@welkominutrecht.nu
SUMMARY:Time for women Pahud
DESCRIPTION:Description\n\nThe Living Room at Pahud is open on Thursdays between 11 and 1 o’clock especially for women. In that time there will be danced\, painted\, or something delicious will be baked. Feel welcome to join\, also if you just would like to have a chat or listen to music.  \n\nLocation\n\nLiving Room Plan Einstein Pahud | Pahud de Mortangesdreef 61 \n\nTransport\n\nEveryone comes to the location themselves \n\nRegistration\n\nNo need to sign up\, you can just walk in
URL:https://welkominutrecht.nu/en/agenda-item/time-for-women-pahud-2/2025-02-20/
CATEGORIES:Beauty & body,Creativity & crafts,Games & Meeting,Music
END:VEVENT
END:VCALENDAR