BEGIN:VCALENDAR
VERSION:2.0
PRODID:-//Welkom in Utrecht | Verbindt vluchtelingen met Utrecht - ECPv6.15.18//NONSGML v1.0//EN
CALSCALE:GREGORIAN
METHOD:PUBLISH
X-WR-CALNAME:Welkom in Utrecht | Verbindt vluchtelingen met Utrecht
X-ORIGINAL-URL:https://welkominutrecht.nu/en/
X-WR-CALDESC:Events for Welkom in Utrecht | Verbindt vluchtelingen met Utrecht
REFRESH-INTERVAL;VALUE=DURATION:PT1H
X-Robots-Tag:noindex
X-PUBLISHED-TTL:PT1H
BEGIN:VTIMEZONE
TZID:Europe/Amsterdam
BEGIN:DAYLIGHT
TZOFFSETFROM:+0100
TZOFFSETTO:+0200
TZNAME:CEST
DTSTART:20240331T010000
END:DAYLIGHT
BEGIN:STANDARD
TZOFFSETFROM:+0200
TZOFFSETTO:+0100
TZNAME:CET
DTSTART:20241027T010000
END:STANDARD
BEGIN:DAYLIGHT
TZOFFSETFROM:+0100
TZOFFSETTO:+0200
TZNAME:CEST
DTSTART:20250330T010000
END:DAYLIGHT
BEGIN:STANDARD
TZOFFSETFROM:+0200
TZOFFSETTO:+0100
TZNAME:CET
DTSTART:20251026T010000
END:STANDARD
BEGIN:DAYLIGHT
TZOFFSETFROM:+0100
TZOFFSETTO:+0200
TZNAME:CEST
DTSTART:20260329T010000
END:DAYLIGHT
BEGIN:STANDARD
TZOFFSETFROM:+0200
TZOFFSETTO:+0100
TZNAME:CET
DTSTART:20261025T010000
END:STANDARD
END:VTIMEZONE
BEGIN:VEVENT
DTSTART;TZID=Europe/Amsterdam:20250908T110000
DTEND;TZID=Europe/Amsterdam:20250908T130000
DTSTAMP:20260423T012232
CREATED:20250618T130021Z
LAST-MODIFIED:20250618T130133Z
UID:10038783-1757329200-1757336400@welkominutrecht.nu
SUMMARY:Women cafe Star Lodge
DESCRIPTION:Description\n\nMonday between 11 and 1 o’clock is all about the women of Star Lodge. We meet each other and do activities together. \n\nLocation\n\nLiving room Star Lodge | Biltsestraatweg 92 \n\nTransport\n\nEveryone comes to the location themselves \n\nRegistration\n\nMore info and registration with Deema: deema@welkominutrecht.nu.
URL:https://welkominutrecht.nu/en/agenda-item/women-cafe-star-lodge-4/2025-09-08/
CATEGORIES:Beauty & body,Creativity & crafts,Games & Meeting
ATTACH;FMTTYPE=image/jpeg:https://welkominutrecht.nu/wp-content/uploads/2025/03/vonecia-carswell-0aMMMUjiiEQ-unsplash-scaled.jpg
END:VEVENT
BEGIN:VEVENT
DTSTART;TZID=Europe/Amsterdam:20250904T110000
DTEND;TZID=Europe/Amsterdam:20250904T130000
DTSTAMP:20260423T012232
CREATED:20250626T135059Z
LAST-MODIFIED:20250626T135214Z
UID:10039228-1756983600-1756990800@welkominutrecht.nu
SUMMARY:Time for women Pahud
DESCRIPTION:Description\n\nThe Living Room at Pahud is open on Thursdays between 11 and 1 o’clock especially for women. In that time there will be danced\, painted\, or something delicious will be baked. Feel welcome to join\, also if you just would like to have a chat or listen to music.  \n\nLocation\n\nLiving room Plan Einstein Pahud | Pahud de Mortangesdreef 61 \n\nTransport\n\nEverybody comes to the location by themselves. \n\nRegistration\n\nRegistration is not needed\, you’re welcome to walk in!
URL:https://welkominutrecht.nu/en/agenda-item/time-for-women-pahud-4/2025-09-04/
CATEGORIES:Beauty & body,Creativity & crafts,Games & Meeting,Music
END:VEVENT
BEGIN:VEVENT
DTSTART;TZID=Europe/Amsterdam:20250901T110000
DTEND;TZID=Europe/Amsterdam:20250901T130000
DTSTAMP:20260423T012232
CREATED:20250618T130021Z
LAST-MODIFIED:20250618T130133Z
UID:10038782-1756724400-1756731600@welkominutrecht.nu
SUMMARY:Women cafe Star Lodge
DESCRIPTION:Description\n\nMonday between 11 and 1 o’clock is all about the women of Star Lodge. We meet each other and do activities together. \n\nLocation\n\nLiving room Star Lodge | Biltsestraatweg 92 \n\nTransport\n\nEveryone comes to the location themselves \n\nRegistration\n\nMore info and registration with Deema: deema@welkominutrecht.nu.
URL:https://welkominutrecht.nu/en/agenda-item/women-cafe-star-lodge-4/2025-09-01/
CATEGORIES:Beauty & body,Creativity & crafts,Games & Meeting
ATTACH;FMTTYPE=image/jpeg:https://welkominutrecht.nu/wp-content/uploads/2025/03/vonecia-carswell-0aMMMUjiiEQ-unsplash-scaled.jpg
END:VEVENT
BEGIN:VEVENT
DTSTART;TZID=Europe/Amsterdam:20250828T110000
DTEND;TZID=Europe/Amsterdam:20250828T130000
DTSTAMP:20260423T012232
CREATED:20250626T135059Z
LAST-MODIFIED:20250626T135214Z
UID:10039227-1756378800-1756386000@welkominutrecht.nu
SUMMARY:Time for women Pahud
DESCRIPTION:Description\n\nThe Living Room at Pahud is open on Thursdays between 11 and 1 o’clock especially for women. In that time there will be danced\, painted\, or something delicious will be baked. Feel welcome to join\, also if you just would like to have a chat or listen to music.  \n\nLocation\n\nLiving room Plan Einstein Pahud | Pahud de Mortangesdreef 61 \n\nTransport\n\nEverybody comes to the location by themselves. \n\nRegistration\n\nRegistration is not needed\, you’re welcome to walk in!
URL:https://welkominutrecht.nu/en/agenda-item/time-for-women-pahud-4/2025-08-28/
CATEGORIES:Beauty & body,Creativity & crafts,Games & Meeting,Music
END:VEVENT
BEGIN:VEVENT
DTSTART;TZID=Europe/Amsterdam:20250825T110000
DTEND;TZID=Europe/Amsterdam:20250825T130000
DTSTAMP:20260423T012232
CREATED:20250618T130021Z
LAST-MODIFIED:20250618T130133Z
UID:10038781-1756119600-1756126800@welkominutrecht.nu
SUMMARY:Women cafe Star Lodge
DESCRIPTION:Description\n\nMonday between 11 and 1 o’clock is all about the women of Star Lodge. We meet each other and do activities together. \n\nLocation\n\nLiving room Star Lodge | Biltsestraatweg 92 \n\nTransport\n\nEveryone comes to the location themselves \n\nRegistration\n\nMore info and registration with Deema: deema@welkominutrecht.nu.
URL:https://welkominutrecht.nu/en/agenda-item/women-cafe-star-lodge-4/2025-08-25/
CATEGORIES:Beauty & body,Creativity & crafts,Games & Meeting
ATTACH;FMTTYPE=image/jpeg:https://welkominutrecht.nu/wp-content/uploads/2025/03/vonecia-carswell-0aMMMUjiiEQ-unsplash-scaled.jpg
END:VEVENT
BEGIN:VEVENT
DTSTART;TZID=Europe/Amsterdam:20250821T110000
DTEND;TZID=Europe/Amsterdam:20250821T130000
DTSTAMP:20260423T012232
CREATED:20250626T135059Z
LAST-MODIFIED:20250626T135214Z
UID:10039226-1755774000-1755781200@welkominutrecht.nu
SUMMARY:Time for women Pahud
DESCRIPTION:Description\n\nThe Living Room at Pahud is open on Thursdays between 11 and 1 o’clock especially for women. In that time there will be danced\, painted\, or something delicious will be baked. Feel welcome to join\, also if you just would like to have a chat or listen to music.  \n\nLocation\n\nLiving room Plan Einstein Pahud | Pahud de Mortangesdreef 61 \n\nTransport\n\nEverybody comes to the location by themselves. \n\nRegistration\n\nRegistration is not needed\, you’re welcome to walk in!
URL:https://welkominutrecht.nu/en/agenda-item/time-for-women-pahud-4/2025-08-21/
CATEGORIES:Beauty & body,Creativity & crafts,Games & Meeting,Music
END:VEVENT
BEGIN:VEVENT
DTSTART;TZID=Europe/Amsterdam:20250818T110000
DTEND;TZID=Europe/Amsterdam:20250818T130000
DTSTAMP:20260423T012232
CREATED:20250618T130021Z
LAST-MODIFIED:20250618T130133Z
UID:10038780-1755514800-1755522000@welkominutrecht.nu
SUMMARY:Women cafe Star Lodge
DESCRIPTION:Description\n\nMonday between 11 and 1 o’clock is all about the women of Star Lodge. We meet each other and do activities together. \n\nLocation\n\nLiving room Star Lodge | Biltsestraatweg 92 \n\nTransport\n\nEveryone comes to the location themselves \n\nRegistration\n\nMore info and registration with Deema: deema@welkominutrecht.nu.
URL:https://welkominutrecht.nu/en/agenda-item/women-cafe-star-lodge-4/2025-08-18/
CATEGORIES:Beauty & body,Creativity & crafts,Games & Meeting
ATTACH;FMTTYPE=image/jpeg:https://welkominutrecht.nu/wp-content/uploads/2025/03/vonecia-carswell-0aMMMUjiiEQ-unsplash-scaled.jpg
END:VEVENT
BEGIN:VEVENT
DTSTART;TZID=Europe/Amsterdam:20250814T110000
DTEND;TZID=Europe/Amsterdam:20250814T130000
DTSTAMP:20260423T012232
CREATED:20250626T135059Z
LAST-MODIFIED:20250626T135214Z
UID:10039225-1755169200-1755176400@welkominutrecht.nu
SUMMARY:Time for women Pahud
DESCRIPTION:Description\n\nThe Living Room at Pahud is open on Thursdays between 11 and 1 o’clock especially for women. In that time there will be danced\, painted\, or something delicious will be baked. Feel welcome to join\, also if you just would like to have a chat or listen to music.  \n\nLocation\n\nLiving room Plan Einstein Pahud | Pahud de Mortangesdreef 61 \n\nTransport\n\nEverybody comes to the location by themselves. \n\nRegistration\n\nRegistration is not needed\, you’re welcome to walk in!
URL:https://welkominutrecht.nu/en/agenda-item/time-for-women-pahud-4/2025-08-14/
CATEGORIES:Beauty & body,Creativity & crafts,Games & Meeting,Music
END:VEVENT
BEGIN:VEVENT
DTSTART;TZID=Europe/Amsterdam:20250812T180000
DTEND;TZID=Europe/Amsterdam:20250812T210000
DTSTAMP:20260423T012232
CREATED:20250618T132810Z
LAST-MODIFIED:20250618T132906Z
UID:10039090-1755021600-1755032400@welkominutrecht.nu
SUMMARY:Womens night Pahud
DESCRIPTION:Description\n\nAn evening especially for the women of azc Pahud. Together\, we do a fun activity such as crafts\, baking or dancing. \n\nLocation\n\nLivingroom Plan Einstein Pahud | Pahud de Mortangesdreef 61 \n\nTransport\n\nEveryone comes to the living room themselves \n\nRegistration\n\nRegistration and more information with Hamist: 0685994250
URL:https://welkominutrecht.nu/en/agenda-item/womens-night-pahud/2025-08-12/
CATEGORIES:Beauty & body,Creativity & crafts,Games & Meeting
END:VEVENT
BEGIN:VEVENT
DTSTART;TZID=Europe/Amsterdam:20250811T110000
DTEND;TZID=Europe/Amsterdam:20250811T130000
DTSTAMP:20260423T012232
CREATED:20250618T130021Z
LAST-MODIFIED:20250618T130133Z
UID:10038779-1754910000-1754917200@welkominutrecht.nu
SUMMARY:Women cafe Star Lodge
DESCRIPTION:Description\n\nMonday between 11 and 1 o’clock is all about the women of Star Lodge. We meet each other and do activities together. \n\nLocation\n\nLiving room Star Lodge | Biltsestraatweg 92 \n\nTransport\n\nEveryone comes to the location themselves \n\nRegistration\n\nMore info and registration with Deema: deema@welkominutrecht.nu.
URL:https://welkominutrecht.nu/en/agenda-item/women-cafe-star-lodge-4/2025-08-11/
CATEGORIES:Beauty & body,Creativity & crafts,Games & Meeting
ATTACH;FMTTYPE=image/jpeg:https://welkominutrecht.nu/wp-content/uploads/2025/03/vonecia-carswell-0aMMMUjiiEQ-unsplash-scaled.jpg
END:VEVENT
BEGIN:VEVENT
DTSTART;TZID=Europe/Amsterdam:20250807T110000
DTEND;TZID=Europe/Amsterdam:20250807T130000
DTSTAMP:20260423T012232
CREATED:20250626T135059Z
LAST-MODIFIED:20250626T135214Z
UID:10039224-1754564400-1754571600@welkominutrecht.nu
SUMMARY:Time for women Pahud
DESCRIPTION:Description\n\nThe Living Room at Pahud is open on Thursdays between 11 and 1 o’clock especially for women. In that time there will be danced\, painted\, or something delicious will be baked. Feel welcome to join\, also if you just would like to have a chat or listen to music.  \n\nLocation\n\nLiving room Plan Einstein Pahud | Pahud de Mortangesdreef 61 \n\nTransport\n\nEverybody comes to the location by themselves. \n\nRegistration\n\nRegistration is not needed\, you’re welcome to walk in!
URL:https://welkominutrecht.nu/en/agenda-item/time-for-women-pahud-4/2025-08-07/
CATEGORIES:Beauty & body,Creativity & crafts,Games & Meeting,Music
END:VEVENT
BEGIN:VEVENT
DTSTART;TZID=Europe/Amsterdam:20250804T110000
DTEND;TZID=Europe/Amsterdam:20250804T130000
DTSTAMP:20260423T012232
CREATED:20250618T130021Z
LAST-MODIFIED:20250618T130133Z
UID:10038778-1754305200-1754312400@welkominutrecht.nu
SUMMARY:Women cafe Star Lodge
DESCRIPTION:Description\n\nMonday between 11 and 1 o’clock is all about the women of Star Lodge. We meet each other and do activities together. \n\nLocation\n\nLiving room Star Lodge | Biltsestraatweg 92 \n\nTransport\n\nEveryone comes to the location themselves \n\nRegistration\n\nMore info and registration with Deema: deema@welkominutrecht.nu.
URL:https://welkominutrecht.nu/en/agenda-item/women-cafe-star-lodge-4/2025-08-04/
CATEGORIES:Beauty & body,Creativity & crafts,Games & Meeting
ATTACH;FMTTYPE=image/jpeg:https://welkominutrecht.nu/wp-content/uploads/2025/03/vonecia-carswell-0aMMMUjiiEQ-unsplash-scaled.jpg
END:VEVENT
BEGIN:VEVENT
DTSTART;TZID=Europe/Amsterdam:20250731T110000
DTEND;TZID=Europe/Amsterdam:20250731T130000
DTSTAMP:20260423T012232
CREATED:20250626T135059Z
LAST-MODIFIED:20250626T135214Z
UID:10039223-1753959600-1753966800@welkominutrecht.nu
SUMMARY:Time for women Pahud
DESCRIPTION:Description\n\nThe Living Room at Pahud is open on Thursdays between 11 and 1 o’clock especially for women. In that time there will be danced\, painted\, or something delicious will be baked. Feel welcome to join\, also if you just would like to have a chat or listen to music.  \n\nLocation\n\nLiving room Plan Einstein Pahud | Pahud de Mortangesdreef 61 \n\nTransport\n\nEverybody comes to the location by themselves. \n\nRegistration\n\nRegistration is not needed\, you’re welcome to walk in!
URL:https://welkominutrecht.nu/en/agenda-item/time-for-women-pahud-4/2025-07-31/
CATEGORIES:Beauty & body,Creativity & crafts,Games & Meeting,Music
END:VEVENT
BEGIN:VEVENT
DTSTART;TZID=Europe/Amsterdam:20250728T110000
DTEND;TZID=Europe/Amsterdam:20250728T130000
DTSTAMP:20260423T012232
CREATED:20250618T130021Z
LAST-MODIFIED:20250618T130133Z
UID:10038777-1753700400-1753707600@welkominutrecht.nu
SUMMARY:Women cafe Star Lodge
DESCRIPTION:Description\n\nMonday between 11 and 1 o’clock is all about the women of Star Lodge. We meet each other and do activities together. \n\nLocation\n\nLiving room Star Lodge | Biltsestraatweg 92 \n\nTransport\n\nEveryone comes to the location themselves \n\nRegistration\n\nMore info and registration with Deema: deema@welkominutrecht.nu.
URL:https://welkominutrecht.nu/en/agenda-item/women-cafe-star-lodge-4/2025-07-28/
CATEGORIES:Beauty & body,Creativity & crafts,Games & Meeting
ATTACH;FMTTYPE=image/jpeg:https://welkominutrecht.nu/wp-content/uploads/2025/03/vonecia-carswell-0aMMMUjiiEQ-unsplash-scaled.jpg
END:VEVENT
BEGIN:VEVENT
DTSTART;TZID=Europe/Amsterdam:20250724T110000
DTEND;TZID=Europe/Amsterdam:20250724T130000
DTSTAMP:20260423T012232
CREATED:20250626T135059Z
LAST-MODIFIED:20250626T135214Z
UID:10039222-1753354800-1753362000@welkominutrecht.nu
SUMMARY:Time for women Pahud
DESCRIPTION:Description\n\nThe Living Room at Pahud is open on Thursdays between 11 and 1 o’clock especially for women. In that time there will be danced\, painted\, or something delicious will be baked. Feel welcome to join\, also if you just would like to have a chat or listen to music.  \n\nLocation\n\nLiving room Plan Einstein Pahud | Pahud de Mortangesdreef 61 \n\nTransport\n\nEverybody comes to the location by themselves. \n\nRegistration\n\nRegistration is not needed\, you’re welcome to walk in!
URL:https://welkominutrecht.nu/en/agenda-item/time-for-women-pahud-4/2025-07-24/
CATEGORIES:Beauty & body,Creativity & crafts,Games & Meeting,Music
END:VEVENT
BEGIN:VEVENT
DTSTART;TZID=Europe/Amsterdam:20250721T110000
DTEND;TZID=Europe/Amsterdam:20250721T130000
DTSTAMP:20260423T012232
CREATED:20250618T130021Z
LAST-MODIFIED:20250618T130133Z
UID:10038776-1753095600-1753102800@welkominutrecht.nu
SUMMARY:Women cafe Star Lodge
DESCRIPTION:Description\n\nMonday between 11 and 1 o’clock is all about the women of Star Lodge. We meet each other and do activities together. \n\nLocation\n\nLiving room Star Lodge | Biltsestraatweg 92 \n\nTransport\n\nEveryone comes to the location themselves \n\nRegistration\n\nMore info and registration with Deema: deema@welkominutrecht.nu.
URL:https://welkominutrecht.nu/en/agenda-item/women-cafe-star-lodge-4/2025-07-21/
CATEGORIES:Beauty & body,Creativity & crafts,Games & Meeting
ATTACH;FMTTYPE=image/jpeg:https://welkominutrecht.nu/wp-content/uploads/2025/03/vonecia-carswell-0aMMMUjiiEQ-unsplash-scaled.jpg
END:VEVENT
BEGIN:VEVENT
DTSTART;TZID=Europe/Amsterdam:20250717T110000
DTEND;TZID=Europe/Amsterdam:20250717T130000
DTSTAMP:20260423T012232
CREATED:20250626T135059Z
LAST-MODIFIED:20250626T135214Z
UID:10039221-1752750000-1752757200@welkominutrecht.nu
SUMMARY:Time for women Pahud
DESCRIPTION:Description\n\nThe Living Room at Pahud is open on Thursdays between 11 and 1 o’clock especially for women. In that time there will be danced\, painted\, or something delicious will be baked. Feel welcome to join\, also if you just would like to have a chat or listen to music.  \n\nLocation\n\nLiving room Plan Einstein Pahud | Pahud de Mortangesdreef 61 \n\nTransport\n\nEverybody comes to the location by themselves. \n\nRegistration\n\nRegistration is not needed\, you’re welcome to walk in!
URL:https://welkominutrecht.nu/en/agenda-item/time-for-women-pahud-4/2025-07-17/
CATEGORIES:Beauty & body,Creativity & crafts,Games & Meeting,Music
END:VEVENT
BEGIN:VEVENT
DTSTART;TZID=Europe/Amsterdam:20250714T110000
DTEND;TZID=Europe/Amsterdam:20250714T130000
DTSTAMP:20260423T012232
CREATED:20250618T130021Z
LAST-MODIFIED:20250618T130133Z
UID:10038775-1752490800-1752498000@welkominutrecht.nu
SUMMARY:Women cafe Star Lodge
DESCRIPTION:Description\n\nMonday between 11 and 1 o’clock is all about the women of Star Lodge. We meet each other and do activities together. \n\nLocation\n\nLiving room Star Lodge | Biltsestraatweg 92 \n\nTransport\n\nEveryone comes to the location themselves \n\nRegistration\n\nMore info and registration with Deema: deema@welkominutrecht.nu.
URL:https://welkominutrecht.nu/en/agenda-item/women-cafe-star-lodge-4/2025-07-14/
CATEGORIES:Beauty & body,Creativity & crafts,Games & Meeting
ATTACH;FMTTYPE=image/jpeg:https://welkominutrecht.nu/wp-content/uploads/2025/03/vonecia-carswell-0aMMMUjiiEQ-unsplash-scaled.jpg
END:VEVENT
BEGIN:VEVENT
DTSTART;TZID=Europe/Amsterdam:20250710T110000
DTEND;TZID=Europe/Amsterdam:20250710T130000
DTSTAMP:20260423T012232
CREATED:20250626T135059Z
LAST-MODIFIED:20250626T135214Z
UID:10039220-1752145200-1752152400@welkominutrecht.nu
SUMMARY:Time for women Pahud
DESCRIPTION:Description\n\nThe Living Room at Pahud is open on Thursdays between 11 and 1 o’clock especially for women. In that time there will be danced\, painted\, or something delicious will be baked. Feel welcome to join\, also if you just would like to have a chat or listen to music.  \n\nLocation\n\nLiving room Plan Einstein Pahud | Pahud de Mortangesdreef 61 \n\nTransport\n\nEverybody comes to the location by themselves. \n\nRegistration\n\nRegistration is not needed\, you’re welcome to walk in!
URL:https://welkominutrecht.nu/en/agenda-item/time-for-women-pahud-4/2025-07-10/
CATEGORIES:Beauty & body,Creativity & crafts,Games & Meeting,Music
END:VEVENT
BEGIN:VEVENT
DTSTART;TZID=Europe/Amsterdam:20250708T180000
DTEND;TZID=Europe/Amsterdam:20250708T210000
DTSTAMP:20260423T012232
CREATED:20250618T132810Z
LAST-MODIFIED:20250618T132906Z
UID:10039089-1751997600-1752008400@welkominutrecht.nu
SUMMARY:Womens night Pahud
DESCRIPTION:Description\n\nAn evening especially for the women of azc Pahud. Together\, we do a fun activity such as crafts\, baking or dancing. \n\nLocation\n\nLivingroom Plan Einstein Pahud | Pahud de Mortangesdreef 61 \n\nTransport\n\nEveryone comes to the living room themselves \n\nRegistration\n\nRegistration and more information with Hamist: 0685994250
URL:https://welkominutrecht.nu/en/agenda-item/womens-night-pahud/2025-07-08/
CATEGORIES:Beauty & body,Creativity & crafts,Games & Meeting
END:VEVENT
BEGIN:VEVENT
DTSTART;TZID=Europe/Amsterdam:20250707T110000
DTEND;TZID=Europe/Amsterdam:20250707T130000
DTSTAMP:20260423T012232
CREATED:20250618T130021Z
LAST-MODIFIED:20250618T130133Z
UID:10038774-1751886000-1751893200@welkominutrecht.nu
SUMMARY:Women cafe Star Lodge
DESCRIPTION:Description\n\nMonday between 11 and 1 o’clock is all about the women of Star Lodge. We meet each other and do activities together. \n\nLocation\n\nLiving room Star Lodge | Biltsestraatweg 92 \n\nTransport\n\nEveryone comes to the location themselves \n\nRegistration\n\nMore info and registration with Deema: deema@welkominutrecht.nu.
URL:https://welkominutrecht.nu/en/agenda-item/women-cafe-star-lodge-4/2025-07-07/
CATEGORIES:Beauty & body,Creativity & crafts,Games & Meeting
ATTACH;FMTTYPE=image/jpeg:https://welkominutrecht.nu/wp-content/uploads/2025/03/vonecia-carswell-0aMMMUjiiEQ-unsplash-scaled.jpg
END:VEVENT
BEGIN:VEVENT
DTSTART;TZID=Europe/Amsterdam:20250703T110000
DTEND;TZID=Europe/Amsterdam:20250703T130000
DTSTAMP:20260423T012232
CREATED:20250626T135059Z
LAST-MODIFIED:20250626T135214Z
UID:10039219-1751540400-1751547600@welkominutrecht.nu
SUMMARY:Time for women Pahud
DESCRIPTION:Description\n\nThe Living Room at Pahud is open on Thursdays between 11 and 1 o’clock especially for women. In that time there will be danced\, painted\, or something delicious will be baked. Feel welcome to join\, also if you just would like to have a chat or listen to music.  \n\nLocation\n\nLiving room Plan Einstein Pahud | Pahud de Mortangesdreef 61 \n\nTransport\n\nEverybody comes to the location by themselves. \n\nRegistration\n\nRegistration is not needed\, you’re welcome to walk in!
URL:https://welkominutrecht.nu/en/agenda-item/time-for-women-pahud-4/2025-07-03/
CATEGORIES:Beauty & body,Creativity & crafts,Games & Meeting,Music
END:VEVENT
BEGIN:VEVENT
DTSTART;TZID=Europe/Amsterdam:20250630T110000
DTEND;TZID=Europe/Amsterdam:20250630T130000
DTSTAMP:20260423T012232
CREATED:20250319T150634Z
LAST-MODIFIED:20250319T150750Z
UID:10035138-1751281200-1751288400@welkominutrecht.nu
SUMMARY:Women cafe Star Lodge
DESCRIPTION:Description\n\nMonday between 11 and 1 is dedicated to the women of Star Lodge. We meet and do activities together.  \n\nLocation\n\nLiving room Star Lodge | Biltsestraatweg 92 \n\nTransport\n\nEveryone comes to the location themselves \n\nRegistration\n\nMore info and registration with Deema: deema@welkominutrecht.nu.
URL:https://welkominutrecht.nu/en/agenda-item/women-cafe-star-lodge-3/2025-06-30/
CATEGORIES:Beauty & body,Creativity & crafts,Games & Meeting
ATTACH;FMTTYPE=image/jpeg:https://welkominutrecht.nu/wp-content/uploads/2025/03/vonecia-carswell-0aMMMUjiiEQ-unsplash-scaled.jpg
END:VEVENT
BEGIN:VEVENT
DTSTART;TZID=Europe/Amsterdam:20250626T110000
DTEND;TZID=Europe/Amsterdam:20250626T130000
DTSTAMP:20260423T012232
CREATED:20250324T130023Z
LAST-MODIFIED:20250324T130301Z
UID:10035792-1750935600-1750942800@welkominutrecht.nu
SUMMARY:Time for women Pahud
DESCRIPTION:Description\n\nPahud’s Living Room is open on Thursdays between 11 a.m. – 1 p.m. especially for women. During that time\, we’ll dance\, paint\, or bake something delicious. Feel welcome to join\, even if you just want to have a chat or listen to music. \n\nLocation\n\nLiving room Plan Einstein Pahud | Pahud de Mortangesdreef 61 \n\nTransport\n\nEverybody comes to the location by themselves.  \n\nRegistration\n\nRegistration is not needed\, you’re welcome to walk in!
URL:https://welkominutrecht.nu/en/agenda-item/time-for-women-pahud-3/2025-06-26/
CATEGORIES:Beauty & body,Creativity & crafts,Games & Meeting,Music
END:VEVENT
BEGIN:VEVENT
DTSTART;TZID=Europe/Amsterdam:20250623T110000
DTEND;TZID=Europe/Amsterdam:20250623T130000
DTSTAMP:20260423T012232
CREATED:20250319T150634Z
LAST-MODIFIED:20250319T150750Z
UID:10035137-1750676400-1750683600@welkominutrecht.nu
SUMMARY:Women cafe Star Lodge
DESCRIPTION:Description\n\nMonday between 11 and 1 is dedicated to the women of Star Lodge. We meet and do activities together.  \n\nLocation\n\nLiving room Star Lodge | Biltsestraatweg 92 \n\nTransport\n\nEveryone comes to the location themselves \n\nRegistration\n\nMore info and registration with Deema: deema@welkominutrecht.nu.
URL:https://welkominutrecht.nu/en/agenda-item/women-cafe-star-lodge-3/2025-06-23/
CATEGORIES:Beauty & body,Creativity & crafts,Games & Meeting
ATTACH;FMTTYPE=image/jpeg:https://welkominutrecht.nu/wp-content/uploads/2025/03/vonecia-carswell-0aMMMUjiiEQ-unsplash-scaled.jpg
END:VEVENT
BEGIN:VEVENT
DTSTART;TZID=Europe/Amsterdam:20250619T110000
DTEND;TZID=Europe/Amsterdam:20250619T130000
DTSTAMP:20260423T012232
CREATED:20250324T130023Z
LAST-MODIFIED:20250324T130301Z
UID:10035791-1750330800-1750338000@welkominutrecht.nu
SUMMARY:Time for women Pahud
DESCRIPTION:Description\n\nPahud’s Living Room is open on Thursdays between 11 a.m. – 1 p.m. especially for women. During that time\, we’ll dance\, paint\, or bake something delicious. Feel welcome to join\, even if you just want to have a chat or listen to music. \n\nLocation\n\nLiving room Plan Einstein Pahud | Pahud de Mortangesdreef 61 \n\nTransport\n\nEverybody comes to the location by themselves.  \n\nRegistration\n\nRegistration is not needed\, you’re welcome to walk in!
URL:https://welkominutrecht.nu/en/agenda-item/time-for-women-pahud-3/2025-06-19/
CATEGORIES:Beauty & body,Creativity & crafts,Games & Meeting,Music
END:VEVENT
BEGIN:VEVENT
DTSTART;TZID=Europe/Amsterdam:20250616T110000
DTEND;TZID=Europe/Amsterdam:20250616T130000
DTSTAMP:20260423T012232
CREATED:20250319T150634Z
LAST-MODIFIED:20250319T150750Z
UID:10035136-1750071600-1750078800@welkominutrecht.nu
SUMMARY:Women cafe Star Lodge
DESCRIPTION:Description\n\nMonday between 11 and 1 is dedicated to the women of Star Lodge. We meet and do activities together.  \n\nLocation\n\nLiving room Star Lodge | Biltsestraatweg 92 \n\nTransport\n\nEveryone comes to the location themselves \n\nRegistration\n\nMore info and registration with Deema: deema@welkominutrecht.nu.
URL:https://welkominutrecht.nu/en/agenda-item/women-cafe-star-lodge-3/2025-06-16/
CATEGORIES:Beauty & body,Creativity & crafts,Games & Meeting
ATTACH;FMTTYPE=image/jpeg:https://welkominutrecht.nu/wp-content/uploads/2025/03/vonecia-carswell-0aMMMUjiiEQ-unsplash-scaled.jpg
END:VEVENT
BEGIN:VEVENT
DTSTART;TZID=Europe/Amsterdam:20250612T110000
DTEND;TZID=Europe/Amsterdam:20250612T130000
DTSTAMP:20260423T012232
CREATED:20250324T130023Z
LAST-MODIFIED:20250324T130301Z
UID:10035790-1749726000-1749733200@welkominutrecht.nu
SUMMARY:Time for women Pahud
DESCRIPTION:Description\n\nPahud’s Living Room is open on Thursdays between 11 a.m. – 1 p.m. especially for women. During that time\, we’ll dance\, paint\, or bake something delicious. Feel welcome to join\, even if you just want to have a chat or listen to music. \n\nLocation\n\nLiving room Plan Einstein Pahud | Pahud de Mortangesdreef 61 \n\nTransport\n\nEverybody comes to the location by themselves.  \n\nRegistration\n\nRegistration is not needed\, you’re welcome to walk in!
URL:https://welkominutrecht.nu/en/agenda-item/time-for-women-pahud-3/2025-06-12/
CATEGORIES:Beauty & body,Creativity & crafts,Games & Meeting,Music
END:VEVENT
BEGIN:VEVENT
DTSTART;TZID=Europe/Amsterdam:20250609T110000
DTEND;TZID=Europe/Amsterdam:20250609T130000
DTSTAMP:20260423T012232
CREATED:20250319T150634Z
LAST-MODIFIED:20250319T150750Z
UID:10035135-1749466800-1749474000@welkominutrecht.nu
SUMMARY:Women cafe Star Lodge
DESCRIPTION:Description\n\nMonday between 11 and 1 is dedicated to the women of Star Lodge. We meet and do activities together.  \n\nLocation\n\nLiving room Star Lodge | Biltsestraatweg 92 \n\nTransport\n\nEveryone comes to the location themselves \n\nRegistration\n\nMore info and registration with Deema: deema@welkominutrecht.nu.
URL:https://welkominutrecht.nu/en/agenda-item/women-cafe-star-lodge-3/2025-06-09/
CATEGORIES:Beauty & body,Creativity & crafts,Games & Meeting
ATTACH;FMTTYPE=image/jpeg:https://welkominutrecht.nu/wp-content/uploads/2025/03/vonecia-carswell-0aMMMUjiiEQ-unsplash-scaled.jpg
END:VEVENT
BEGIN:VEVENT
DTSTART;TZID=Europe/Amsterdam:20250605T110000
DTEND;TZID=Europe/Amsterdam:20250605T130000
DTSTAMP:20260423T012232
CREATED:20250324T130023Z
LAST-MODIFIED:20250324T130301Z
UID:10035789-1749121200-1749128400@welkominutrecht.nu
SUMMARY:Time for women Pahud
DESCRIPTION:Description\n\nPahud’s Living Room is open on Thursdays between 11 a.m. – 1 p.m. especially for women. During that time\, we’ll dance\, paint\, or bake something delicious. Feel welcome to join\, even if you just want to have a chat or listen to music. \n\nLocation\n\nLiving room Plan Einstein Pahud | Pahud de Mortangesdreef 61 \n\nTransport\n\nEverybody comes to the location by themselves.  \n\nRegistration\n\nRegistration is not needed\, you’re welcome to walk in!
URL:https://welkominutrecht.nu/en/agenda-item/time-for-women-pahud-3/2025-06-05/
CATEGORIES:Beauty & body,Creativity & crafts,Games & Meeting,Music
END:VEVENT
END:VCALENDAR