BEGIN:VCALENDAR
VERSION:2.0
PRODID:-//Welkom in Utrecht | Verbindt vluchtelingen met Utrecht - ECPv6.15.18//NONSGML v1.0//EN
CALSCALE:GREGORIAN
METHOD:PUBLISH
X-ORIGINAL-URL:https://welkominutrecht.nu/en/
X-WR-CALDESC:Events for Welkom in Utrecht | Verbindt vluchtelingen met Utrecht
REFRESH-INTERVAL;VALUE=DURATION:PT1H
X-Robots-Tag:noindex
X-PUBLISHED-TTL:PT1H
BEGIN:VTIMEZONE
TZID:Europe/Amsterdam
BEGIN:DAYLIGHT
TZOFFSETFROM:+0100
TZOFFSETTO:+0200
TZNAME:CEST
DTSTART:20230326T010000
END:DAYLIGHT
BEGIN:STANDARD
TZOFFSETFROM:+0200
TZOFFSETTO:+0100
TZNAME:CET
DTSTART:20231029T010000
END:STANDARD
BEGIN:DAYLIGHT
TZOFFSETFROM:+0100
TZOFFSETTO:+0200
TZNAME:CEST
DTSTART:20240331T010000
END:DAYLIGHT
BEGIN:STANDARD
TZOFFSETFROM:+0200
TZOFFSETTO:+0100
TZNAME:CET
DTSTART:20241027T010000
END:STANDARD
BEGIN:DAYLIGHT
TZOFFSETFROM:+0100
TZOFFSETTO:+0200
TZNAME:CEST
DTSTART:20250330T010000
END:DAYLIGHT
BEGIN:STANDARD
TZOFFSETFROM:+0200
TZOFFSETTO:+0100
TZNAME:CET
DTSTART:20251026T010000
END:STANDARD
END:VTIMEZONE
BEGIN:VEVENT
DTSTART;TZID=Europe/Amsterdam:20241209T110000
DTEND;TZID=Europe/Amsterdam:20241209T130000
DTSTAMP:20260423T141112
CREATED:20240918T100214Z
LAST-MODIFIED:20240918T100425Z
UID:10026701-1733742000-1733749200@welkominutrecht.nu
SUMMARY:Women cafe Star Lodge
DESCRIPTION:Description\n\nA weekly afternoon especially for women at Star Lodge. Every week there is a different\, fun activity to do together!  \n\nLocation\n\nLiving room Star Lodge | Biltsestraatweg 92 \n\nTransport\n\nEveryone comes to the location by themselves \n\nRegistration\n\nMore info with Deema: 06-40776030
URL:https://welkominutrecht.nu/en/agenda-item/women-cafe-star-lodge/2024-12-09/
CATEGORIES:Beauty & body,Creativity & crafts,Games & Meeting
END:VEVENT
BEGIN:VEVENT
DTSTART;TZID=Europe/Amsterdam:20241205T110000
DTEND;TZID=Europe/Amsterdam:20241205T130000
DTSTAMP:20260423T141112
CREATED:20240927T065051Z
LAST-MODIFIED:20240927T065311Z
UID:10027158-1733396400-1733403600@welkominutrecht.nu
SUMMARY:Time for women Pahud
DESCRIPTION:Description\n\nThe Living Room at Pahud is open on Thursdays between 11 and 1 o’clock especially for women. In that time there will be danced\, painted\, or something delicious will be baked. Feel welcome to join\, also if you just would like to have a chat or listen to music.  \n\nLocation\n\nLiving Room Plan Einstein Pahud | Pahud de Mortangesdreef 61 \n\nTransport\n\nEveryone comes to the location themselves \n\nRegistration\n\nNo need to sign up\, you can just walk in
URL:https://welkominutrecht.nu/en/agenda-item/time-for-women-pahud/2024-12-05/
CATEGORIES:Beauty & body,Creativity & crafts,Games & Meeting,Music
END:VEVENT
BEGIN:VEVENT
DTSTART;TZID=Europe/Amsterdam:20241202T110000
DTEND;TZID=Europe/Amsterdam:20241202T130000
DTSTAMP:20260423T141112
CREATED:20240918T100214Z
LAST-MODIFIED:20240918T100425Z
UID:10026700-1733137200-1733144400@welkominutrecht.nu
SUMMARY:Women cafe Star Lodge
DESCRIPTION:Description\n\nA weekly afternoon especially for women at Star Lodge. Every week there is a different\, fun activity to do together!  \n\nLocation\n\nLiving room Star Lodge | Biltsestraatweg 92 \n\nTransport\n\nEveryone comes to the location by themselves \n\nRegistration\n\nMore info with Deema: 06-40776030
URL:https://welkominutrecht.nu/en/agenda-item/women-cafe-star-lodge/2024-12-02/
CATEGORIES:Beauty & body,Creativity & crafts,Games & Meeting
END:VEVENT
BEGIN:VEVENT
DTSTART;TZID=Europe/Amsterdam:20241128T110000
DTEND;TZID=Europe/Amsterdam:20241128T130000
DTSTAMP:20260423T141112
CREATED:20240927T065051Z
LAST-MODIFIED:20240927T065311Z
UID:10027157-1732791600-1732798800@welkominutrecht.nu
SUMMARY:Time for women Pahud
DESCRIPTION:Description\n\nThe Living Room at Pahud is open on Thursdays between 11 and 1 o’clock especially for women. In that time there will be danced\, painted\, or something delicious will be baked. Feel welcome to join\, also if you just would like to have a chat or listen to music.  \n\nLocation\n\nLiving Room Plan Einstein Pahud | Pahud de Mortangesdreef 61 \n\nTransport\n\nEveryone comes to the location themselves \n\nRegistration\n\nNo need to sign up\, you can just walk in
URL:https://welkominutrecht.nu/en/agenda-item/time-for-women-pahud/2024-11-28/
CATEGORIES:Beauty & body,Creativity & crafts,Games & Meeting,Music
END:VEVENT
BEGIN:VEVENT
DTSTART;TZID=Europe/Amsterdam:20241125T110000
DTEND;TZID=Europe/Amsterdam:20241125T130000
DTSTAMP:20260423T141112
CREATED:20240918T100214Z
LAST-MODIFIED:20240918T100425Z
UID:10026699-1732532400-1732539600@welkominutrecht.nu
SUMMARY:Women cafe Star Lodge
DESCRIPTION:Description\n\nA weekly afternoon especially for women at Star Lodge. Every week there is a different\, fun activity to do together!  \n\nLocation\n\nLiving room Star Lodge | Biltsestraatweg 92 \n\nTransport\n\nEveryone comes to the location by themselves \n\nRegistration\n\nMore info with Deema: 06-40776030
URL:https://welkominutrecht.nu/en/agenda-item/women-cafe-star-lodge/2024-11-25/
CATEGORIES:Beauty & body,Creativity & crafts,Games & Meeting
END:VEVENT
BEGIN:VEVENT
DTSTART;TZID=Europe/Amsterdam:20241121T110000
DTEND;TZID=Europe/Amsterdam:20241121T130000
DTSTAMP:20260423T141112
CREATED:20240927T065051Z
LAST-MODIFIED:20240927T065311Z
UID:10027156-1732186800-1732194000@welkominutrecht.nu
SUMMARY:Time for women Pahud
DESCRIPTION:Description\n\nThe Living Room at Pahud is open on Thursdays between 11 and 1 o’clock especially for women. In that time there will be danced\, painted\, or something delicious will be baked. Feel welcome to join\, also if you just would like to have a chat or listen to music.  \n\nLocation\n\nLiving Room Plan Einstein Pahud | Pahud de Mortangesdreef 61 \n\nTransport\n\nEveryone comes to the location themselves \n\nRegistration\n\nNo need to sign up\, you can just walk in
URL:https://welkominutrecht.nu/en/agenda-item/time-for-women-pahud/2024-11-21/
CATEGORIES:Beauty & body,Creativity & crafts,Games & Meeting,Music
END:VEVENT
BEGIN:VEVENT
DTSTART;TZID=Europe/Amsterdam:20241118T110000
DTEND;TZID=Europe/Amsterdam:20241118T130000
DTSTAMP:20260423T141112
CREATED:20240918T100214Z
LAST-MODIFIED:20240918T100425Z
UID:10026698-1731927600-1731934800@welkominutrecht.nu
SUMMARY:Women cafe Star Lodge
DESCRIPTION:Description\n\nA weekly afternoon especially for women at Star Lodge. Every week there is a different\, fun activity to do together!  \n\nLocation\n\nLiving room Star Lodge | Biltsestraatweg 92 \n\nTransport\n\nEveryone comes to the location by themselves \n\nRegistration\n\nMore info with Deema: 06-40776030
URL:https://welkominutrecht.nu/en/agenda-item/women-cafe-star-lodge/2024-11-18/
CATEGORIES:Beauty & body,Creativity & crafts,Games & Meeting
END:VEVENT
BEGIN:VEVENT
DTSTART;TZID=Europe/Amsterdam:20241114T110000
DTEND;TZID=Europe/Amsterdam:20241114T130000
DTSTAMP:20260423T141112
CREATED:20240927T065051Z
LAST-MODIFIED:20240927T065311Z
UID:10027155-1731582000-1731589200@welkominutrecht.nu
SUMMARY:Time for women Pahud
DESCRIPTION:Description\n\nThe Living Room at Pahud is open on Thursdays between 11 and 1 o’clock especially for women. In that time there will be danced\, painted\, or something delicious will be baked. Feel welcome to join\, also if you just would like to have a chat or listen to music.  \n\nLocation\n\nLiving Room Plan Einstein Pahud | Pahud de Mortangesdreef 61 \n\nTransport\n\nEveryone comes to the location themselves \n\nRegistration\n\nNo need to sign up\, you can just walk in
URL:https://welkominutrecht.nu/en/agenda-item/time-for-women-pahud/2024-11-14/
CATEGORIES:Beauty & body,Creativity & crafts,Games & Meeting,Music
END:VEVENT
BEGIN:VEVENT
DTSTART;TZID=Europe/Amsterdam:20241111T110000
DTEND;TZID=Europe/Amsterdam:20241111T130000
DTSTAMP:20260423T141112
CREATED:20240918T100214Z
LAST-MODIFIED:20240918T100425Z
UID:10026697-1731322800-1731330000@welkominutrecht.nu
SUMMARY:Women cafe Star Lodge
DESCRIPTION:Description\n\nA weekly afternoon especially for women at Star Lodge. Every week there is a different\, fun activity to do together!  \n\nLocation\n\nLiving room Star Lodge | Biltsestraatweg 92 \n\nTransport\n\nEveryone comes to the location by themselves \n\nRegistration\n\nMore info with Deema: 06-40776030
URL:https://welkominutrecht.nu/en/agenda-item/women-cafe-star-lodge/2024-11-11/
CATEGORIES:Beauty & body,Creativity & crafts,Games & Meeting
END:VEVENT
BEGIN:VEVENT
DTSTART;TZID=Europe/Amsterdam:20241107T110000
DTEND;TZID=Europe/Amsterdam:20241107T130000
DTSTAMP:20260423T141112
CREATED:20240927T065051Z
LAST-MODIFIED:20240927T065311Z
UID:10027154-1730977200-1730984400@welkominutrecht.nu
SUMMARY:Time for women Pahud
DESCRIPTION:Description\n\nThe Living Room at Pahud is open on Thursdays between 11 and 1 o’clock especially for women. In that time there will be danced\, painted\, or something delicious will be baked. Feel welcome to join\, also if you just would like to have a chat or listen to music.  \n\nLocation\n\nLiving Room Plan Einstein Pahud | Pahud de Mortangesdreef 61 \n\nTransport\n\nEveryone comes to the location themselves \n\nRegistration\n\nNo need to sign up\, you can just walk in
URL:https://welkominutrecht.nu/en/agenda-item/time-for-women-pahud/2024-11-07/
CATEGORIES:Beauty & body,Creativity & crafts,Games & Meeting,Music
END:VEVENT
BEGIN:VEVENT
DTSTART;TZID=Europe/Amsterdam:20241104T110000
DTEND;TZID=Europe/Amsterdam:20241104T130000
DTSTAMP:20260423T141112
CREATED:20240918T100214Z
LAST-MODIFIED:20240918T100425Z
UID:10026696-1730718000-1730725200@welkominutrecht.nu
SUMMARY:Women cafe Star Lodge
DESCRIPTION:Description\n\nA weekly afternoon especially for women at Star Lodge. Every week there is a different\, fun activity to do together!  \n\nLocation\n\nLiving room Star Lodge | Biltsestraatweg 92 \n\nTransport\n\nEveryone comes to the location by themselves \n\nRegistration\n\nMore info with Deema: 06-40776030
URL:https://welkominutrecht.nu/en/agenda-item/women-cafe-star-lodge/2024-11-04/
CATEGORIES:Beauty & body,Creativity & crafts,Games & Meeting
END:VEVENT
BEGIN:VEVENT
DTSTART;TZID=Europe/Amsterdam:20241031T110000
DTEND;TZID=Europe/Amsterdam:20241031T130000
DTSTAMP:20260423T141112
CREATED:20240927T065051Z
LAST-MODIFIED:20240927T065311Z
UID:10027153-1730372400-1730379600@welkominutrecht.nu
SUMMARY:Time for women Pahud
DESCRIPTION:Description\n\nThe Living Room at Pahud is open on Thursdays between 11 and 1 o’clock especially for women. In that time there will be danced\, painted\, or something delicious will be baked. Feel welcome to join\, also if you just would like to have a chat or listen to music.  \n\nLocation\n\nLiving Room Plan Einstein Pahud | Pahud de Mortangesdreef 61 \n\nTransport\n\nEveryone comes to the location themselves \n\nRegistration\n\nNo need to sign up\, you can just walk in
URL:https://welkominutrecht.nu/en/agenda-item/time-for-women-pahud/2024-10-31/
CATEGORIES:Beauty & body,Creativity & crafts,Games & Meeting,Music
END:VEVENT
BEGIN:VEVENT
DTSTART;TZID=Europe/Amsterdam:20241028T110000
DTEND;TZID=Europe/Amsterdam:20241028T130000
DTSTAMP:20260423T141112
CREATED:20240918T100214Z
LAST-MODIFIED:20240918T100425Z
UID:10026695-1730113200-1730120400@welkominutrecht.nu
SUMMARY:Women cafe Star Lodge
DESCRIPTION:Description\n\nA weekly afternoon especially for women at Star Lodge. Every week there is a different\, fun activity to do together!  \n\nLocation\n\nLiving room Star Lodge | Biltsestraatweg 92 \n\nTransport\n\nEveryone comes to the location by themselves \n\nRegistration\n\nMore info with Deema: 06-40776030
URL:https://welkominutrecht.nu/en/agenda-item/women-cafe-star-lodge/2024-10-28/
CATEGORIES:Beauty & body,Creativity & crafts,Games & Meeting
END:VEVENT
BEGIN:VEVENT
DTSTART;TZID=Europe/Amsterdam:20241024T110000
DTEND;TZID=Europe/Amsterdam:20241024T130000
DTSTAMP:20260423T141112
CREATED:20240927T065051Z
LAST-MODIFIED:20240927T065311Z
UID:10027152-1729767600-1729774800@welkominutrecht.nu
SUMMARY:Time for women Pahud
DESCRIPTION:Description\n\nThe Living Room at Pahud is open on Thursdays between 11 and 1 o’clock especially for women. In that time there will be danced\, painted\, or something delicious will be baked. Feel welcome to join\, also if you just would like to have a chat or listen to music.  \n\nLocation\n\nLiving Room Plan Einstein Pahud | Pahud de Mortangesdreef 61 \n\nTransport\n\nEveryone comes to the location themselves \n\nRegistration\n\nNo need to sign up\, you can just walk in
URL:https://welkominutrecht.nu/en/agenda-item/time-for-women-pahud/2024-10-24/
CATEGORIES:Beauty & body,Creativity & crafts,Games & Meeting,Music
END:VEVENT
BEGIN:VEVENT
DTSTART;TZID=Europe/Amsterdam:20241021T110000
DTEND;TZID=Europe/Amsterdam:20241021T130000
DTSTAMP:20260423T141112
CREATED:20240918T100214Z
LAST-MODIFIED:20240918T100425Z
UID:10026694-1729508400-1729515600@welkominutrecht.nu
SUMMARY:Women cafe Star Lodge
DESCRIPTION:Description\n\nA weekly afternoon especially for women at Star Lodge. Every week there is a different\, fun activity to do together!  \n\nLocation\n\nLiving room Star Lodge | Biltsestraatweg 92 \n\nTransport\n\nEveryone comes to the location by themselves \n\nRegistration\n\nMore info with Deema: 06-40776030
URL:https://welkominutrecht.nu/en/agenda-item/women-cafe-star-lodge/2024-10-21/
CATEGORIES:Beauty & body,Creativity & crafts,Games & Meeting
END:VEVENT
BEGIN:VEVENT
DTSTART;TZID=Europe/Amsterdam:20241017T110000
DTEND;TZID=Europe/Amsterdam:20241017T130000
DTSTAMP:20260423T141112
CREATED:20240927T065051Z
LAST-MODIFIED:20240927T065311Z
UID:10027151-1729162800-1729170000@welkominutrecht.nu
SUMMARY:Time for women Pahud
DESCRIPTION:Description\n\nThe Living Room at Pahud is open on Thursdays between 11 and 1 o’clock especially for women. In that time there will be danced\, painted\, or something delicious will be baked. Feel welcome to join\, also if you just would like to have a chat or listen to music.  \n\nLocation\n\nLiving Room Plan Einstein Pahud | Pahud de Mortangesdreef 61 \n\nTransport\n\nEveryone comes to the location themselves \n\nRegistration\n\nNo need to sign up\, you can just walk in
URL:https://welkominutrecht.nu/en/agenda-item/time-for-women-pahud/2024-10-17/
CATEGORIES:Beauty & body,Creativity & crafts,Games & Meeting,Music
END:VEVENT
BEGIN:VEVENT
DTSTART;TZID=Europe/Amsterdam:20241014T110000
DTEND;TZID=Europe/Amsterdam:20241014T130000
DTSTAMP:20260423T141112
CREATED:20240918T100214Z
LAST-MODIFIED:20240918T100425Z
UID:10026693-1728903600-1728910800@welkominutrecht.nu
SUMMARY:Women cafe Star Lodge
DESCRIPTION:Description\n\nA weekly afternoon especially for women at Star Lodge. Every week there is a different\, fun activity to do together!  \n\nLocation\n\nLiving room Star Lodge | Biltsestraatweg 92 \n\nTransport\n\nEveryone comes to the location by themselves \n\nRegistration\n\nMore info with Deema: 06-40776030
URL:https://welkominutrecht.nu/en/agenda-item/women-cafe-star-lodge/2024-10-14/
CATEGORIES:Beauty & body,Creativity & crafts,Games & Meeting
END:VEVENT
BEGIN:VEVENT
DTSTART;TZID=Europe/Amsterdam:20241010T110000
DTEND;TZID=Europe/Amsterdam:20241010T130000
DTSTAMP:20260423T141112
CREATED:20240927T065051Z
LAST-MODIFIED:20240927T065311Z
UID:10027150-1728558000-1728565200@welkominutrecht.nu
SUMMARY:Time for women Pahud
DESCRIPTION:Description\n\nThe Living Room at Pahud is open on Thursdays between 11 and 1 o’clock especially for women. In that time there will be danced\, painted\, or something delicious will be baked. Feel welcome to join\, also if you just would like to have a chat or listen to music.  \n\nLocation\n\nLiving Room Plan Einstein Pahud | Pahud de Mortangesdreef 61 \n\nTransport\n\nEveryone comes to the location themselves \n\nRegistration\n\nNo need to sign up\, you can just walk in
URL:https://welkominutrecht.nu/en/agenda-item/time-for-women-pahud/2024-10-10/
CATEGORIES:Beauty & body,Creativity & crafts,Games & Meeting,Music
END:VEVENT
BEGIN:VEVENT
DTSTART;TZID=Europe/Amsterdam:20241007T110000
DTEND;TZID=Europe/Amsterdam:20241007T130000
DTSTAMP:20260423T141112
CREATED:20240918T100214Z
LAST-MODIFIED:20240918T100425Z
UID:10026692-1728298800-1728306000@welkominutrecht.nu
SUMMARY:Women cafe Star Lodge
DESCRIPTION:Description\n\nA weekly afternoon especially for women at Star Lodge. Every week there is a different\, fun activity to do together!  \n\nLocation\n\nLiving room Star Lodge | Biltsestraatweg 92 \n\nTransport\n\nEveryone comes to the location by themselves \n\nRegistration\n\nMore info with Deema: 06-40776030
URL:https://welkominutrecht.nu/en/agenda-item/women-cafe-star-lodge/2024-10-07/
CATEGORIES:Beauty & body,Creativity & crafts,Games & Meeting
END:VEVENT
BEGIN:VEVENT
DTSTART;TZID=Europe/Amsterdam:20241003T110000
DTEND;TZID=Europe/Amsterdam:20241003T130000
DTSTAMP:20260423T141112
CREATED:20240927T065051Z
LAST-MODIFIED:20240927T065311Z
UID:10027149-1727953200-1727960400@welkominutrecht.nu
SUMMARY:Time for women Pahud
DESCRIPTION:Description\n\nThe Living Room at Pahud is open on Thursdays between 11 and 1 o’clock especially for women. In that time there will be danced\, painted\, or something delicious will be baked. Feel welcome to join\, also if you just would like to have a chat or listen to music.  \n\nLocation\n\nLiving Room Plan Einstein Pahud | Pahud de Mortangesdreef 61 \n\nTransport\n\nEveryone comes to the location themselves \n\nRegistration\n\nNo need to sign up\, you can just walk in
URL:https://welkominutrecht.nu/en/agenda-item/time-for-women-pahud/2024-10-03/
CATEGORIES:Beauty & body,Creativity & crafts,Games & Meeting,Music
END:VEVENT
END:VCALENDAR