BEGIN:VCALENDAR
VERSION:2.0
PRODID:-//Welkom in Utrecht | Verbindt vluchtelingen met Utrecht - ECPv6.15.18//NONSGML v1.0//EN
CALSCALE:GREGORIAN
METHOD:PUBLISH
X-WR-CALNAME:Welkom in Utrecht | Verbindt vluchtelingen met Utrecht
X-ORIGINAL-URL:https://welkominutrecht.nu/en/
X-WR-CALDESC:Events for Welkom in Utrecht | Verbindt vluchtelingen met Utrecht
REFRESH-INTERVAL;VALUE=DURATION:PT1H
X-Robots-Tag:noindex
X-PUBLISHED-TTL:PT1H
BEGIN:VTIMEZONE
TZID:Europe/Amsterdam
BEGIN:DAYLIGHT
TZOFFSETFROM:+0100
TZOFFSETTO:+0200
TZNAME:CEST
DTSTART:20240331T010000
END:DAYLIGHT
BEGIN:STANDARD
TZOFFSETFROM:+0200
TZOFFSETTO:+0100
TZNAME:CET
DTSTART:20241027T010000
END:STANDARD
BEGIN:DAYLIGHT
TZOFFSETFROM:+0100
TZOFFSETTO:+0200
TZNAME:CEST
DTSTART:20250330T010000
END:DAYLIGHT
BEGIN:STANDARD
TZOFFSETFROM:+0200
TZOFFSETTO:+0100
TZNAME:CET
DTSTART:20251026T010000
END:STANDARD
BEGIN:DAYLIGHT
TZOFFSETFROM:+0100
TZOFFSETTO:+0200
TZNAME:CEST
DTSTART:20260329T010000
END:DAYLIGHT
BEGIN:STANDARD
TZOFFSETFROM:+0200
TZOFFSETTO:+0100
TZNAME:CET
DTSTART:20261025T010000
END:STANDARD
END:VTIMEZONE
BEGIN:VEVENT
DTSTART;TZID=Europe/Amsterdam:20251229T110000
DTEND;TZID=Europe/Amsterdam:20251229T130000
DTSTAMP:20260422T201548
CREATED:20250929T094006Z
LAST-MODIFIED:20250929T094106Z
UID:10041145-1767006000-1767013200@welkominutrecht.nu
SUMMARY:Women's cafe Star Lodge
DESCRIPTION:Description\n\nMonday between 11 and 1 o’clock is all about the women of Star Lodge. We meet each other and do activities together. \n\nLocation\n\nLiving room Star Lodge | Biltsestraatweg 92 \n\nTransport\n\nEveryone comes to the location themselves \n\nRegistration\n\nWould you like to join? Please send a message to deema@welkominutrecht.nu.
URL:https://welkominutrecht.nu/en/agenda-item/womens-cafe-star-lodge-2/2025-12-29/
CATEGORIES:Beauty & body,Creativity & crafts,Games & Meeting
ATTACH;FMTTYPE=image/jpeg:https://welkominutrecht.nu/wp-content/uploads/2025/03/vonecia-carswell-0aMMMUjiiEQ-unsplash-scaled.jpg
END:VEVENT
BEGIN:VEVENT
DTSTART;TZID=Europe/Amsterdam:20251222T110000
DTEND;TZID=Europe/Amsterdam:20251222T130000
DTSTAMP:20260422T201548
CREATED:20250929T094006Z
LAST-MODIFIED:20250929T094106Z
UID:10041144-1766401200-1766408400@welkominutrecht.nu
SUMMARY:Women's cafe Star Lodge
DESCRIPTION:Description\n\nMonday between 11 and 1 o’clock is all about the women of Star Lodge. We meet each other and do activities together. \n\nLocation\n\nLiving room Star Lodge | Biltsestraatweg 92 \n\nTransport\n\nEveryone comes to the location themselves \n\nRegistration\n\nWould you like to join? Please send a message to deema@welkominutrecht.nu.
URL:https://welkominutrecht.nu/en/agenda-item/womens-cafe-star-lodge-2/2025-12-22/
CATEGORIES:Beauty & body,Creativity & crafts,Games & Meeting
ATTACH;FMTTYPE=image/jpeg:https://welkominutrecht.nu/wp-content/uploads/2025/03/vonecia-carswell-0aMMMUjiiEQ-unsplash-scaled.jpg
END:VEVENT
BEGIN:VEVENT
DTSTART;TZID=Europe/Amsterdam:20251215T110000
DTEND;TZID=Europe/Amsterdam:20251215T130000
DTSTAMP:20260422T201548
CREATED:20250929T094006Z
LAST-MODIFIED:20250929T094106Z
UID:10041143-1765796400-1765803600@welkominutrecht.nu
SUMMARY:Women's cafe Star Lodge
DESCRIPTION:Description\n\nMonday between 11 and 1 o’clock is all about the women of Star Lodge. We meet each other and do activities together. \n\nLocation\n\nLiving room Star Lodge | Biltsestraatweg 92 \n\nTransport\n\nEveryone comes to the location themselves \n\nRegistration\n\nWould you like to join? Please send a message to deema@welkominutrecht.nu.
URL:https://welkominutrecht.nu/en/agenda-item/womens-cafe-star-lodge-2/2025-12-15/
CATEGORIES:Beauty & body,Creativity & crafts,Games & Meeting
ATTACH;FMTTYPE=image/jpeg:https://welkominutrecht.nu/wp-content/uploads/2025/03/vonecia-carswell-0aMMMUjiiEQ-unsplash-scaled.jpg
END:VEVENT
BEGIN:VEVENT
DTSTART;TZID=Europe/Amsterdam:20251208T110000
DTEND;TZID=Europe/Amsterdam:20251208T130000
DTSTAMP:20260422T201548
CREATED:20250929T094006Z
LAST-MODIFIED:20250929T094106Z
UID:10041142-1765191600-1765198800@welkominutrecht.nu
SUMMARY:Women's cafe Star Lodge
DESCRIPTION:Description\n\nMonday between 11 and 1 o’clock is all about the women of Star Lodge. We meet each other and do activities together. \n\nLocation\n\nLiving room Star Lodge | Biltsestraatweg 92 \n\nTransport\n\nEveryone comes to the location themselves \n\nRegistration\n\nWould you like to join? Please send a message to deema@welkominutrecht.nu.
URL:https://welkominutrecht.nu/en/agenda-item/womens-cafe-star-lodge-2/2025-12-08/
CATEGORIES:Beauty & body,Creativity & crafts,Games & Meeting
ATTACH;FMTTYPE=image/jpeg:https://welkominutrecht.nu/wp-content/uploads/2025/03/vonecia-carswell-0aMMMUjiiEQ-unsplash-scaled.jpg
END:VEVENT
BEGIN:VEVENT
DTSTART;TZID=Europe/Amsterdam:20251202T190000
DTEND;TZID=Europe/Amsterdam:20251202T210000
DTSTAMP:20260422T201548
CREATED:20251007T114429Z
LAST-MODIFIED:20251007T114544Z
UID:10041605-1764702000-1764709200@welkominutrecht.nu
SUMMARY:Women's night Pahud with STUT theater
DESCRIPTION:Description\n\nEvery Tuesday evening from 7 p.m.\, we get together: women from Pahud and women from the neighborhood. Theater makers Lena and Kira come up with all kinds of creative activities and games. We do all kinds of things: theater\, drawing\, dancing\, writing\, working with audio\, and more!  \n\nLocation\n\nLiving room Plan Einstein Pahud | Pahud de Mortangesdreef 61 \n\nTransport\n\nEveryone comes to the livingroom themselves \n\nRegistration\n\nWalk in and join us! Would you like some more information? Please send an e-mail to linda@welkominutrecht.nu.
URL:https://welkominutrecht.nu/en/agenda-item/womens-night-pahud-with-stut-theater/2025-12-02/
CATEGORIES:Beauty & body,Creativity & crafts,Games & Meeting
END:VEVENT
BEGIN:VEVENT
DTSTART;TZID=Europe/Amsterdam:20251201T110000
DTEND;TZID=Europe/Amsterdam:20251201T130000
DTSTAMP:20260422T201548
CREATED:20250929T094006Z
LAST-MODIFIED:20250929T094106Z
UID:10041141-1764586800-1764594000@welkominutrecht.nu
SUMMARY:Women's cafe Star Lodge
DESCRIPTION:Description\n\nMonday between 11 and 1 o’clock is all about the women of Star Lodge. We meet each other and do activities together. \n\nLocation\n\nLiving room Star Lodge | Biltsestraatweg 92 \n\nTransport\n\nEveryone comes to the location themselves \n\nRegistration\n\nWould you like to join? Please send a message to deema@welkominutrecht.nu.
URL:https://welkominutrecht.nu/en/agenda-item/womens-cafe-star-lodge-2/2025-12-01/
CATEGORIES:Beauty & body,Creativity & crafts,Games & Meeting
ATTACH;FMTTYPE=image/jpeg:https://welkominutrecht.nu/wp-content/uploads/2025/03/vonecia-carswell-0aMMMUjiiEQ-unsplash-scaled.jpg
END:VEVENT
BEGIN:VEVENT
DTSTART;TZID=Europe/Amsterdam:20251125T190000
DTEND;TZID=Europe/Amsterdam:20251125T210000
DTSTAMP:20260422T201548
CREATED:20251007T114429Z
LAST-MODIFIED:20251007T114544Z
UID:10041604-1764097200-1764104400@welkominutrecht.nu
SUMMARY:Women's night Pahud with STUT theater
DESCRIPTION:Description\n\nEvery Tuesday evening from 7 p.m.\, we get together: women from Pahud and women from the neighborhood. Theater makers Lena and Kira come up with all kinds of creative activities and games. We do all kinds of things: theater\, drawing\, dancing\, writing\, working with audio\, and more!  \n\nLocation\n\nLiving room Plan Einstein Pahud | Pahud de Mortangesdreef 61 \n\nTransport\n\nEveryone comes to the livingroom themselves \n\nRegistration\n\nWalk in and join us! Would you like some more information? Please send an e-mail to linda@welkominutrecht.nu.
URL:https://welkominutrecht.nu/en/agenda-item/womens-night-pahud-with-stut-theater/2025-11-25/
CATEGORIES:Beauty & body,Creativity & crafts,Games & Meeting
END:VEVENT
BEGIN:VEVENT
DTSTART;TZID=Europe/Amsterdam:20251124T110000
DTEND;TZID=Europe/Amsterdam:20251124T130000
DTSTAMP:20260422T201548
CREATED:20250929T094006Z
LAST-MODIFIED:20250929T094106Z
UID:10041140-1763982000-1763989200@welkominutrecht.nu
SUMMARY:Women's cafe Star Lodge
DESCRIPTION:Description\n\nMonday between 11 and 1 o’clock is all about the women of Star Lodge. We meet each other and do activities together. \n\nLocation\n\nLiving room Star Lodge | Biltsestraatweg 92 \n\nTransport\n\nEveryone comes to the location themselves \n\nRegistration\n\nWould you like to join? Please send a message to deema@welkominutrecht.nu.
URL:https://welkominutrecht.nu/en/agenda-item/womens-cafe-star-lodge-2/2025-11-24/
CATEGORIES:Beauty & body,Creativity & crafts,Games & Meeting
ATTACH;FMTTYPE=image/jpeg:https://welkominutrecht.nu/wp-content/uploads/2025/03/vonecia-carswell-0aMMMUjiiEQ-unsplash-scaled.jpg
END:VEVENT
BEGIN:VEVENT
DTSTART;TZID=Europe/Amsterdam:20251118T190000
DTEND;TZID=Europe/Amsterdam:20251118T210000
DTSTAMP:20260422T201548
CREATED:20251007T114429Z
LAST-MODIFIED:20251007T114544Z
UID:10041603-1763492400-1763499600@welkominutrecht.nu
SUMMARY:Women's night Pahud with STUT theater
DESCRIPTION:Description\n\nEvery Tuesday evening from 7 p.m.\, we get together: women from Pahud and women from the neighborhood. Theater makers Lena and Kira come up with all kinds of creative activities and games. We do all kinds of things: theater\, drawing\, dancing\, writing\, working with audio\, and more!  \n\nLocation\n\nLiving room Plan Einstein Pahud | Pahud de Mortangesdreef 61 \n\nTransport\n\nEveryone comes to the livingroom themselves \n\nRegistration\n\nWalk in and join us! Would you like some more information? Please send an e-mail to linda@welkominutrecht.nu.
URL:https://welkominutrecht.nu/en/agenda-item/womens-night-pahud-with-stut-theater/2025-11-18/
CATEGORIES:Beauty & body,Creativity & crafts,Games & Meeting
END:VEVENT
BEGIN:VEVENT
DTSTART;TZID=Europe/Amsterdam:20251117T110000
DTEND;TZID=Europe/Amsterdam:20251117T130000
DTSTAMP:20260422T201548
CREATED:20250929T094006Z
LAST-MODIFIED:20250929T094106Z
UID:10041139-1763377200-1763384400@welkominutrecht.nu
SUMMARY:Women's cafe Star Lodge
DESCRIPTION:Description\n\nMonday between 11 and 1 o’clock is all about the women of Star Lodge. We meet each other and do activities together. \n\nLocation\n\nLiving room Star Lodge | Biltsestraatweg 92 \n\nTransport\n\nEveryone comes to the location themselves \n\nRegistration\n\nWould you like to join? Please send a message to deema@welkominutrecht.nu.
URL:https://welkominutrecht.nu/en/agenda-item/womens-cafe-star-lodge-2/2025-11-17/
CATEGORIES:Beauty & body,Creativity & crafts,Games & Meeting
ATTACH;FMTTYPE=image/jpeg:https://welkominutrecht.nu/wp-content/uploads/2025/03/vonecia-carswell-0aMMMUjiiEQ-unsplash-scaled.jpg
END:VEVENT
BEGIN:VEVENT
DTSTART;TZID=Europe/Amsterdam:20251111T190000
DTEND;TZID=Europe/Amsterdam:20251111T210000
DTSTAMP:20260422T201548
CREATED:20251007T114429Z
LAST-MODIFIED:20251007T114544Z
UID:10041602-1762887600-1762894800@welkominutrecht.nu
SUMMARY:Women's night Pahud with STUT theater
DESCRIPTION:Description\n\nEvery Tuesday evening from 7 p.m.\, we get together: women from Pahud and women from the neighborhood. Theater makers Lena and Kira come up with all kinds of creative activities and games. We do all kinds of things: theater\, drawing\, dancing\, writing\, working with audio\, and more!  \n\nLocation\n\nLiving room Plan Einstein Pahud | Pahud de Mortangesdreef 61 \n\nTransport\n\nEveryone comes to the livingroom themselves \n\nRegistration\n\nWalk in and join us! Would you like some more information? Please send an e-mail to linda@welkominutrecht.nu.
URL:https://welkominutrecht.nu/en/agenda-item/womens-night-pahud-with-stut-theater/2025-11-11/
CATEGORIES:Beauty & body,Creativity & crafts,Games & Meeting
END:VEVENT
BEGIN:VEVENT
DTSTART;TZID=Europe/Amsterdam:20251110T110000
DTEND;TZID=Europe/Amsterdam:20251110T130000
DTSTAMP:20260422T201548
CREATED:20250929T094006Z
LAST-MODIFIED:20250929T094106Z
UID:10041138-1762772400-1762779600@welkominutrecht.nu
SUMMARY:Women's cafe Star Lodge
DESCRIPTION:Description\n\nMonday between 11 and 1 o’clock is all about the women of Star Lodge. We meet each other and do activities together. \n\nLocation\n\nLiving room Star Lodge | Biltsestraatweg 92 \n\nTransport\n\nEveryone comes to the location themselves \n\nRegistration\n\nWould you like to join? Please send a message to deema@welkominutrecht.nu.
URL:https://welkominutrecht.nu/en/agenda-item/womens-cafe-star-lodge-2/2025-11-10/
CATEGORIES:Beauty & body,Creativity & crafts,Games & Meeting
ATTACH;FMTTYPE=image/jpeg:https://welkominutrecht.nu/wp-content/uploads/2025/03/vonecia-carswell-0aMMMUjiiEQ-unsplash-scaled.jpg
END:VEVENT
BEGIN:VEVENT
DTSTART;TZID=Europe/Amsterdam:20251104T190000
DTEND;TZID=Europe/Amsterdam:20251104T210000
DTSTAMP:20260422T201548
CREATED:20251007T114429Z
LAST-MODIFIED:20251007T114544Z
UID:10041601-1762282800-1762290000@welkominutrecht.nu
SUMMARY:Women's night Pahud with STUT theater
DESCRIPTION:Description\n\nEvery Tuesday evening from 7 p.m.\, we get together: women from Pahud and women from the neighborhood. Theater makers Lena and Kira come up with all kinds of creative activities and games. We do all kinds of things: theater\, drawing\, dancing\, writing\, working with audio\, and more!  \n\nLocation\n\nLiving room Plan Einstein Pahud | Pahud de Mortangesdreef 61 \n\nTransport\n\nEveryone comes to the livingroom themselves \n\nRegistration\n\nWalk in and join us! Would you like some more information? Please send an e-mail to linda@welkominutrecht.nu.
URL:https://welkominutrecht.nu/en/agenda-item/womens-night-pahud-with-stut-theater/2025-11-04/
CATEGORIES:Beauty & body,Creativity & crafts,Games & Meeting
END:VEVENT
BEGIN:VEVENT
DTSTART;TZID=Europe/Amsterdam:20251103T110000
DTEND;TZID=Europe/Amsterdam:20251103T130000
DTSTAMP:20260422T201548
CREATED:20250929T094006Z
LAST-MODIFIED:20250929T094106Z
UID:10041137-1762167600-1762174800@welkominutrecht.nu
SUMMARY:Women's cafe Star Lodge
DESCRIPTION:Description\n\nMonday between 11 and 1 o’clock is all about the women of Star Lodge. We meet each other and do activities together. \n\nLocation\n\nLiving room Star Lodge | Biltsestraatweg 92 \n\nTransport\n\nEveryone comes to the location themselves \n\nRegistration\n\nWould you like to join? Please send a message to deema@welkominutrecht.nu.
URL:https://welkominutrecht.nu/en/agenda-item/womens-cafe-star-lodge-2/2025-11-03/
CATEGORIES:Beauty & body,Creativity & crafts,Games & Meeting
ATTACH;FMTTYPE=image/jpeg:https://welkominutrecht.nu/wp-content/uploads/2025/03/vonecia-carswell-0aMMMUjiiEQ-unsplash-scaled.jpg
END:VEVENT
BEGIN:VEVENT
DTSTART;TZID=Europe/Amsterdam:20251028T190000
DTEND;TZID=Europe/Amsterdam:20251028T210000
DTSTAMP:20260422T201548
CREATED:20251007T114429Z
LAST-MODIFIED:20251007T114544Z
UID:10041600-1761678000-1761685200@welkominutrecht.nu
SUMMARY:Women's night Pahud with STUT theater
DESCRIPTION:Description\n\nEvery Tuesday evening from 7 p.m.\, we get together: women from Pahud and women from the neighborhood. Theater makers Lena and Kira come up with all kinds of creative activities and games. We do all kinds of things: theater\, drawing\, dancing\, writing\, working with audio\, and more!  \n\nLocation\n\nLiving room Plan Einstein Pahud | Pahud de Mortangesdreef 61 \n\nTransport\n\nEveryone comes to the livingroom themselves \n\nRegistration\n\nWalk in and join us! Would you like some more information? Please send an e-mail to linda@welkominutrecht.nu.
URL:https://welkominutrecht.nu/en/agenda-item/womens-night-pahud-with-stut-theater/2025-10-28/
CATEGORIES:Beauty & body,Creativity & crafts,Games & Meeting
END:VEVENT
BEGIN:VEVENT
DTSTART;TZID=Europe/Amsterdam:20251027T110000
DTEND;TZID=Europe/Amsterdam:20251027T130000
DTSTAMP:20260422T201548
CREATED:20250929T094006Z
LAST-MODIFIED:20250929T094106Z
UID:10041136-1761562800-1761570000@welkominutrecht.nu
SUMMARY:Women's cafe Star Lodge
DESCRIPTION:Description\n\nMonday between 11 and 1 o’clock is all about the women of Star Lodge. We meet each other and do activities together. \n\nLocation\n\nLiving room Star Lodge | Biltsestraatweg 92 \n\nTransport\n\nEveryone comes to the location themselves \n\nRegistration\n\nWould you like to join? Please send a message to deema@welkominutrecht.nu.
URL:https://welkominutrecht.nu/en/agenda-item/womens-cafe-star-lodge-2/2025-10-27/
CATEGORIES:Beauty & body,Creativity & crafts,Games & Meeting
ATTACH;FMTTYPE=image/jpeg:https://welkominutrecht.nu/wp-content/uploads/2025/03/vonecia-carswell-0aMMMUjiiEQ-unsplash-scaled.jpg
END:VEVENT
BEGIN:VEVENT
DTSTART;TZID=Europe/Amsterdam:20251021T190000
DTEND;TZID=Europe/Amsterdam:20251021T210000
DTSTAMP:20260422T201548
CREATED:20251007T114429Z
LAST-MODIFIED:20251007T114544Z
UID:10041599-1761073200-1761080400@welkominutrecht.nu
SUMMARY:Women's night Pahud with STUT theater
DESCRIPTION:Description\n\nEvery Tuesday evening from 7 p.m.\, we get together: women from Pahud and women from the neighborhood. Theater makers Lena and Kira come up with all kinds of creative activities and games. We do all kinds of things: theater\, drawing\, dancing\, writing\, working with audio\, and more!  \n\nLocation\n\nLiving room Plan Einstein Pahud | Pahud de Mortangesdreef 61 \n\nTransport\n\nEveryone comes to the livingroom themselves \n\nRegistration\n\nWalk in and join us! Would you like some more information? Please send an e-mail to linda@welkominutrecht.nu.
URL:https://welkominutrecht.nu/en/agenda-item/womens-night-pahud-with-stut-theater/2025-10-21/
CATEGORIES:Beauty & body,Creativity & crafts,Games & Meeting
END:VEVENT
BEGIN:VEVENT
DTSTART;TZID=Europe/Amsterdam:20251020T110000
DTEND;TZID=Europe/Amsterdam:20251020T130000
DTSTAMP:20260422T201548
CREATED:20250929T094006Z
LAST-MODIFIED:20250929T094106Z
UID:10041135-1760958000-1760965200@welkominutrecht.nu
SUMMARY:Women's cafe Star Lodge
DESCRIPTION:Description\n\nMonday between 11 and 1 o’clock is all about the women of Star Lodge. We meet each other and do activities together. \n\nLocation\n\nLiving room Star Lodge | Biltsestraatweg 92 \n\nTransport\n\nEveryone comes to the location themselves \n\nRegistration\n\nWould you like to join? Please send a message to deema@welkominutrecht.nu.
URL:https://welkominutrecht.nu/en/agenda-item/womens-cafe-star-lodge-2/2025-10-20/
CATEGORIES:Beauty & body,Creativity & crafts,Games & Meeting
ATTACH;FMTTYPE=image/jpeg:https://welkominutrecht.nu/wp-content/uploads/2025/03/vonecia-carswell-0aMMMUjiiEQ-unsplash-scaled.jpg
END:VEVENT
BEGIN:VEVENT
DTSTART;TZID=Europe/Amsterdam:20251014T190000
DTEND;TZID=Europe/Amsterdam:20251014T210000
DTSTAMP:20260422T201548
CREATED:20251007T114429Z
LAST-MODIFIED:20251007T114544Z
UID:10041598-1760468400-1760475600@welkominutrecht.nu
SUMMARY:Women's night Pahud with STUT theater
DESCRIPTION:Description\n\nEvery Tuesday evening from 7 p.m.\, we get together: women from Pahud and women from the neighborhood. Theater makers Lena and Kira come up with all kinds of creative activities and games. We do all kinds of things: theater\, drawing\, dancing\, writing\, working with audio\, and more!  \n\nLocation\n\nLiving room Plan Einstein Pahud | Pahud de Mortangesdreef 61 \n\nTransport\n\nEveryone comes to the livingroom themselves \n\nRegistration\n\nWalk in and join us! Would you like some more information? Please send an e-mail to linda@welkominutrecht.nu.
URL:https://welkominutrecht.nu/en/agenda-item/womens-night-pahud-with-stut-theater/2025-10-14/
CATEGORIES:Beauty & body,Creativity & crafts,Games & Meeting
END:VEVENT
BEGIN:VEVENT
DTSTART;TZID=Europe/Amsterdam:20251013T110000
DTEND;TZID=Europe/Amsterdam:20251013T130000
DTSTAMP:20260422T201548
CREATED:20250929T094006Z
LAST-MODIFIED:20250929T094106Z
UID:10041134-1760353200-1760360400@welkominutrecht.nu
SUMMARY:Women's cafe Star Lodge
DESCRIPTION:Description\n\nMonday between 11 and 1 o’clock is all about the women of Star Lodge. We meet each other and do activities together. \n\nLocation\n\nLiving room Star Lodge | Biltsestraatweg 92 \n\nTransport\n\nEveryone comes to the location themselves \n\nRegistration\n\nWould you like to join? Please send a message to deema@welkominutrecht.nu.
URL:https://welkominutrecht.nu/en/agenda-item/womens-cafe-star-lodge-2/2025-10-13/
CATEGORIES:Beauty & body,Creativity & crafts,Games & Meeting
ATTACH;FMTTYPE=image/jpeg:https://welkominutrecht.nu/wp-content/uploads/2025/03/vonecia-carswell-0aMMMUjiiEQ-unsplash-scaled.jpg
END:VEVENT
BEGIN:VEVENT
DTSTART;TZID=Europe/Amsterdam:20251007T190000
DTEND;TZID=Europe/Amsterdam:20251007T210000
DTSTAMP:20260422T201548
CREATED:20251007T114429Z
LAST-MODIFIED:20251007T114544Z
UID:10041597-1759863600-1759870800@welkominutrecht.nu
SUMMARY:Women's night Pahud with STUT theater
DESCRIPTION:Description\n\nEvery Tuesday evening from 7 p.m.\, we get together: women from Pahud and women from the neighborhood. Theater makers Lena and Kira come up with all kinds of creative activities and games. We do all kinds of things: theater\, drawing\, dancing\, writing\, working with audio\, and more!  \n\nLocation\n\nLiving room Plan Einstein Pahud | Pahud de Mortangesdreef 61 \n\nTransport\n\nEveryone comes to the livingroom themselves \n\nRegistration\n\nWalk in and join us! Would you like some more information? Please send an e-mail to linda@welkominutrecht.nu.
URL:https://welkominutrecht.nu/en/agenda-item/womens-night-pahud-with-stut-theater/2025-10-07/
CATEGORIES:Beauty & body,Creativity & crafts,Games & Meeting
END:VEVENT
BEGIN:VEVENT
DTSTART;TZID=Europe/Amsterdam:20251006T110000
DTEND;TZID=Europe/Amsterdam:20251006T130000
DTSTAMP:20260422T201548
CREATED:20250929T094006Z
LAST-MODIFIED:20250929T094106Z
UID:10041133-1759748400-1759755600@welkominutrecht.nu
SUMMARY:Women's cafe Star Lodge
DESCRIPTION:Description\n\nMonday between 11 and 1 o’clock is all about the women of Star Lodge. We meet each other and do activities together. \n\nLocation\n\nLiving room Star Lodge | Biltsestraatweg 92 \n\nTransport\n\nEveryone comes to the location themselves \n\nRegistration\n\nWould you like to join? Please send a message to deema@welkominutrecht.nu.
URL:https://welkominutrecht.nu/en/agenda-item/womens-cafe-star-lodge-2/2025-10-06/
CATEGORIES:Beauty & body,Creativity & crafts,Games & Meeting
ATTACH;FMTTYPE=image/jpeg:https://welkominutrecht.nu/wp-content/uploads/2025/03/vonecia-carswell-0aMMMUjiiEQ-unsplash-scaled.jpg
END:VEVENT
BEGIN:VEVENT
DTSTART;TZID=Europe/Amsterdam:20250930T190000
DTEND;TZID=Europe/Amsterdam:20250930T210000
DTSTAMP:20260422T201548
CREATED:20251007T114429Z
LAST-MODIFIED:20251007T114544Z
UID:10041596-1759258800-1759266000@welkominutrecht.nu
SUMMARY:Women's night Pahud with STUT theater
DESCRIPTION:Description\n\nEvery Tuesday evening from 7 p.m.\, we get together: women from Pahud and women from the neighborhood. Theater makers Lena and Kira come up with all kinds of creative activities and games. We do all kinds of things: theater\, drawing\, dancing\, writing\, working with audio\, and more!  \n\nLocation\n\nLiving room Plan Einstein Pahud | Pahud de Mortangesdreef 61 \n\nTransport\n\nEveryone comes to the livingroom themselves \n\nRegistration\n\nWalk in and join us! Would you like some more information? Please send an e-mail to linda@welkominutrecht.nu.
URL:https://welkominutrecht.nu/en/agenda-item/womens-night-pahud-with-stut-theater/2025-09-30/
CATEGORIES:Beauty & body,Creativity & crafts,Games & Meeting
END:VEVENT
BEGIN:VEVENT
DTSTART;TZID=Europe/Amsterdam:20250929T110000
DTEND;TZID=Europe/Amsterdam:20250929T130000
DTSTAMP:20260422T201548
CREATED:20250618T130021Z
LAST-MODIFIED:20250618T130133Z
UID:10038786-1759143600-1759150800@welkominutrecht.nu
SUMMARY:Women cafe Star Lodge
DESCRIPTION:Description\n\nMonday between 11 and 1 o’clock is all about the women of Star Lodge. We meet each other and do activities together. \n\nLocation\n\nLiving room Star Lodge | Biltsestraatweg 92 \n\nTransport\n\nEveryone comes to the location themselves \n\nRegistration\n\nMore info and registration with Deema: deema@welkominutrecht.nu.
URL:https://welkominutrecht.nu/en/agenda-item/women-cafe-star-lodge-4/2025-09-29/
CATEGORIES:Beauty & body,Creativity & crafts,Games & Meeting
ATTACH;FMTTYPE=image/jpeg:https://welkominutrecht.nu/wp-content/uploads/2025/03/vonecia-carswell-0aMMMUjiiEQ-unsplash-scaled.jpg
END:VEVENT
BEGIN:VEVENT
DTSTART;TZID=Europe/Amsterdam:20250925T110000
DTEND;TZID=Europe/Amsterdam:20250925T130000
DTSTAMP:20260422T201548
CREATED:20250626T135059Z
LAST-MODIFIED:20250626T135214Z
UID:10039231-1758798000-1758805200@welkominutrecht.nu
SUMMARY:Time for women Pahud
DESCRIPTION:Description\n\nThe Living Room at Pahud is open on Thursdays between 11 and 1 o’clock especially for women. In that time there will be danced\, painted\, or something delicious will be baked. Feel welcome to join\, also if you just would like to have a chat or listen to music.  \n\nLocation\n\nLiving room Plan Einstein Pahud | Pahud de Mortangesdreef 61 \n\nTransport\n\nEverybody comes to the location by themselves. \n\nRegistration\n\nRegistration is not needed\, you’re welcome to walk in!
URL:https://welkominutrecht.nu/en/agenda-item/time-for-women-pahud-4/2025-09-25/
CATEGORIES:Beauty & body,Creativity & crafts,Games & Meeting,Music
END:VEVENT
BEGIN:VEVENT
DTSTART;TZID=Europe/Amsterdam:20250922T110000
DTEND;TZID=Europe/Amsterdam:20250922T130000
DTSTAMP:20260422T201548
CREATED:20250618T130021Z
LAST-MODIFIED:20250618T130133Z
UID:10038785-1758538800-1758546000@welkominutrecht.nu
SUMMARY:Women cafe Star Lodge
DESCRIPTION:Description\n\nMonday between 11 and 1 o’clock is all about the women of Star Lodge. We meet each other and do activities together. \n\nLocation\n\nLiving room Star Lodge | Biltsestraatweg 92 \n\nTransport\n\nEveryone comes to the location themselves \n\nRegistration\n\nMore info and registration with Deema: deema@welkominutrecht.nu.
URL:https://welkominutrecht.nu/en/agenda-item/women-cafe-star-lodge-4/2025-09-22/
CATEGORIES:Beauty & body,Creativity & crafts,Games & Meeting
ATTACH;FMTTYPE=image/jpeg:https://welkominutrecht.nu/wp-content/uploads/2025/03/vonecia-carswell-0aMMMUjiiEQ-unsplash-scaled.jpg
END:VEVENT
BEGIN:VEVENT
DTSTART;TZID=Europe/Amsterdam:20250918T110000
DTEND;TZID=Europe/Amsterdam:20250918T130000
DTSTAMP:20260422T201548
CREATED:20250626T135059Z
LAST-MODIFIED:20250626T135214Z
UID:10039230-1758193200-1758200400@welkominutrecht.nu
SUMMARY:Time for women Pahud
DESCRIPTION:Description\n\nThe Living Room at Pahud is open on Thursdays between 11 and 1 o’clock especially for women. In that time there will be danced\, painted\, or something delicious will be baked. Feel welcome to join\, also if you just would like to have a chat or listen to music.  \n\nLocation\n\nLiving room Plan Einstein Pahud | Pahud de Mortangesdreef 61 \n\nTransport\n\nEverybody comes to the location by themselves. \n\nRegistration\n\nRegistration is not needed\, you’re welcome to walk in!
URL:https://welkominutrecht.nu/en/agenda-item/time-for-women-pahud-4/2025-09-18/
CATEGORIES:Beauty & body,Creativity & crafts,Games & Meeting,Music
END:VEVENT
BEGIN:VEVENT
DTSTART;TZID=Europe/Amsterdam:20250915T110000
DTEND;TZID=Europe/Amsterdam:20250915T130000
DTSTAMP:20260422T201548
CREATED:20250618T130021Z
LAST-MODIFIED:20250618T130133Z
UID:10038784-1757934000-1757941200@welkominutrecht.nu
SUMMARY:Women cafe Star Lodge
DESCRIPTION:Description\n\nMonday between 11 and 1 o’clock is all about the women of Star Lodge. We meet each other and do activities together. \n\nLocation\n\nLiving room Star Lodge | Biltsestraatweg 92 \n\nTransport\n\nEveryone comes to the location themselves \n\nRegistration\n\nMore info and registration with Deema: deema@welkominutrecht.nu.
URL:https://welkominutrecht.nu/en/agenda-item/women-cafe-star-lodge-4/2025-09-15/
CATEGORIES:Beauty & body,Creativity & crafts,Games & Meeting
ATTACH;FMTTYPE=image/jpeg:https://welkominutrecht.nu/wp-content/uploads/2025/03/vonecia-carswell-0aMMMUjiiEQ-unsplash-scaled.jpg
END:VEVENT
BEGIN:VEVENT
DTSTART;TZID=Europe/Amsterdam:20250911T110000
DTEND;TZID=Europe/Amsterdam:20250911T130000
DTSTAMP:20260422T201548
CREATED:20250626T135059Z
LAST-MODIFIED:20250626T135214Z
UID:10039229-1757588400-1757595600@welkominutrecht.nu
SUMMARY:Time for women Pahud
DESCRIPTION:Description\n\nThe Living Room at Pahud is open on Thursdays between 11 and 1 o’clock especially for women. In that time there will be danced\, painted\, or something delicious will be baked. Feel welcome to join\, also if you just would like to have a chat or listen to music.  \n\nLocation\n\nLiving room Plan Einstein Pahud | Pahud de Mortangesdreef 61 \n\nTransport\n\nEverybody comes to the location by themselves. \n\nRegistration\n\nRegistration is not needed\, you’re welcome to walk in!
URL:https://welkominutrecht.nu/en/agenda-item/time-for-women-pahud-4/2025-09-11/
CATEGORIES:Beauty & body,Creativity & crafts,Games & Meeting,Music
END:VEVENT
BEGIN:VEVENT
DTSTART;TZID=Europe/Amsterdam:20250909T180000
DTEND;TZID=Europe/Amsterdam:20250909T210000
DTSTAMP:20260422T201548
CREATED:20250618T132810Z
LAST-MODIFIED:20250618T132906Z
UID:10039091-1757440800-1757451600@welkominutrecht.nu
SUMMARY:Womens night Pahud
DESCRIPTION:Description\n\nAn evening especially for the women of azc Pahud. Together\, we do a fun activity such as crafts\, baking or dancing. \n\nLocation\n\nLivingroom Plan Einstein Pahud | Pahud de Mortangesdreef 61 \n\nTransport\n\nEveryone comes to the living room themselves \n\nRegistration\n\nRegistration and more information with Hamist: 0685994250
URL:https://welkominutrecht.nu/en/agenda-item/womens-night-pahud/2025-09-09/
CATEGORIES:Beauty & body,Creativity & crafts,Games & Meeting
END:VEVENT
END:VCALENDAR