BEGIN:VCALENDAR
VERSION:2.0
PRODID:-//Welkom in Utrecht | Verbindt vluchtelingen met Utrecht - ECPv6.15.18//NONSGML v1.0//EN
CALSCALE:GREGORIAN
METHOD:PUBLISH
X-WR-CALNAME:Welkom in Utrecht | Verbindt vluchtelingen met Utrecht
X-ORIGINAL-URL:https://welkominutrecht.nu
X-WR-CALDESC:Evenementen voor Welkom in Utrecht | Verbindt vluchtelingen met Utrecht
REFRESH-INTERVAL;VALUE=DURATION:PT1H
X-Robots-Tag:noindex
X-PUBLISHED-TTL:PT1H
BEGIN:VTIMEZONE
TZID:Europe/Amsterdam
BEGIN:DAYLIGHT
TZOFFSETFROM:+0100
TZOFFSETTO:+0200
TZNAME:CEST
DTSTART:20230326T010000
END:DAYLIGHT
BEGIN:STANDARD
TZOFFSETFROM:+0200
TZOFFSETTO:+0100
TZNAME:CET
DTSTART:20231029T010000
END:STANDARD
BEGIN:DAYLIGHT
TZOFFSETFROM:+0100
TZOFFSETTO:+0200
TZNAME:CEST
DTSTART:20240331T010000
END:DAYLIGHT
BEGIN:STANDARD
TZOFFSETFROM:+0200
TZOFFSETTO:+0100
TZNAME:CET
DTSTART:20241027T010000
END:STANDARD
BEGIN:DAYLIGHT
TZOFFSETFROM:+0100
TZOFFSETTO:+0200
TZNAME:CEST
DTSTART:20250330T010000
END:DAYLIGHT
BEGIN:STANDARD
TZOFFSETFROM:+0200
TZOFFSETTO:+0100
TZNAME:CET
DTSTART:20251026T010000
END:STANDARD
END:VTIMEZONE
BEGIN:VEVENT
DTSTART;TZID=Europe/Amsterdam:20240805T100000
DTEND;TZID=Europe/Amsterdam:20240805T160000
DTSTAMP:20260420T073934
CREATED:20240902T070426Z
LAST-MODIFIED:20240902T070427Z
UID:10026141-1722852000-1722873600@welkominutrecht.nu
SUMMARY:Open inloop Huiskamer Pahud
DESCRIPTION:Omschrijving\n\n\n\nKom wat drinken\, studeren of een spelletje spelen in De Huiskamer van De Pahud. Ontmoet er nieuwe mensen of spreek af met wie je al kent. Soms kun je meedoen aan een workshop. Iedereen is er welkom! Op maandag tussen 11.00 en 13.00 uur alleen voor vrouwen. \n\n\n\n\n\nLocatie\n\n\n\nHuiskamer Plan Einstein Pahud | Pahud de Mortangesdreef 61 \n\n\n\nVervoer\n\n\n\nIedereen kan zelf komen \n\n\n\nAanmelden\n\n\n\nAanmelden is niet nodig\, het is een open inloop
URL:https://welkominutrecht.nu/agenda-item/open-inloop-huiskamer-pahud/2024-08-05/
CATEGORIES:Koken & eten,Spel & ontmoeting
END:VEVENT
BEGIN:VEVENT
DTSTART;TZID=Europe/Amsterdam:20240802T100000
DTEND;TZID=Europe/Amsterdam:20240802T160000
DTSTAMP:20260420T073934
CREATED:20240902T070426Z
LAST-MODIFIED:20240902T070427Z
UID:10026140-1722592800-1722614400@welkominutrecht.nu
SUMMARY:Open inloop Huiskamer Pahud
DESCRIPTION:Omschrijving\n\n\n\nKom wat drinken\, studeren of een spelletje spelen in De Huiskamer van De Pahud. Ontmoet er nieuwe mensen of spreek af met wie je al kent. Soms kun je meedoen aan een workshop. Iedereen is er welkom! Op maandag tussen 11.00 en 13.00 uur alleen voor vrouwen. \n\n\n\n\n\nLocatie\n\n\n\nHuiskamer Plan Einstein Pahud | Pahud de Mortangesdreef 61 \n\n\n\nVervoer\n\n\n\nIedereen kan zelf komen \n\n\n\nAanmelden\n\n\n\nAanmelden is niet nodig\, het is een open inloop
URL:https://welkominutrecht.nu/agenda-item/open-inloop-huiskamer-pahud/2024-08-02/
CATEGORIES:Koken & eten,Spel & ontmoeting
END:VEVENT
BEGIN:VEVENT
DTSTART;TZID=Europe/Amsterdam:20240801T193000
DTEND;TZID=Europe/Amsterdam:20240801T210000
DTSTAMP:20260420T073934
CREATED:20240715T135636Z
LAST-MODIFIED:20250624T090339Z
UID:10039171-1722540600-1722546000@welkominutrecht.nu
SUMMARY:Taalcafé Vital'nya
DESCRIPTION:Omschrijving\n\n\n\nEen taalcafé om met behulp van begeleiding van een vrijwilliger één-op-één Nederlands te leren en te oefenen. Speciaal voor Oekraïners. \n\n\n\n\n\nLocatie\n\n\n\nVital’nya | Kanaalweg 86 \n\n\n\nVervoer\n\n\n\nIedereen komt zelf naar de locatie \n\n\n\nAanmelden\n\n\n\nMeer info en aanmelden bij Hellen: 06-38908315
URL:https://welkominutrecht.nu/agenda-item/taalcafe-vitalnya/2024-08-01/
CATEGORIES:Taal
END:VEVENT
BEGIN:VEVENT
DTSTART;TZID=Europe/Amsterdam:20240801T100000
DTEND;TZID=Europe/Amsterdam:20240801T160000
DTSTAMP:20260420T073934
CREATED:20240902T070426Z
LAST-MODIFIED:20240902T070427Z
UID:10026139-1722506400-1722528000@welkominutrecht.nu
SUMMARY:Open inloop Huiskamer Pahud
DESCRIPTION:Omschrijving\n\n\n\nKom wat drinken\, studeren of een spelletje spelen in De Huiskamer van De Pahud. Ontmoet er nieuwe mensen of spreek af met wie je al kent. Soms kun je meedoen aan een workshop. Iedereen is er welkom! Op maandag tussen 11.00 en 13.00 uur alleen voor vrouwen. \n\n\n\n\n\nLocatie\n\n\n\nHuiskamer Plan Einstein Pahud | Pahud de Mortangesdreef 61 \n\n\n\nVervoer\n\n\n\nIedereen kan zelf komen \n\n\n\nAanmelden\n\n\n\nAanmelden is niet nodig\, het is een open inloop
URL:https://welkominutrecht.nu/agenda-item/open-inloop-huiskamer-pahud/2024-08-01/
CATEGORIES:Koken & eten,Spel & ontmoeting
END:VEVENT
BEGIN:VEVENT
DTSTART;TZID=Europe/Amsterdam:20240731T171500
DTEND;TZID=Europe/Amsterdam:20240731T181500
DTSTAMP:20260420T073934
CREATED:20240716T140156Z
LAST-MODIFIED:20240716T140204Z
UID:10025778-1722446100-1722449700@welkominutrecht.nu
SUMMARY:Hatha yoga voor Oekraïners
DESCRIPTION:Omschrijving\n\n\n\nDe hatha yogales wordt gegeven in het Oekraïens door Karin Dekker van Yoga in de Wijk. De les begint om 17:30 en de inloop is vanaf 17:15.  \n\n\n\n\n\nLocatie\n\n\n\nBuurthuis Rosa – Malakkastraat 6 \n\n\n\nVervoer\n\n\n\nEigen vervoer \n\n\n\nAanmelden\n\n\n\nWil je meedoen met de yogales? Meld je dan aan door een mail te sturen naar hellen@welkominutrecht.nu.
URL:https://welkominutrecht.nu/agenda-item/hatha-yoga-voor-oekrainers/2024-07-31/
CATEGORIES:Sport
END:VEVENT
BEGIN:VEVENT
DTSTART;TZID=Europe/Amsterdam:20240731T100000
DTEND;TZID=Europe/Amsterdam:20240731T160000
DTSTAMP:20260420T073934
CREATED:20240902T070426Z
LAST-MODIFIED:20240902T070427Z
UID:10026138-1722420000-1722441600@welkominutrecht.nu
SUMMARY:Open inloop Huiskamer Pahud
DESCRIPTION:Omschrijving\n\n\n\nKom wat drinken\, studeren of een spelletje spelen in De Huiskamer van De Pahud. Ontmoet er nieuwe mensen of spreek af met wie je al kent. Soms kun je meedoen aan een workshop. Iedereen is er welkom! Op maandag tussen 11.00 en 13.00 uur alleen voor vrouwen. \n\n\n\n\n\nLocatie\n\n\n\nHuiskamer Plan Einstein Pahud | Pahud de Mortangesdreef 61 \n\n\n\nVervoer\n\n\n\nIedereen kan zelf komen \n\n\n\nAanmelden\n\n\n\nAanmelden is niet nodig\, het is een open inloop
URL:https://welkominutrecht.nu/agenda-item/open-inloop-huiskamer-pahud/2024-07-31/
CATEGORIES:Koken & eten,Spel & ontmoeting
END:VEVENT
BEGIN:VEVENT
DTSTART;TZID=Europe/Amsterdam:20240730T100000
DTEND;TZID=Europe/Amsterdam:20240730T160000
DTSTAMP:20260420T073934
CREATED:20240902T070426Z
LAST-MODIFIED:20240902T070427Z
UID:10026137-1722333600-1722355200@welkominutrecht.nu
SUMMARY:Open inloop Huiskamer Pahud
DESCRIPTION:Omschrijving\n\n\n\nKom wat drinken\, studeren of een spelletje spelen in De Huiskamer van De Pahud. Ontmoet er nieuwe mensen of spreek af met wie je al kent. Soms kun je meedoen aan een workshop. Iedereen is er welkom! Op maandag tussen 11.00 en 13.00 uur alleen voor vrouwen. \n\n\n\n\n\nLocatie\n\n\n\nHuiskamer Plan Einstein Pahud | Pahud de Mortangesdreef 61 \n\n\n\nVervoer\n\n\n\nIedereen kan zelf komen \n\n\n\nAanmelden\n\n\n\nAanmelden is niet nodig\, het is een open inloop
URL:https://welkominutrecht.nu/agenda-item/open-inloop-huiskamer-pahud/2024-07-30/
CATEGORIES:Koken & eten,Spel & ontmoeting
END:VEVENT
BEGIN:VEVENT
DTSTART;TZID=Europe/Amsterdam:20240730T000000
DTEND;TZID=Europe/Amsterdam:20240730T235959
DTSTAMP:20260420T073934
CREATED:20240927T071858Z
LAST-MODIFIED:20240927T071900Z
UID:10028708-1722297600-1722383999@welkominutrecht.nu
SUMMARY:Bioscoop
DESCRIPTION:Omschrijving\n\n\n\nElke dinsdag kunnen vluchtelingen via Welkom in Utrecht naar de film bij de filmhuizen Louis Hartlooper Complex\, Slachtstraat Filmtheater en Springhaver Theater. Wekelijks is er een wisselend aanbod van films op verschillende tijden.  \n\n\n\n\n\nLocatie\n\n\n\nLouis Hartlooper Complex | Tolsteegbrug 1 \n\n\n\nSpringhaver Theater | Springweg 50 \n\n\n\nSlachtstraat Filmtheater | Slachtstraat 5 \n\n\n\nVervoer\n\n\n\nIedereen komt zelf naar de locatie \n\n\n\nAanmelden\n\n\n\nMeer info en aanmelden kan bij Ricky via ricky@welkominutrecht.nu.
URL:https://welkominutrecht.nu/agenda-item/bioscoop-2/2024-07-30/
CATEGORIES:Cultuur,Utrecht leren kennen
END:VEVENT
BEGIN:VEVENT
DTSTART;TZID=Europe/Amsterdam:20240729T193000
DTEND;TZID=Europe/Amsterdam:20240729T210000
DTSTAMP:20260420T073934
CREATED:20240716T131618Z
LAST-MODIFIED:20240716T142043Z
UID:10024835-1722281400-1722286800@welkominutrecht.nu
SUMMARY:Taalcafé Boot Danubia
DESCRIPTION:Omschrijving\n\n\n\nTijdens dit taalcafé kunnen Oekraïners Nederlands oefenen met Nederlandse vrijwilligers op de boot Danubia\, één van de opvanglocaties voor Oekraïense vluchtelingen in Utrecht. \n\n\n\n\n\nLocatie\n\n\n\nBoot Danubia | Keulsekade 394 \n\n\n\nVervoer\n\n\n\nEigen vervoer \n\n\n\nAanmelden\n\n\n\nMeer informatie ontvangen of aanmelden als vrijwilliger? Dat kan door een mail te sturen naar hellen@welkominutrecht.nu.
URL:https://welkominutrecht.nu/agenda-item/taalcafe-boot-danubia-2/2024-07-29/
CATEGORIES:Taal
END:VEVENT
BEGIN:VEVENT
DTSTART;TZID=Europe/Amsterdam:20240729T100000
DTEND;TZID=Europe/Amsterdam:20240729T160000
DTSTAMP:20260420T073934
CREATED:20240902T070426Z
LAST-MODIFIED:20240902T070427Z
UID:10026136-1722247200-1722268800@welkominutrecht.nu
SUMMARY:Open inloop Huiskamer Pahud
DESCRIPTION:Omschrijving\n\n\n\nKom wat drinken\, studeren of een spelletje spelen in De Huiskamer van De Pahud. Ontmoet er nieuwe mensen of spreek af met wie je al kent. Soms kun je meedoen aan een workshop. Iedereen is er welkom! Op maandag tussen 11.00 en 13.00 uur alleen voor vrouwen. \n\n\n\n\n\nLocatie\n\n\n\nHuiskamer Plan Einstein Pahud | Pahud de Mortangesdreef 61 \n\n\n\nVervoer\n\n\n\nIedereen kan zelf komen \n\n\n\nAanmelden\n\n\n\nAanmelden is niet nodig\, het is een open inloop
URL:https://welkominutrecht.nu/agenda-item/open-inloop-huiskamer-pahud/2024-07-29/
CATEGORIES:Koken & eten,Spel & ontmoeting
END:VEVENT
BEGIN:VEVENT
DTSTART;TZID=Europe/Amsterdam:20240726T100000
DTEND;TZID=Europe/Amsterdam:20240726T160000
DTSTAMP:20260420T073934
CREATED:20240902T070426Z
LAST-MODIFIED:20240902T070427Z
UID:10026135-1721988000-1722009600@welkominutrecht.nu
SUMMARY:Open inloop Huiskamer Pahud
DESCRIPTION:Omschrijving\n\n\n\nKom wat drinken\, studeren of een spelletje spelen in De Huiskamer van De Pahud. Ontmoet er nieuwe mensen of spreek af met wie je al kent. Soms kun je meedoen aan een workshop. Iedereen is er welkom! Op maandag tussen 11.00 en 13.00 uur alleen voor vrouwen. \n\n\n\n\n\nLocatie\n\n\n\nHuiskamer Plan Einstein Pahud | Pahud de Mortangesdreef 61 \n\n\n\nVervoer\n\n\n\nIedereen kan zelf komen \n\n\n\nAanmelden\n\n\n\nAanmelden is niet nodig\, het is een open inloop
URL:https://welkominutrecht.nu/agenda-item/open-inloop-huiskamer-pahud/2024-07-26/
CATEGORIES:Koken & eten,Spel & ontmoeting
END:VEVENT
BEGIN:VEVENT
DTSTART;TZID=Europe/Amsterdam:20240725T193000
DTEND;TZID=Europe/Amsterdam:20240725T210000
DTSTAMP:20260420T073934
CREATED:20240715T135636Z
LAST-MODIFIED:20250624T090339Z
UID:10039170-1721935800-1721941200@welkominutrecht.nu
SUMMARY:Taalcafé Vital'nya
DESCRIPTION:Omschrijving\n\n\n\nEen taalcafé om met behulp van begeleiding van een vrijwilliger één-op-één Nederlands te leren en te oefenen. Speciaal voor Oekraïners. \n\n\n\n\n\nLocatie\n\n\n\nVital’nya | Kanaalweg 86 \n\n\n\nVervoer\n\n\n\nIedereen komt zelf naar de locatie \n\n\n\nAanmelden\n\n\n\nMeer info en aanmelden bij Hellen: 06-38908315
URL:https://welkominutrecht.nu/agenda-item/taalcafe-vitalnya/2024-07-25/
CATEGORIES:Taal
END:VEVENT
BEGIN:VEVENT
DTSTART;TZID=Europe/Amsterdam:20240725T100000
DTEND;TZID=Europe/Amsterdam:20240725T160000
DTSTAMP:20260420T073934
CREATED:20240902T070426Z
LAST-MODIFIED:20240902T070427Z
UID:10026134-1721901600-1721923200@welkominutrecht.nu
SUMMARY:Open inloop Huiskamer Pahud
DESCRIPTION:Omschrijving\n\n\n\nKom wat drinken\, studeren of een spelletje spelen in De Huiskamer van De Pahud. Ontmoet er nieuwe mensen of spreek af met wie je al kent. Soms kun je meedoen aan een workshop. Iedereen is er welkom! Op maandag tussen 11.00 en 13.00 uur alleen voor vrouwen. \n\n\n\n\n\nLocatie\n\n\n\nHuiskamer Plan Einstein Pahud | Pahud de Mortangesdreef 61 \n\n\n\nVervoer\n\n\n\nIedereen kan zelf komen \n\n\n\nAanmelden\n\n\n\nAanmelden is niet nodig\, het is een open inloop
URL:https://welkominutrecht.nu/agenda-item/open-inloop-huiskamer-pahud/2024-07-25/
CATEGORIES:Koken & eten,Spel & ontmoeting
END:VEVENT
BEGIN:VEVENT
DTSTART;TZID=Europe/Amsterdam:20240724T171500
DTEND;TZID=Europe/Amsterdam:20240724T181500
DTSTAMP:20260420T073934
CREATED:20240716T140156Z
LAST-MODIFIED:20240716T140204Z
UID:10025777-1721841300-1721844900@welkominutrecht.nu
SUMMARY:Hatha yoga voor Oekraïners
DESCRIPTION:Omschrijving\n\n\n\nDe hatha yogales wordt gegeven in het Oekraïens door Karin Dekker van Yoga in de Wijk. De les begint om 17:30 en de inloop is vanaf 17:15.  \n\n\n\n\n\nLocatie\n\n\n\nBuurthuis Rosa – Malakkastraat 6 \n\n\n\nVervoer\n\n\n\nEigen vervoer \n\n\n\nAanmelden\n\n\n\nWil je meedoen met de yogales? Meld je dan aan door een mail te sturen naar hellen@welkominutrecht.nu.
URL:https://welkominutrecht.nu/agenda-item/hatha-yoga-voor-oekrainers/2024-07-24/
CATEGORIES:Sport
END:VEVENT
BEGIN:VEVENT
DTSTART;TZID=Europe/Amsterdam:20240724T100000
DTEND;TZID=Europe/Amsterdam:20240724T160000
DTSTAMP:20260420T073934
CREATED:20240902T070426Z
LAST-MODIFIED:20240902T070427Z
UID:10026133-1721815200-1721836800@welkominutrecht.nu
SUMMARY:Open inloop Huiskamer Pahud
DESCRIPTION:Omschrijving\n\n\n\nKom wat drinken\, studeren of een spelletje spelen in De Huiskamer van De Pahud. Ontmoet er nieuwe mensen of spreek af met wie je al kent. Soms kun je meedoen aan een workshop. Iedereen is er welkom! Op maandag tussen 11.00 en 13.00 uur alleen voor vrouwen. \n\n\n\n\n\nLocatie\n\n\n\nHuiskamer Plan Einstein Pahud | Pahud de Mortangesdreef 61 \n\n\n\nVervoer\n\n\n\nIedereen kan zelf komen \n\n\n\nAanmelden\n\n\n\nAanmelden is niet nodig\, het is een open inloop
URL:https://welkominutrecht.nu/agenda-item/open-inloop-huiskamer-pahud/2024-07-24/
CATEGORIES:Koken & eten,Spel & ontmoeting
END:VEVENT
BEGIN:VEVENT
DTSTART;TZID=Europe/Amsterdam:20240723T100000
DTEND;TZID=Europe/Amsterdam:20240723T160000
DTSTAMP:20260420T073934
CREATED:20240902T070426Z
LAST-MODIFIED:20240902T070427Z
UID:10026132-1721728800-1721750400@welkominutrecht.nu
SUMMARY:Open inloop Huiskamer Pahud
DESCRIPTION:Omschrijving\n\n\n\nKom wat drinken\, studeren of een spelletje spelen in De Huiskamer van De Pahud. Ontmoet er nieuwe mensen of spreek af met wie je al kent. Soms kun je meedoen aan een workshop. Iedereen is er welkom! Op maandag tussen 11.00 en 13.00 uur alleen voor vrouwen. \n\n\n\n\n\nLocatie\n\n\n\nHuiskamer Plan Einstein Pahud | Pahud de Mortangesdreef 61 \n\n\n\nVervoer\n\n\n\nIedereen kan zelf komen \n\n\n\nAanmelden\n\n\n\nAanmelden is niet nodig\, het is een open inloop
URL:https://welkominutrecht.nu/agenda-item/open-inloop-huiskamer-pahud/2024-07-23/
CATEGORIES:Koken & eten,Spel & ontmoeting
END:VEVENT
BEGIN:VEVENT
DTSTART;TZID=Europe/Amsterdam:20240723T000000
DTEND;TZID=Europe/Amsterdam:20240723T235959
DTSTAMP:20260420T073934
CREATED:20240927T071858Z
LAST-MODIFIED:20240927T071900Z
UID:10028707-1721692800-1721779199@welkominutrecht.nu
SUMMARY:Bioscoop
DESCRIPTION:Omschrijving\n\n\n\nElke dinsdag kunnen vluchtelingen via Welkom in Utrecht naar de film bij de filmhuizen Louis Hartlooper Complex\, Slachtstraat Filmtheater en Springhaver Theater. Wekelijks is er een wisselend aanbod van films op verschillende tijden.  \n\n\n\n\n\nLocatie\n\n\n\nLouis Hartlooper Complex | Tolsteegbrug 1 \n\n\n\nSpringhaver Theater | Springweg 50 \n\n\n\nSlachtstraat Filmtheater | Slachtstraat 5 \n\n\n\nVervoer\n\n\n\nIedereen komt zelf naar de locatie \n\n\n\nAanmelden\n\n\n\nMeer info en aanmelden kan bij Ricky via ricky@welkominutrecht.nu.
URL:https://welkominutrecht.nu/agenda-item/bioscoop-2/2024-07-23/
CATEGORIES:Cultuur,Utrecht leren kennen
END:VEVENT
BEGIN:VEVENT
DTSTART;TZID=Europe/Amsterdam:20240722T193000
DTEND;TZID=Europe/Amsterdam:20240722T210000
DTSTAMP:20260420T073934
CREATED:20240716T131618Z
LAST-MODIFIED:20240716T142043Z
UID:10025545-1721676600-1721682000@welkominutrecht.nu
SUMMARY:Taalcafé Boot Danubia
DESCRIPTION:Omschrijving\n\n\n\nTijdens dit taalcafé kunnen Oekraïners Nederlands oefenen met Nederlandse vrijwilligers op de boot Danubia\, één van de opvanglocaties voor Oekraïense vluchtelingen in Utrecht. \n\n\n\n\n\nLocatie\n\n\n\nBoot Danubia | Keulsekade 394 \n\n\n\nVervoer\n\n\n\nEigen vervoer \n\n\n\nAanmelden\n\n\n\nMeer informatie ontvangen of aanmelden als vrijwilliger? Dat kan door een mail te sturen naar hellen@welkominutrecht.nu.
URL:https://welkominutrecht.nu/agenda-item/taalcafe-boot-danubia-2/2024-07-22/
CATEGORIES:Taal
END:VEVENT
BEGIN:VEVENT
DTSTART;TZID=Europe/Amsterdam:20240722T100000
DTEND;TZID=Europe/Amsterdam:20240722T160000
DTSTAMP:20260420T073934
CREATED:20240902T070426Z
LAST-MODIFIED:20240902T070427Z
UID:10026131-1721642400-1721664000@welkominutrecht.nu
SUMMARY:Open inloop Huiskamer Pahud
DESCRIPTION:Omschrijving\n\n\n\nKom wat drinken\, studeren of een spelletje spelen in De Huiskamer van De Pahud. Ontmoet er nieuwe mensen of spreek af met wie je al kent. Soms kun je meedoen aan een workshop. Iedereen is er welkom! Op maandag tussen 11.00 en 13.00 uur alleen voor vrouwen. \n\n\n\n\n\nLocatie\n\n\n\nHuiskamer Plan Einstein Pahud | Pahud de Mortangesdreef 61 \n\n\n\nVervoer\n\n\n\nIedereen kan zelf komen \n\n\n\nAanmelden\n\n\n\nAanmelden is niet nodig\, het is een open inloop
URL:https://welkominutrecht.nu/agenda-item/open-inloop-huiskamer-pahud/2024-07-22/
CATEGORIES:Koken & eten,Spel & ontmoeting
END:VEVENT
BEGIN:VEVENT
DTSTART;TZID=Europe/Amsterdam:20240719T100000
DTEND;TZID=Europe/Amsterdam:20240719T160000
DTSTAMP:20260420T073934
CREATED:20240902T070426Z
LAST-MODIFIED:20240902T070427Z
UID:10026130-1721383200-1721404800@welkominutrecht.nu
SUMMARY:Open inloop Huiskamer Pahud
DESCRIPTION:Omschrijving\n\n\n\nKom wat drinken\, studeren of een spelletje spelen in De Huiskamer van De Pahud. Ontmoet er nieuwe mensen of spreek af met wie je al kent. Soms kun je meedoen aan een workshop. Iedereen is er welkom! Op maandag tussen 11.00 en 13.00 uur alleen voor vrouwen. \n\n\n\n\n\nLocatie\n\n\n\nHuiskamer Plan Einstein Pahud | Pahud de Mortangesdreef 61 \n\n\n\nVervoer\n\n\n\nIedereen kan zelf komen \n\n\n\nAanmelden\n\n\n\nAanmelden is niet nodig\, het is een open inloop
URL:https://welkominutrecht.nu/agenda-item/open-inloop-huiskamer-pahud/2024-07-19/
CATEGORIES:Koken & eten,Spel & ontmoeting
END:VEVENT
BEGIN:VEVENT
DTSTART;TZID=Europe/Amsterdam:20240718T193000
DTEND;TZID=Europe/Amsterdam:20240718T210000
DTSTAMP:20260420T073934
CREATED:20240715T135636Z
LAST-MODIFIED:20250624T090339Z
UID:10039169-1721331000-1721336400@welkominutrecht.nu
SUMMARY:Taalcafé Vital'nya
DESCRIPTION:Omschrijving\n\n\n\nEen taalcafé om met behulp van begeleiding van een vrijwilliger één-op-één Nederlands te leren en te oefenen. Speciaal voor Oekraïners. \n\n\n\n\n\nLocatie\n\n\n\nVital’nya | Kanaalweg 86 \n\n\n\nVervoer\n\n\n\nIedereen komt zelf naar de locatie \n\n\n\nAanmelden\n\n\n\nMeer info en aanmelden bij Hellen: 06-38908315
URL:https://welkominutrecht.nu/agenda-item/taalcafe-vitalnya/2024-07-18/
CATEGORIES:Taal
END:VEVENT
BEGIN:VEVENT
DTSTART;TZID=Europe/Amsterdam:20240718T100000
DTEND;TZID=Europe/Amsterdam:20240718T160000
DTSTAMP:20260420T073934
CREATED:20240902T070426Z
LAST-MODIFIED:20240902T070427Z
UID:10026129-1721296800-1721318400@welkominutrecht.nu
SUMMARY:Open inloop Huiskamer Pahud
DESCRIPTION:Omschrijving\n\n\n\nKom wat drinken\, studeren of een spelletje spelen in De Huiskamer van De Pahud. Ontmoet er nieuwe mensen of spreek af met wie je al kent. Soms kun je meedoen aan een workshop. Iedereen is er welkom! Op maandag tussen 11.00 en 13.00 uur alleen voor vrouwen. \n\n\n\n\n\nLocatie\n\n\n\nHuiskamer Plan Einstein Pahud | Pahud de Mortangesdreef 61 \n\n\n\nVervoer\n\n\n\nIedereen kan zelf komen \n\n\n\nAanmelden\n\n\n\nAanmelden is niet nodig\, het is een open inloop
URL:https://welkominutrecht.nu/agenda-item/open-inloop-huiskamer-pahud/2024-07-18/
CATEGORIES:Koken & eten,Spel & ontmoeting
END:VEVENT
BEGIN:VEVENT
DTSTART;TZID=Europe/Amsterdam:20240717T171500
DTEND;TZID=Europe/Amsterdam:20240717T181500
DTSTAMP:20260420T073934
CREATED:20240716T140156Z
LAST-MODIFIED:20240716T140204Z
UID:10025776-1721236500-1721240100@welkominutrecht.nu
SUMMARY:Hatha yoga voor Oekraïners
DESCRIPTION:Omschrijving\n\n\n\nDe hatha yogales wordt gegeven in het Oekraïens door Karin Dekker van Yoga in de Wijk. De les begint om 17:30 en de inloop is vanaf 17:15.  \n\n\n\n\n\nLocatie\n\n\n\nBuurthuis Rosa – Malakkastraat 6 \n\n\n\nVervoer\n\n\n\nEigen vervoer \n\n\n\nAanmelden\n\n\n\nWil je meedoen met de yogales? Meld je dan aan door een mail te sturen naar hellen@welkominutrecht.nu.
URL:https://welkominutrecht.nu/agenda-item/hatha-yoga-voor-oekrainers/2024-07-17/
CATEGORIES:Sport
END:VEVENT
BEGIN:VEVENT
DTSTART;TZID=Europe/Amsterdam:20240717T100000
DTEND;TZID=Europe/Amsterdam:20240717T160000
DTSTAMP:20260420T073934
CREATED:20240902T070426Z
LAST-MODIFIED:20240902T070427Z
UID:10026128-1721210400-1721232000@welkominutrecht.nu
SUMMARY:Open inloop Huiskamer Pahud
DESCRIPTION:Omschrijving\n\n\n\nKom wat drinken\, studeren of een spelletje spelen in De Huiskamer van De Pahud. Ontmoet er nieuwe mensen of spreek af met wie je al kent. Soms kun je meedoen aan een workshop. Iedereen is er welkom! Op maandag tussen 11.00 en 13.00 uur alleen voor vrouwen. \n\n\n\n\n\nLocatie\n\n\n\nHuiskamer Plan Einstein Pahud | Pahud de Mortangesdreef 61 \n\n\n\nVervoer\n\n\n\nIedereen kan zelf komen \n\n\n\nAanmelden\n\n\n\nAanmelden is niet nodig\, het is een open inloop
URL:https://welkominutrecht.nu/agenda-item/open-inloop-huiskamer-pahud/2024-07-17/
CATEGORIES:Koken & eten,Spel & ontmoeting
END:VEVENT
BEGIN:VEVENT
DTSTART;TZID=Europe/Amsterdam:20240716T100000
DTEND;TZID=Europe/Amsterdam:20240716T160000
DTSTAMP:20260420T073934
CREATED:20240902T070426Z
LAST-MODIFIED:20240902T070427Z
UID:10026127-1721124000-1721145600@welkominutrecht.nu
SUMMARY:Open inloop Huiskamer Pahud
DESCRIPTION:Omschrijving\n\n\n\nKom wat drinken\, studeren of een spelletje spelen in De Huiskamer van De Pahud. Ontmoet er nieuwe mensen of spreek af met wie je al kent. Soms kun je meedoen aan een workshop. Iedereen is er welkom! Op maandag tussen 11.00 en 13.00 uur alleen voor vrouwen. \n\n\n\n\n\nLocatie\n\n\n\nHuiskamer Plan Einstein Pahud | Pahud de Mortangesdreef 61 \n\n\n\nVervoer\n\n\n\nIedereen kan zelf komen \n\n\n\nAanmelden\n\n\n\nAanmelden is niet nodig\, het is een open inloop
URL:https://welkominutrecht.nu/agenda-item/open-inloop-huiskamer-pahud/2024-07-16/
CATEGORIES:Koken & eten,Spel & ontmoeting
END:VEVENT
BEGIN:VEVENT
DTSTART;TZID=Europe/Amsterdam:20240716T000000
DTEND;TZID=Europe/Amsterdam:20240716T235959
DTSTAMP:20260420T073934
CREATED:20240927T071858Z
LAST-MODIFIED:20240927T071900Z
UID:10028706-1721088000-1721174399@welkominutrecht.nu
SUMMARY:Bioscoop
DESCRIPTION:Omschrijving\n\n\n\nElke dinsdag kunnen vluchtelingen via Welkom in Utrecht naar de film bij de filmhuizen Louis Hartlooper Complex\, Slachtstraat Filmtheater en Springhaver Theater. Wekelijks is er een wisselend aanbod van films op verschillende tijden.  \n\n\n\n\n\nLocatie\n\n\n\nLouis Hartlooper Complex | Tolsteegbrug 1 \n\n\n\nSpringhaver Theater | Springweg 50 \n\n\n\nSlachtstraat Filmtheater | Slachtstraat 5 \n\n\n\nVervoer\n\n\n\nIedereen komt zelf naar de locatie \n\n\n\nAanmelden\n\n\n\nMeer info en aanmelden kan bij Ricky via ricky@welkominutrecht.nu.
URL:https://welkominutrecht.nu/agenda-item/bioscoop-2/2024-07-16/
CATEGORIES:Cultuur,Utrecht leren kennen
END:VEVENT
BEGIN:VEVENT
DTSTART;TZID=Europe/Amsterdam:20240715T193000
DTEND;TZID=Europe/Amsterdam:20240715T210000
DTSTAMP:20260420T073934
CREATED:20240716T131618Z
LAST-MODIFIED:20240716T142043Z
UID:10025544-1721071800-1721077200@welkominutrecht.nu
SUMMARY:Taalcafé Boot Danubia
DESCRIPTION:Omschrijving\n\n\n\nTijdens dit taalcafé kunnen Oekraïners Nederlands oefenen met Nederlandse vrijwilligers op de boot Danubia\, één van de opvanglocaties voor Oekraïense vluchtelingen in Utrecht. \n\n\n\n\n\nLocatie\n\n\n\nBoot Danubia | Keulsekade 394 \n\n\n\nVervoer\n\n\n\nEigen vervoer \n\n\n\nAanmelden\n\n\n\nMeer informatie ontvangen of aanmelden als vrijwilliger? Dat kan door een mail te sturen naar hellen@welkominutrecht.nu.
URL:https://welkominutrecht.nu/agenda-item/taalcafe-boot-danubia-2/2024-07-15/
CATEGORIES:Taal
END:VEVENT
BEGIN:VEVENT
DTSTART;TZID=Europe/Amsterdam:20240715T100000
DTEND;TZID=Europe/Amsterdam:20240715T160000
DTSTAMP:20260420T073934
CREATED:20240902T070426Z
LAST-MODIFIED:20240902T070427Z
UID:10026126-1721037600-1721059200@welkominutrecht.nu
SUMMARY:Open inloop Huiskamer Pahud
DESCRIPTION:Omschrijving\n\n\n\nKom wat drinken\, studeren of een spelletje spelen in De Huiskamer van De Pahud. Ontmoet er nieuwe mensen of spreek af met wie je al kent. Soms kun je meedoen aan een workshop. Iedereen is er welkom! Op maandag tussen 11.00 en 13.00 uur alleen voor vrouwen. \n\n\n\n\n\nLocatie\n\n\n\nHuiskamer Plan Einstein Pahud | Pahud de Mortangesdreef 61 \n\n\n\nVervoer\n\n\n\nIedereen kan zelf komen \n\n\n\nAanmelden\n\n\n\nAanmelden is niet nodig\, het is een open inloop
URL:https://welkominutrecht.nu/agenda-item/open-inloop-huiskamer-pahud/2024-07-15/
CATEGORIES:Koken & eten,Spel & ontmoeting
END:VEVENT
BEGIN:VEVENT
DTSTART;TZID=Europe/Amsterdam:20240712T100000
DTEND;TZID=Europe/Amsterdam:20240712T160000
DTSTAMP:20260420T073934
CREATED:20240902T070426Z
LAST-MODIFIED:20240902T070427Z
UID:10026125-1720778400-1720800000@welkominutrecht.nu
SUMMARY:Open inloop Huiskamer Pahud
DESCRIPTION:Omschrijving\n\n\n\nKom wat drinken\, studeren of een spelletje spelen in De Huiskamer van De Pahud. Ontmoet er nieuwe mensen of spreek af met wie je al kent. Soms kun je meedoen aan een workshop. Iedereen is er welkom! Op maandag tussen 11.00 en 13.00 uur alleen voor vrouwen. \n\n\n\n\n\nLocatie\n\n\n\nHuiskamer Plan Einstein Pahud | Pahud de Mortangesdreef 61 \n\n\n\nVervoer\n\n\n\nIedereen kan zelf komen \n\n\n\nAanmelden\n\n\n\nAanmelden is niet nodig\, het is een open inloop
URL:https://welkominutrecht.nu/agenda-item/open-inloop-huiskamer-pahud/2024-07-12/
CATEGORIES:Koken & eten,Spel & ontmoeting
END:VEVENT
BEGIN:VEVENT
DTSTART;TZID=Europe/Amsterdam:20240711T193000
DTEND;TZID=Europe/Amsterdam:20240711T210000
DTSTAMP:20260420T073934
CREATED:20240715T135636Z
LAST-MODIFIED:20250624T090339Z
UID:10039168-1720726200-1720731600@welkominutrecht.nu
SUMMARY:Taalcafé Vital'nya
DESCRIPTION:Omschrijving\n\n\n\nEen taalcafé om met behulp van begeleiding van een vrijwilliger één-op-één Nederlands te leren en te oefenen. Speciaal voor Oekraïners. \n\n\n\n\n\nLocatie\n\n\n\nVital’nya | Kanaalweg 86 \n\n\n\nVervoer\n\n\n\nIedereen komt zelf naar de locatie \n\n\n\nAanmelden\n\n\n\nMeer info en aanmelden bij Hellen: 06-38908315
URL:https://welkominutrecht.nu/agenda-item/taalcafe-vitalnya/2024-07-11/
CATEGORIES:Taal
END:VEVENT
END:VCALENDAR