BEGIN:VCALENDAR
VERSION:2.0
PRODID:-//Welkom in Utrecht | Verbindt vluchtelingen met Utrecht - ECPv6.15.18//NONSGML v1.0//EN
CALSCALE:GREGORIAN
METHOD:PUBLISH
X-WR-CALNAME:Welkom in Utrecht | Verbindt vluchtelingen met Utrecht
X-ORIGINAL-URL:https://welkominutrecht.nu
X-WR-CALDESC:Evenementen voor Welkom in Utrecht | Verbindt vluchtelingen met Utrecht
REFRESH-INTERVAL;VALUE=DURATION:PT1H
X-Robots-Tag:noindex
X-PUBLISHED-TTL:PT1H
BEGIN:VTIMEZONE
TZID:Europe/Amsterdam
BEGIN:DAYLIGHT
TZOFFSETFROM:+0100
TZOFFSETTO:+0200
TZNAME:CEST
DTSTART:20230326T010000
END:DAYLIGHT
BEGIN:STANDARD
TZOFFSETFROM:+0200
TZOFFSETTO:+0100
TZNAME:CET
DTSTART:20231029T010000
END:STANDARD
BEGIN:DAYLIGHT
TZOFFSETFROM:+0100
TZOFFSETTO:+0200
TZNAME:CEST
DTSTART:20240331T010000
END:DAYLIGHT
BEGIN:STANDARD
TZOFFSETFROM:+0200
TZOFFSETTO:+0100
TZNAME:CET
DTSTART:20241027T010000
END:STANDARD
BEGIN:DAYLIGHT
TZOFFSETFROM:+0100
TZOFFSETTO:+0200
TZNAME:CEST
DTSTART:20250330T010000
END:DAYLIGHT
BEGIN:STANDARD
TZOFFSETFROM:+0200
TZOFFSETTO:+0100
TZNAME:CET
DTSTART:20251026T010000
END:STANDARD
END:VTIMEZONE
BEGIN:VEVENT
DTSTART;TZID=Europe/Amsterdam:20241002T100000
DTEND;TZID=Europe/Amsterdam:20241002T160000
DTSTAMP:20260419T154454
CREATED:20240927T070023Z
LAST-MODIFIED:20240927T070025Z
UID:10027268-1727863200-1727884800@welkominutrecht.nu
SUMMARY:Open inloop Huiskamer Pahud
DESCRIPTION:Omschrijving\n\n\n\nKom wat drinken\, studeren of een spelletje spelen in De Huiskamer van De Pahud. Ontmoet er nieuwe mensen of spreek af met wie je al kent. Soms kun je meedoen aan een workshop. Iedereen is er welkom! Op maandag tussen 11.00 en 13.00 uur alleen voor vrouwen. \n\n\n\n\n\nLocatie\n\n\n\nHuiskamer Plan Einstein Pahud | Pahud de Mortangesdreef 61 \n\n\n\nVervoer\n\n\n\nIedereen kan zelf komen \n\n\n\nAanmelden\n\n\n\nAanmelden is niet nodig\, het is een open inloop
URL:https://welkominutrecht.nu/agenda-item/open-inloop-huiskamer-pahud-2/2024-10-02/
CATEGORIES:Koken & eten,Spel & ontmoeting
END:VEVENT
BEGIN:VEVENT
DTSTART;TZID=Europe/Amsterdam:20241002T100000
DTEND;TZID=Europe/Amsterdam:20241002T123000
DTSTAMP:20260419T154454
CREATED:20240930T125657Z
LAST-MODIFIED:20241007T083303Z
UID:10031747-1727863200-1727872200@welkominutrecht.nu
SUMMARY:Naaiatelier bij Het Wilde Westen
DESCRIPTION:Omschrijving\n\n\n\nEen wekelijks naaiatelier. Geen les\, maar onder begeleiding van Yink zijn er stof en naaimachines beschikbaar waar je zelf mee aan de slag kan! Dus wil je graag iets maken\, kom dan langs op woensdag in Het Wilde Westen. \n\n\n\n\n\nLocatie\n\n\n\nHet Wilde Westen | Everard Meijsterlaan 1B \n\n\n\nVervoer\n\n\n\nIedereen komst zelf naar de locatie \n\n\n\nAanmelden\n\n\n\nMeer info of aanmelden kan door te mailen naar eline@welkominutrecht.nu.
URL:https://welkominutrecht.nu/agenda-item/naaiatelier-bij-het-wilde-westen-2/2024-10-02/
CATEGORIES:Creatief & handwerken
END:VEVENT
BEGIN:VEVENT
DTSTART;TZID=Europe/Amsterdam:20241002T100000
DTEND;TZID=Europe/Amsterdam:20241002T110000
DTSTAMP:20260419T154454
CREATED:20240927T140421Z
LAST-MODIFIED:20240927T142949Z
UID:10030428-1727863200-1727866800@welkominutrecht.nu
SUMMARY:Tai Chi HerculesHoek
DESCRIPTION:Omschrijving\n\n\n\nIn de Tai Chi lessen bij de HerculesHoek draait het om balans\, ontspanning en mindfulness. Bewoners van het Herculesplein en van buiten kunnen meedoen aan de lessen. \n\n\n\n\n\nLocatie\n\n\n\nHerculesHoek | Herculesplein 5-15 \n\n\n\nVervoer\n\n\n\nIedereen komt zelf naar de locatie toe.  \n\n\n\nAanmelden\n\n\n\nWil je meedoen met de les of heb je een vraag? Neem dan contact op via herculeshoek@welkominutrecht.nu.
URL:https://welkominutrecht.nu/agenda-item/tai-chi-herculeshoek-2/2024-10-02/
CATEGORIES:Sport
ATTACH;FMTTYPE=image/jpeg:https://welkominutrecht.nu/wp-content/uploads/2024/09/alireza-heidarpour-CJLJh4E_PEI-unsplash-scaled-e1727443867906.jpg
END:VEVENT
BEGIN:VEVENT
DTSTART;TZID=Europe/Amsterdam:20241001T193000
DTEND;TZID=Europe/Amsterdam:20241001T210000
DTSTAMP:20260419T154454
CREATED:20240916T134533Z
LAST-MODIFIED:20240916T134911Z
UID:10026429-1727811000-1727816400@welkominutrecht.nu
SUMMARY:Taalcafé Star Lodge
DESCRIPTION:Omschrijving\n\n\n\nTijdens een taalcafé helpen vrijwilligers bewoners van Star Lodge bij het leren van de Nederlandse taal.  \n\n\n\n\n\nLocatie\n\n\n\nStar Lodge | Biltsestraatweg 92 \n\n\n\nVervoer\n\n\n\nEigen vervoer \n\n\n\nAanmelden\n\n\n\nWil je als vrijwilliger Nederlandse les geven aan een bewoner van Star Lodge in Utrecht? Stuur dan een mail naar yoseph@welkominutrecht.nu
URL:https://welkominutrecht.nu/agenda-item/taalcafe-star-lodge-4/2024-10-01/
CATEGORIES:Taal
END:VEVENT
BEGIN:VEVENT
DTSTART;TZID=Europe/Amsterdam:20241001T160000
DTEND;TZID=Europe/Amsterdam:20241001T180000
DTSTAMP:20260419T154454
CREATED:20240930T094401Z
LAST-MODIFIED:20240930T094627Z
UID:10031311-1727798400-1727805600@welkominutrecht.nu
SUMMARY:Voetballen bij DHSC (mannen)
DESCRIPTION:Omschrijving\n\n\n\nWil je graag voetballen? Dat kan bij DHSC\, op de Cruyff Court van Wesley Sneijder. \n\n\n\n\n\nLocatie\n\n\n\nVoetbalclub DHSC | Thorbeckelaan 16 \n\n\n\nVervoer\n\n\n\nJe kunt de eerste keer worden gebracht \n\n\n\nAanmelden\n\n\n\nAanmelden bij Iman: 06 – 53618681
URL:https://welkominutrecht.nu/agenda-item/voetballen-bij-dhsc-6/2024-10-01/
CATEGORIES:Sport
END:VEVENT
BEGIN:VEVENT
DTSTART;TZID=Europe/Amsterdam:20241001T153000
DTEND;TZID=Europe/Amsterdam:20241001T170000
DTSTAMP:20260419T154454
CREATED:20240930T122521Z
LAST-MODIFIED:20241007T080625Z
UID:10031484-1727796600-1727802000@welkominutrecht.nu
SUMMARY:Longboarden voor kinderen
DESCRIPTION:Omschrijving\n\n\n\nElke week kunnen kinderen tussen de 5 en 13 jaar met elkaar longboarden bij het AZC. Er zijn vrijwilligers van U on Board aanwezig en materialen nemen zij mee. \n\n\n\n\n\nLocatie\n\n\n\nBij het AZC | Joseph Haydnlaan 2 \n\n\n\nVervoer\n\n\n\nEigen vervoer \n\n\n\nAanmelden\n\n\n\nAanmelden bij Frank: 06-10803167
URL:https://welkominutrecht.nu/agenda-item/longboarden-voor-kinderen-2/2024-10-01/
CATEGORIES:Kinderen & jongeren,Spel & ontmoeting,Sport
END:VEVENT
BEGIN:VEVENT
DTSTART;TZID=Europe/Amsterdam:20241001T143000
DTEND;TZID=Europe/Amsterdam:20241001T170000
DTSTAMP:20260419T154454
CREATED:20240930T133419Z
LAST-MODIFIED:20240930T133444Z
UID:10031906-1727793000-1727802000@welkominutrecht.nu
SUMMARY:Computerles Joseph Haydnlaan
DESCRIPTION:Omschrijving\n\n\n\nWil jij basisvaardigheden leren voor het omgaan met een computer? Dan is deze computerles voor jou. \n\n\n\n\n\nLocatie\n\n\n\nZolder van Plan Einstein | Joseph Haydnlaan 2A \n\n\n\nVervoer\n\n\n\nIedereen komt zelf naar de locatie \n\n\n\nAanmelden\n\n\n\nAanmelden bij Vluchtelingenwerk Plan Einstein\, via planeinstein@vluchtelingenwerk.nl
URL:https://welkominutrecht.nu/agenda-item/computerles-joseph-haydnlaan-2/2024-10-01/
CATEGORIES:Cultuur
END:VEVENT
BEGIN:VEVENT
DTSTART;TZID=Europe/Amsterdam:20241001T130000
DTEND;TZID=Europe/Amsterdam:20241001T180000
DTSTAMP:20260419T154454
CREATED:20241111T154310Z
LAST-MODIFIED:20241111T154321Z
UID:10032037-1727787600-1727805600@welkominutrecht.nu
SUMMARY:Open inloop HerculesHoek
DESCRIPTION:Omschrijving\n\n\n\nDe HerculesHoek is de huiskamer van Welkom in Utrecht bij de opvang voor Oekraïners aan het Herculesplein. Het is een ruimte voor ontmoeting tussen Oekraïners en buurtbewoners en we organiseren er activiteiten waar iedereen aan mee kan doen. \n\n\n\nJe kunt langs komen tijdens onze open inloop op dinsdag tot en met zaterdag tussen 13:00 en 18:00. \n\n\n\n\n\nLocatie\n\n\n\nDe HerculesHoek | Herculesplein 5-15 \n\n\n\nVervoer\n\n\n\nIedereen komt zelf naar de locatie toe.  \n\n\n\nAanmelden\n\n\n\nKom gezellig binnen lopen! \n\n\n\nHeb je een vraag over de HerculesHoek? Mail dan naar herculeshoek@welkominutrecht.nu.
URL:https://welkominutrecht.nu/agenda-item/open-inloop-herculeshoek/2024-10-01/
CATEGORIES:Cultuur,Spel & ontmoeting,Utrecht leren kennen
ATTACH;FMTTYPE=image/jpeg:https://welkominutrecht.nu/wp-content/uploads/2024/11/nathan-dumlao-6VhPY27jdps-unsplash-scaled.jpg
END:VEVENT
BEGIN:VEVENT
DTSTART;TZID=Europe/Amsterdam:20241001T120000
DTEND;TZID=Europe/Amsterdam:20241001T140000
DTSTAMP:20260419T154454
CREATED:20240930T125202Z
LAST-MODIFIED:20240930T130225Z
UID:10031706-1727784000-1727791200@welkominutrecht.nu
SUMMARY:Vrouwentijd Joseph Haydnlaan
DESCRIPTION:Omschrijving\n\n\n\nOp dinsdag tussen 12 en 2 is het tijd voor vrouwen op de Joseph Haydnlaan. We komen samen in de vrouwenruimte in het azc om gezellig koffie te drinken en te kletsen. Vrouwen uit Utrecht (van buiten het azc) zijn ook welkom! \n\n\n\n\n\nLocatie\n\n\n\nVrouwenkamer azc | Joseph Haydnlaan 2 \n\n\n\nVervoer\n\n\n\nIedereen komt zelf naar de locatie \n\n\n\nAanmelden\n\n\n\nWil je aansluiten of heb je een vraag? Neem dan contact op met Elham via elham@welkominutrecht.nu.
URL:https://welkominutrecht.nu/agenda-item/vrouwentijd-joseph-haydnlaan/2024-10-01/
CATEGORIES:Creatief & handwerken
ATTACH;FMTTYPE=image/jpeg:https://welkominutrecht.nu/wp-content/uploads/2024/08/vrouwentijd-scaled-e1724227907937.jpeg
END:VEVENT
BEGIN:VEVENT
DTSTART;TZID=Europe/Amsterdam:20241001T100000
DTEND;TZID=Europe/Amsterdam:20241001T160000
DTSTAMP:20260419T154454
CREATED:20240927T070023Z
LAST-MODIFIED:20240927T070025Z
UID:10027267-1727776800-1727798400@welkominutrecht.nu
SUMMARY:Open inloop Huiskamer Pahud
DESCRIPTION:Omschrijving\n\n\n\nKom wat drinken\, studeren of een spelletje spelen in De Huiskamer van De Pahud. Ontmoet er nieuwe mensen of spreek af met wie je al kent. Soms kun je meedoen aan een workshop. Iedereen is er welkom! Op maandag tussen 11.00 en 13.00 uur alleen voor vrouwen. \n\n\n\n\n\nLocatie\n\n\n\nHuiskamer Plan Einstein Pahud | Pahud de Mortangesdreef 61 \n\n\n\nVervoer\n\n\n\nIedereen kan zelf komen \n\n\n\nAanmelden\n\n\n\nAanmelden is niet nodig\, het is een open inloop
URL:https://welkominutrecht.nu/agenda-item/open-inloop-huiskamer-pahud-2/2024-10-01/
CATEGORIES:Koken & eten,Spel & ontmoeting
END:VEVENT
BEGIN:VEVENT
DTSTART;TZID=Europe/Amsterdam:20241001T100000
DTEND;TZID=Europe/Amsterdam:20241001T130000
DTSTAMP:20260419T154454
CREATED:20240918T111602Z
LAST-MODIFIED:20240918T111603Z
UID:10026927-1727776800-1727787600@welkominutrecht.nu
SUMMARY:Wolatelier
DESCRIPTION:Omschrijving\n\n\n\nJe bent welkom bij het wolatelier. Hier wordt wol gewassen\, geverfd en gesponnen. Daarmee maak je er een kunstwerk\, bijvoorbeeld een wand- of vloerkleed. Op slechts tien minuten wandelen vanaf azc Star Lodge. \n\n\n\n\n\nLocatie\n\n\n\nDe Buitenkamer | Oostbroekselaan 64 \n\n\n\nVervoer\n\n\n\nJe komt zelf naar de locatie \n\n\n\nAanmelden\n\n\n\nMeer info en aanmelden bij Frank via frank@welkominutrecht.nu
URL:https://welkominutrecht.nu/agenda-item/wolatelier-4/2024-10-01/
CATEGORIES:Creatief & handwerken
END:VEVENT
BEGIN:VEVENT
DTSTART;TZID=Europe/Amsterdam:20241001T100000
DTEND;TZID=Europe/Amsterdam:20241001T130000
DTSTAMP:20260419T154454
CREATED:20240918T100709Z
LAST-MODIFIED:20240918T100710Z
UID:10026718-1727776800-1727787600@welkominutrecht.nu
SUMMARY:Tuinieren in moestuin Stadion
DESCRIPTION:Omschrijving\n\n\n\nWil je graag tuinieren in Utrecht Oost? Help dan mee op twee moestuinen van Amateur Tuinders Vereniging ‘Stadion’ samen met buurtbewoners. \n\n\n\n\n\nLocatie\n\n\n\nAmateur Tuinders Vereniging ‘Stadion’ | Oostbroekselaan 51\, Utrecht \n\n\n\nVervoer\n\n\n\nDe eerste keer kun je worden gebracht \n\n\n\nAanmelden\n\n\n\nMeer info of aanmelden? Neem contact op met Frank op 06-10803167
URL:https://welkominutrecht.nu/agenda-item/tuinieren-in-moestuin-stadion-3/2024-10-01/
CATEGORIES:Natuur
END:VEVENT
BEGIN:VEVENT
DTSTART;TZID=Europe/Amsterdam:20241001T100000
DTEND;TZID=Europe/Amsterdam:20241001T120000
DTSTAMP:20260419T154454
CREATED:20240930T101228Z
LAST-MODIFIED:20240930T101324Z
UID:10031404-1727776800-1727784000@welkominutrecht.nu
SUMMARY:Wielrennen in een groep
DESCRIPTION:Omschrijving\n\n\n\nKom mee wielrennen met fietsclub de Lombok Peppers. Geen fiets of fietskleding? Geen probleem\, daar kan voor worden gezorgd. Achteraf wordt er gezellig samen wat gedronken in het café. \n\n\n\n\n\nLocatie\n\n\n\nStart- en eindpunt is Eet- en Biercafé Lombok | Vleutenseweg 228  \n\n\n\nVervoer\n\n\n\nIedereen komt zelf naar de startlocatie. \n\n\n\nAanmelden\n\n\n\nMeer info of aanmelden? Graag een berichtje sturen naar Frank: 06-10803167
URL:https://welkominutrecht.nu/agenda-item/wielrennen-in-een-groep-3/2024-10-01/
CATEGORIES:Sport,Utrecht leren kennen
END:VEVENT
BEGIN:VEVENT
DTSTART;TZID=Europe/Amsterdam:20241001T100000
DTEND;TZID=Europe/Amsterdam:20241001T120000
DTSTAMP:20260419T154454
CREATED:20240930T084608Z
LAST-MODIFIED:20241007T122715Z
UID:10030769-1727776800-1727784000@welkominutrecht.nu
SUMMARY:Taalles Nederlands Huis van Vrede (beginners)
DESCRIPTION:Omschrijving\n\n\n\nTaalles Nederlands voor beginners bij Huis van Vrede. Bob geeft les aan kleine groepjes. Let op: er is mogelijk een wachtrij. \n\n\n\n\n\nLocatie\n\n\n\nHuis van Vrede | Trumanlaan 70-72 \n\n\n\nVervoer\n\n\n\nIedereen gaat zelf naar de locatie toe \n\n\n\nAanmelden\n\n\n\nAanmelden bij Eline: eline@welkominutrecht.nu.
URL:https://welkominutrecht.nu/agenda-item/taalles-nederlands-huis-van-vrede-beginners/2024-10-01/
CATEGORIES:Taal
END:VEVENT
BEGIN:VEVENT
DTSTART;TZID=Europe/Amsterdam:20241001T100000
DTEND;TZID=Europe/Amsterdam:20241001T113000
DTSTAMP:20260419T154454
CREATED:20240930T085202Z
LAST-MODIFIED:20241007T082211Z
UID:10030875-1727776800-1727782200@welkominutrecht.nu
SUMMARY:Koffie drinken en Nederlands oefenen
DESCRIPTION:Omschrijving\n\n\n\nGezellig koffie drinken en nieuwe mensen ontmoeten in het Huis van Dominicus. Door met elkaar te praten kun je meteen je Nederlands oefenen \n\n\n\n\n\nLocatie\n\n\n\nHuis van Dominicus | Palestrinastraat 1 \n\n\n\nVervoer\n\n\n\nEigen vervoer\, er kan eventueel iemand meelopen \n\n\n\nAanmelden\n\n\n\nMeld je aan door te mailen naar eline@welkominutrecht.nu.
URL:https://welkominutrecht.nu/agenda-item/koffie-drinken-en-nederlands-oefenen-2/2024-10-01/
CATEGORIES:Spel & ontmoeting,Taal
END:VEVENT
BEGIN:VEVENT
DTSTART;TZID=Europe/Amsterdam:20240930T193000
DTEND;TZID=Europe/Amsterdam:20240930T210000
DTSTAMP:20260419T154454
CREATED:20240716T131618Z
LAST-MODIFIED:20240716T142043Z
UID:10024844-1727724600-1727730000@welkominutrecht.nu
SUMMARY:Taalcafé Boot Danubia
DESCRIPTION:Omschrijving\n\n\n\nTijdens dit taalcafé kunnen Oekraïners Nederlands oefenen met Nederlandse vrijwilligers op de boot Danubia\, één van de opvanglocaties voor Oekraïense vluchtelingen in Utrecht. \n\n\n\n\n\nLocatie\n\n\n\nBoot Danubia | Keulsekade 394 \n\n\n\nVervoer\n\n\n\nEigen vervoer \n\n\n\nAanmelden\n\n\n\nMeer informatie ontvangen of aanmelden als vrijwilliger? Dat kan door een mail te sturen naar hellen@welkominutrecht.nu.
URL:https://welkominutrecht.nu/agenda-item/taalcafe-boot-danubia-2/2024-09-30/
CATEGORIES:Taal
END:VEVENT
BEGIN:VEVENT
DTSTART;TZID=Europe/Amsterdam:20240930T190000
DTEND;TZID=Europe/Amsterdam:20240930T210000
DTSTAMP:20260419T154454
CREATED:20241004T103100Z
LAST-MODIFIED:20241014T081953Z
UID:10031952-1727722800-1727730000@welkominutrecht.nu
SUMMARY:Dans mee in de Sint Maartenparade
DESCRIPTION:Omschrijving\n\n\n\nHou je van dansen en heb je altijd al samen voor heel Utrecht willen performen? \n\n\n\nSamen met choreograaf Lotte Willemsma van De Dansers maak je een dans die je gaat opvoeren in de Sint Maarten Parade op 9 november. \n\n\n\nVoor wie: iedereen tussen de 10 & 110 jaar.Danservaring is niet nodig. \n\n\n\nJe kan bijvoorbeeld samen meedoen met je ouder(s) of kind! \n\n\n\n\n\nLocatie\n\n\n\nHerculesHoek | Herculesplein 5 \n\n\n\nVervoer\n\n\n\nIedereen komt zelf naar de locatie toe. \n\n\n\nAanmelden\n\n\n\nWil je meedoen? Meld je aan via herculeshoek@welkominutrecht.nu.
URL:https://welkominutrecht.nu/agenda-item/dans-mee-in-de-sint-maartenparade/2024-09-30/
CATEGORIES:Cultuur,Sport,Utrecht leren kennen
ATTACH;FMTTYPE=image/jpeg:https://welkominutrecht.nu/wp-content/uploads/2024/10/st-Maartenparade-herculeshoek.jpg
END:VEVENT
BEGIN:VEVENT
DTSTART;TZID=Europe/Amsterdam:20240930T160000
DTEND;TZID=Europe/Amsterdam:20240930T170000
DTSTAMP:20260419T154454
CREATED:20240930T140523Z
LAST-MODIFIED:20241007T071807Z
UID:10031962-1727712000-1727715600@welkominutrecht.nu
SUMMARY:Aikido voor kinderen
DESCRIPTION:Omschrijving\n\n\n\nAikido is een Japanse vechtsport welke draait om zelfverdediging\, coördinatie en discipline. Kinderen kunnen meedoen in de HerculesHoek. \n\n\n\n\n\nLocatie\n\n\n\nHerculesHoek | Herculesplein 5-15 \n\n\n\nVervoer\n\n\n\nIedereen komt zelf naar de locatie. \n\n\n\nAanmelden\n\n\n\nMeer informatie en aanmelden via tanya@welkominutrecht.nu.
URL:https://welkominutrecht.nu/agenda-item/aikido-voor-kinderen-2/2024-09-30/
CATEGORIES:Kinderen & jongeren,Sport
END:VEVENT
BEGIN:VEVENT
DTSTART;TZID=Europe/Amsterdam:20240930T100000
DTEND;TZID=Europe/Amsterdam:20240930T160000
DTSTAMP:20260419T154454
CREATED:20240902T070426Z
LAST-MODIFIED:20240902T070427Z
UID:10026181-1727690400-1727712000@welkominutrecht.nu
SUMMARY:Open inloop Huiskamer Pahud
DESCRIPTION:Omschrijving\n\n\n\nKom wat drinken\, studeren of een spelletje spelen in De Huiskamer van De Pahud. Ontmoet er nieuwe mensen of spreek af met wie je al kent. Soms kun je meedoen aan een workshop. Iedereen is er welkom! Op maandag tussen 11.00 en 13.00 uur alleen voor vrouwen. \n\n\n\n\n\nLocatie\n\n\n\nHuiskamer Plan Einstein Pahud | Pahud de Mortangesdreef 61 \n\n\n\nVervoer\n\n\n\nIedereen kan zelf komen \n\n\n\nAanmelden\n\n\n\nAanmelden is niet nodig\, het is een open inloop
URL:https://welkominutrecht.nu/agenda-item/open-inloop-huiskamer-pahud/2024-09-30/
CATEGORIES:Koken & eten,Spel & ontmoeting
END:VEVENT
BEGIN:VEVENT
DTSTART;TZID=Europe/Amsterdam:20240927T100000
DTEND;TZID=Europe/Amsterdam:20240927T160000
DTSTAMP:20260419T154454
CREATED:20240902T070426Z
LAST-MODIFIED:20240902T070427Z
UID:10026180-1727431200-1727452800@welkominutrecht.nu
SUMMARY:Open inloop Huiskamer Pahud
DESCRIPTION:Omschrijving\n\n\n\nKom wat drinken\, studeren of een spelletje spelen in De Huiskamer van De Pahud. Ontmoet er nieuwe mensen of spreek af met wie je al kent. Soms kun je meedoen aan een workshop. Iedereen is er welkom! Op maandag tussen 11.00 en 13.00 uur alleen voor vrouwen. \n\n\n\n\n\nLocatie\n\n\n\nHuiskamer Plan Einstein Pahud | Pahud de Mortangesdreef 61 \n\n\n\nVervoer\n\n\n\nIedereen kan zelf komen \n\n\n\nAanmelden\n\n\n\nAanmelden is niet nodig\, het is een open inloop
URL:https://welkominutrecht.nu/agenda-item/open-inloop-huiskamer-pahud/2024-09-27/
CATEGORIES:Koken & eten,Spel & ontmoeting
END:VEVENT
BEGIN:VEVENT
DTSTART;TZID=Europe/Amsterdam:20240926T193000
DTEND;TZID=Europe/Amsterdam:20240926T210000
DTSTAMP:20260419T154454
CREATED:20240715T135636Z
LAST-MODIFIED:20250624T090339Z
UID:10039179-1727379000-1727384400@welkominutrecht.nu
SUMMARY:Taalcafé Vital'nya
DESCRIPTION:Omschrijving\n\n\n\nEen taalcafé om met behulp van begeleiding van een vrijwilliger één-op-één Nederlands te leren en te oefenen. Speciaal voor Oekraïners. \n\n\n\n\n\nLocatie\n\n\n\nVital’nya | Kanaalweg 86 \n\n\n\nVervoer\n\n\n\nIedereen komt zelf naar de locatie \n\n\n\nAanmelden\n\n\n\nMeer info en aanmelden bij Hellen: 06-38908315
URL:https://welkominutrecht.nu/agenda-item/taalcafe-vitalnya/2024-09-26/
CATEGORIES:Taal
END:VEVENT
BEGIN:VEVENT
DTSTART;TZID=Europe/Amsterdam:20240926T100000
DTEND;TZID=Europe/Amsterdam:20240926T160000
DTSTAMP:20260419T154454
CREATED:20240902T070426Z
LAST-MODIFIED:20240902T070427Z
UID:10026179-1727344800-1727366400@welkominutrecht.nu
SUMMARY:Open inloop Huiskamer Pahud
DESCRIPTION:Omschrijving\n\n\n\nKom wat drinken\, studeren of een spelletje spelen in De Huiskamer van De Pahud. Ontmoet er nieuwe mensen of spreek af met wie je al kent. Soms kun je meedoen aan een workshop. Iedereen is er welkom! Op maandag tussen 11.00 en 13.00 uur alleen voor vrouwen. \n\n\n\n\n\nLocatie\n\n\n\nHuiskamer Plan Einstein Pahud | Pahud de Mortangesdreef 61 \n\n\n\nVervoer\n\n\n\nIedereen kan zelf komen \n\n\n\nAanmelden\n\n\n\nAanmelden is niet nodig\, het is een open inloop
URL:https://welkominutrecht.nu/agenda-item/open-inloop-huiskamer-pahud/2024-09-26/
CATEGORIES:Koken & eten,Spel & ontmoeting
END:VEVENT
BEGIN:VEVENT
DTSTART;TZID=Europe/Amsterdam:20240925T171500
DTEND;TZID=Europe/Amsterdam:20240925T181500
DTSTAMP:20260419T154454
CREATED:20240716T140156Z
LAST-MODIFIED:20240716T140204Z
UID:10025786-1727284500-1727288100@welkominutrecht.nu
SUMMARY:Hatha yoga voor Oekraïners
DESCRIPTION:Omschrijving\n\n\n\nDe hatha yogales wordt gegeven in het Oekraïens door Karin Dekker van Yoga in de Wijk. De les begint om 17:30 en de inloop is vanaf 17:15.  \n\n\n\n\n\nLocatie\n\n\n\nBuurthuis Rosa – Malakkastraat 6 \n\n\n\nVervoer\n\n\n\nEigen vervoer \n\n\n\nAanmelden\n\n\n\nWil je meedoen met de yogales? Meld je dan aan door een mail te sturen naar hellen@welkominutrecht.nu.
URL:https://welkominutrecht.nu/agenda-item/hatha-yoga-voor-oekrainers/2024-09-25/
CATEGORIES:Sport
END:VEVENT
BEGIN:VEVENT
DTSTART;TZID=Europe/Amsterdam:20240925T100000
DTEND;TZID=Europe/Amsterdam:20240925T160000
DTSTAMP:20260419T154454
CREATED:20240902T070426Z
LAST-MODIFIED:20240902T070427Z
UID:10026178-1727258400-1727280000@welkominutrecht.nu
SUMMARY:Open inloop Huiskamer Pahud
DESCRIPTION:Omschrijving\n\n\n\nKom wat drinken\, studeren of een spelletje spelen in De Huiskamer van De Pahud. Ontmoet er nieuwe mensen of spreek af met wie je al kent. Soms kun je meedoen aan een workshop. Iedereen is er welkom! Op maandag tussen 11.00 en 13.00 uur alleen voor vrouwen. \n\n\n\n\n\nLocatie\n\n\n\nHuiskamer Plan Einstein Pahud | Pahud de Mortangesdreef 61 \n\n\n\nVervoer\n\n\n\nIedereen kan zelf komen \n\n\n\nAanmelden\n\n\n\nAanmelden is niet nodig\, het is een open inloop
URL:https://welkominutrecht.nu/agenda-item/open-inloop-huiskamer-pahud/2024-09-25/
CATEGORIES:Koken & eten,Spel & ontmoeting
END:VEVENT
BEGIN:VEVENT
DTSTART;TZID=Europe/Amsterdam:20240924T100000
DTEND;TZID=Europe/Amsterdam:20240924T160000
DTSTAMP:20260419T154454
CREATED:20240902T070426Z
LAST-MODIFIED:20240902T070427Z
UID:10026177-1727172000-1727193600@welkominutrecht.nu
SUMMARY:Open inloop Huiskamer Pahud
DESCRIPTION:Omschrijving\n\n\n\nKom wat drinken\, studeren of een spelletje spelen in De Huiskamer van De Pahud. Ontmoet er nieuwe mensen of spreek af met wie je al kent. Soms kun je meedoen aan een workshop. Iedereen is er welkom! Op maandag tussen 11.00 en 13.00 uur alleen voor vrouwen. \n\n\n\n\n\nLocatie\n\n\n\nHuiskamer Plan Einstein Pahud | Pahud de Mortangesdreef 61 \n\n\n\nVervoer\n\n\n\nIedereen kan zelf komen \n\n\n\nAanmelden\n\n\n\nAanmelden is niet nodig\, het is een open inloop
URL:https://welkominutrecht.nu/agenda-item/open-inloop-huiskamer-pahud/2024-09-24/
CATEGORIES:Koken & eten,Spel & ontmoeting
END:VEVENT
BEGIN:VEVENT
DTSTART;TZID=Europe/Amsterdam:20240924T000000
DTEND;TZID=Europe/Amsterdam:20240924T235959
DTSTAMP:20260419T154454
CREATED:20240927T071858Z
LAST-MODIFIED:20240927T071900Z
UID:10028716-1727136000-1727222399@welkominutrecht.nu
SUMMARY:Bioscoop
DESCRIPTION:Omschrijving\n\n\n\nElke dinsdag kunnen vluchtelingen via Welkom in Utrecht naar de film bij de filmhuizen Louis Hartlooper Complex\, Slachtstraat Filmtheater en Springhaver Theater. Wekelijks is er een wisselend aanbod van films op verschillende tijden.  \n\n\n\n\n\nLocatie\n\n\n\nLouis Hartlooper Complex | Tolsteegbrug 1 \n\n\n\nSpringhaver Theater | Springweg 50 \n\n\n\nSlachtstraat Filmtheater | Slachtstraat 5 \n\n\n\nVervoer\n\n\n\nIedereen komt zelf naar de locatie \n\n\n\nAanmelden\n\n\n\nMeer info en aanmelden kan bij Ricky via ricky@welkominutrecht.nu.
URL:https://welkominutrecht.nu/agenda-item/bioscoop-2/2024-09-24/
CATEGORIES:Cultuur,Utrecht leren kennen
END:VEVENT
BEGIN:VEVENT
DTSTART;TZID=Europe/Amsterdam:20240923T193000
DTEND;TZID=Europe/Amsterdam:20240923T210000
DTSTAMP:20260419T154454
CREATED:20240716T131618Z
LAST-MODIFIED:20240716T142043Z
UID:10024843-1727119800-1727125200@welkominutrecht.nu
SUMMARY:Taalcafé Boot Danubia
DESCRIPTION:Omschrijving\n\n\n\nTijdens dit taalcafé kunnen Oekraïners Nederlands oefenen met Nederlandse vrijwilligers op de boot Danubia\, één van de opvanglocaties voor Oekraïense vluchtelingen in Utrecht. \n\n\n\n\n\nLocatie\n\n\n\nBoot Danubia | Keulsekade 394 \n\n\n\nVervoer\n\n\n\nEigen vervoer \n\n\n\nAanmelden\n\n\n\nMeer informatie ontvangen of aanmelden als vrijwilliger? Dat kan door een mail te sturen naar hellen@welkominutrecht.nu.
URL:https://welkominutrecht.nu/agenda-item/taalcafe-boot-danubia-2/2024-09-23/
CATEGORIES:Taal
END:VEVENT
BEGIN:VEVENT
DTSTART;TZID=Europe/Amsterdam:20240923T100000
DTEND;TZID=Europe/Amsterdam:20240923T160000
DTSTAMP:20260419T154454
CREATED:20240902T070426Z
LAST-MODIFIED:20240902T070427Z
UID:10026176-1727085600-1727107200@welkominutrecht.nu
SUMMARY:Open inloop Huiskamer Pahud
DESCRIPTION:Omschrijving\n\n\n\nKom wat drinken\, studeren of een spelletje spelen in De Huiskamer van De Pahud. Ontmoet er nieuwe mensen of spreek af met wie je al kent. Soms kun je meedoen aan een workshop. Iedereen is er welkom! Op maandag tussen 11.00 en 13.00 uur alleen voor vrouwen. \n\n\n\n\n\nLocatie\n\n\n\nHuiskamer Plan Einstein Pahud | Pahud de Mortangesdreef 61 \n\n\n\nVervoer\n\n\n\nIedereen kan zelf komen \n\n\n\nAanmelden\n\n\n\nAanmelden is niet nodig\, het is een open inloop
URL:https://welkominutrecht.nu/agenda-item/open-inloop-huiskamer-pahud/2024-09-23/
CATEGORIES:Koken & eten,Spel & ontmoeting
END:VEVENT
BEGIN:VEVENT
DTSTART;TZID=Europe/Amsterdam:20240920T100000
DTEND;TZID=Europe/Amsterdam:20240920T160000
DTSTAMP:20260419T154454
CREATED:20240902T070426Z
LAST-MODIFIED:20240902T070427Z
UID:10026175-1726826400-1726848000@welkominutrecht.nu
SUMMARY:Open inloop Huiskamer Pahud
DESCRIPTION:Omschrijving\n\n\n\nKom wat drinken\, studeren of een spelletje spelen in De Huiskamer van De Pahud. Ontmoet er nieuwe mensen of spreek af met wie je al kent. Soms kun je meedoen aan een workshop. Iedereen is er welkom! Op maandag tussen 11.00 en 13.00 uur alleen voor vrouwen. \n\n\n\n\n\nLocatie\n\n\n\nHuiskamer Plan Einstein Pahud | Pahud de Mortangesdreef 61 \n\n\n\nVervoer\n\n\n\nIedereen kan zelf komen \n\n\n\nAanmelden\n\n\n\nAanmelden is niet nodig\, het is een open inloop
URL:https://welkominutrecht.nu/agenda-item/open-inloop-huiskamer-pahud/2024-09-20/
CATEGORIES:Koken & eten,Spel & ontmoeting
END:VEVENT
BEGIN:VEVENT
DTSTART;TZID=Europe/Amsterdam:20240919T193000
DTEND;TZID=Europe/Amsterdam:20240919T210000
DTSTAMP:20260419T154454
CREATED:20240715T135636Z
LAST-MODIFIED:20250624T090339Z
UID:10039178-1726774200-1726779600@welkominutrecht.nu
SUMMARY:Taalcafé Vital'nya
DESCRIPTION:Omschrijving\n\n\n\nEen taalcafé om met behulp van begeleiding van een vrijwilliger één-op-één Nederlands te leren en te oefenen. Speciaal voor Oekraïners. \n\n\n\n\n\nLocatie\n\n\n\nVital’nya | Kanaalweg 86 \n\n\n\nVervoer\n\n\n\nIedereen komt zelf naar de locatie \n\n\n\nAanmelden\n\n\n\nMeer info en aanmelden bij Hellen: 06-38908315
URL:https://welkominutrecht.nu/agenda-item/taalcafe-vitalnya/2024-09-19/
CATEGORIES:Taal
END:VEVENT
END:VCALENDAR