BEGIN:VCALENDAR
VERSION:2.0
PRODID:-//Welkom in Utrecht | Verbindt vluchtelingen met Utrecht - ECPv6.15.18//NONSGML v1.0//EN
CALSCALE:GREGORIAN
METHOD:PUBLISH
X-WR-CALNAME:Welkom in Utrecht | Verbindt vluchtelingen met Utrecht
X-ORIGINAL-URL:https://welkominutrecht.nu
X-WR-CALDESC:Evenementen voor Welkom in Utrecht | Verbindt vluchtelingen met Utrecht
REFRESH-INTERVAL;VALUE=DURATION:PT1H
X-Robots-Tag:noindex
X-PUBLISHED-TTL:PT1H
BEGIN:VTIMEZONE
TZID:Europe/Amsterdam
BEGIN:DAYLIGHT
TZOFFSETFROM:+0100
TZOFFSETTO:+0200
TZNAME:CEST
DTSTART:20240331T010000
END:DAYLIGHT
BEGIN:STANDARD
TZOFFSETFROM:+0200
TZOFFSETTO:+0100
TZNAME:CET
DTSTART:20241027T010000
END:STANDARD
BEGIN:DAYLIGHT
TZOFFSETFROM:+0100
TZOFFSETTO:+0200
TZNAME:CEST
DTSTART:20250330T010000
END:DAYLIGHT
BEGIN:STANDARD
TZOFFSETFROM:+0200
TZOFFSETTO:+0100
TZNAME:CET
DTSTART:20251026T010000
END:STANDARD
BEGIN:DAYLIGHT
TZOFFSETFROM:+0100
TZOFFSETTO:+0200
TZNAME:CEST
DTSTART:20260329T010000
END:DAYLIGHT
BEGIN:STANDARD
TZOFFSETFROM:+0200
TZOFFSETTO:+0100
TZNAME:CET
DTSTART:20261025T010000
END:STANDARD
END:VTIMEZONE
BEGIN:VEVENT
DTSTART;TZID=Europe/Amsterdam:20251229T130000
DTEND;TZID=Europe/Amsterdam:20251229T180000
DTSTAMP:20260425T151626
CREATED:20250929T070314Z
LAST-MODIFIED:20250929T070316Z
UID:10039777-1767013200-1767031200@welkominutrecht.nu
SUMMARY:Open inloop HerculesHoek
DESCRIPTION:Omschrijving\n\n\n\nDe HerculesHoek is de huiskamer van Welkom in Utrecht bij de opvang voor Oekraïners aan het Herculesplein. Het is een ruimte voor ontmoeting tussen Oekraïners en buurtbewoners en we organiseren er activiteiten waar iedereen aan mee kan doen. \n\n\n\nJe kunt langs komen tijdens onze open inloop op maandag\, woensdag\, donderdag en vrijdag tussen 15:30 en 18:00.  \n\n\n\n\n\nLocatie\n\n\n\nDe HerculesHoek | Herculesplein 5-15 \n\n\n\nVervoer\n\n\n\nIedereen komt zelf naar de locatie toe.  \n\n\n\nAanmelden\n\n\n\nKom gezellig binnen lopen! \n\n\n\nHeb je een vraag over de HerculesHoek? Mail dan naar herculeshoek@welkominutrecht.nu.
URL:https://welkominutrecht.nu/agenda-item/open-inloop-herculeshoek-5/2025-12-29/
CATEGORIES:Cultuur,Spel & ontmoeting,Utrecht leren kennen
ATTACH;FMTTYPE=image/jpeg:https://welkominutrecht.nu/wp-content/uploads/2024/11/nathan-dumlao-6VhPY27jdps-unsplash-scaled.jpg
END:VEVENT
BEGIN:VEVENT
DTSTART;TZID=Europe/Amsterdam:20251230T080000
DTEND;TZID=Europe/Amsterdam:20251230T170000
DTSTAMP:20260425T151627
CREATED:20250929T065651Z
LAST-MODIFIED:20251007T121213Z
UID:10039661-1767081600-1767114000@welkominutrecht.nu
SUMMARY:Bioscoop
DESCRIPTION:Omschrijving\n\n\n\nElke dinsdag kunnen vluchtelingen via Welkom in Utrecht naar de film bij de filmhuizen Louis Hartlooper Complex\, Slachtstraat Filmtheater en Springhaver Theater. Wekelijks is er een wisselend aanbod van films op verschillende tijden. \n\n\n\n\n\nLocatie\n\n\n\nLouis Hartlooper Complex | Tolsteegbrug 1 \n\n\n\nSpringhaver Theater | Springweg 50 \n\n\n\nSlachtstraat Filmtheater | Slachtstraat 5 \n\n\n\nVervoer\n\n\n\nIedereen komt zelf naar de locatie \n\n\n\nAanmelden\n\n\n\nWil je mee als vrijwilliger? Neem contact op met Ricky via ricky@welkominutrecht.nu.
URL:https://welkominutrecht.nu/agenda-item/bioscoop-7/2025-12-30/
CATEGORIES:Cultuur,Utrecht leren kennen
END:VEVENT
BEGIN:VEVENT
DTSTART;TZID=Europe/Amsterdam:20251231T130000
DTEND;TZID=Europe/Amsterdam:20251231T180000
DTSTAMP:20260425T151627
CREATED:20250929T070314Z
LAST-MODIFIED:20250929T070316Z
UID:10039778-1767186000-1767204000@welkominutrecht.nu
SUMMARY:Open inloop HerculesHoek
DESCRIPTION:Omschrijving\n\n\n\nDe HerculesHoek is de huiskamer van Welkom in Utrecht bij de opvang voor Oekraïners aan het Herculesplein. Het is een ruimte voor ontmoeting tussen Oekraïners en buurtbewoners en we organiseren er activiteiten waar iedereen aan mee kan doen. \n\n\n\nJe kunt langs komen tijdens onze open inloop op maandag\, woensdag\, donderdag en vrijdag tussen 15:30 en 18:00.  \n\n\n\n\n\nLocatie\n\n\n\nDe HerculesHoek | Herculesplein 5-15 \n\n\n\nVervoer\n\n\n\nIedereen komt zelf naar de locatie toe.  \n\n\n\nAanmelden\n\n\n\nKom gezellig binnen lopen! \n\n\n\nHeb je een vraag over de HerculesHoek? Mail dan naar herculeshoek@welkominutrecht.nu.
URL:https://welkominutrecht.nu/agenda-item/open-inloop-herculeshoek-5/2025-12-31/
CATEGORIES:Cultuur,Spel & ontmoeting,Utrecht leren kennen
ATTACH;FMTTYPE=image/jpeg:https://welkominutrecht.nu/wp-content/uploads/2024/11/nathan-dumlao-6VhPY27jdps-unsplash-scaled.jpg
END:VEVENT
END:VCALENDAR