BEGIN:VCALENDAR
VERSION:2.0
PRODID:-//Welkom in Utrecht | Verbindt vluchtelingen met Utrecht - ECPv6.15.18//NONSGML v1.0//EN
CALSCALE:GREGORIAN
METHOD:PUBLISH
X-WR-CALNAME:Welkom in Utrecht | Verbindt vluchtelingen met Utrecht
X-ORIGINAL-URL:https://welkominutrecht.nu
X-WR-CALDESC:Evenementen voor Welkom in Utrecht | Verbindt vluchtelingen met Utrecht
REFRESH-INTERVAL;VALUE=DURATION:PT1H
X-Robots-Tag:noindex
X-PUBLISHED-TTL:PT1H
BEGIN:VTIMEZONE
TZID:Europe/Amsterdam
BEGIN:DAYLIGHT
TZOFFSETFROM:+0100
TZOFFSETTO:+0200
TZNAME:CEST
DTSTART:20240331T010000
END:DAYLIGHT
BEGIN:STANDARD
TZOFFSETFROM:+0200
TZOFFSETTO:+0100
TZNAME:CET
DTSTART:20241027T010000
END:STANDARD
BEGIN:DAYLIGHT
TZOFFSETFROM:+0100
TZOFFSETTO:+0200
TZNAME:CEST
DTSTART:20250330T010000
END:DAYLIGHT
BEGIN:STANDARD
TZOFFSETFROM:+0200
TZOFFSETTO:+0100
TZNAME:CET
DTSTART:20251026T010000
END:STANDARD
BEGIN:DAYLIGHT
TZOFFSETFROM:+0100
TZOFFSETTO:+0200
TZNAME:CEST
DTSTART:20260329T010000
END:DAYLIGHT
BEGIN:STANDARD
TZOFFSETFROM:+0200
TZOFFSETTO:+0100
TZNAME:CET
DTSTART:20261025T010000
END:STANDARD
END:VTIMEZONE
BEGIN:VEVENT
DTSTART;TZID=Europe/Amsterdam:20251027T130000
DTEND;TZID=Europe/Amsterdam:20251027T180000
DTSTAMP:20260426T061356
CREATED:20250929T070314Z
LAST-MODIFIED:20250929T070316Z
UID:10039741-1761570000-1761588000@welkominutrecht.nu
SUMMARY:Open inloop HerculesHoek
DESCRIPTION:Omschrijving\n\n\n\nDe HerculesHoek is de huiskamer van Welkom in Utrecht bij de opvang voor Oekraïners aan het Herculesplein. Het is een ruimte voor ontmoeting tussen Oekraïners en buurtbewoners en we organiseren er activiteiten waar iedereen aan mee kan doen. \n\n\n\nJe kunt langs komen tijdens onze open inloop op maandag\, woensdag\, donderdag en vrijdag tussen 15:30 en 18:00.  \n\n\n\n\n\nLocatie\n\n\n\nDe HerculesHoek | Herculesplein 5-15 \n\n\n\nVervoer\n\n\n\nIedereen komt zelf naar de locatie toe.  \n\n\n\nAanmelden\n\n\n\nKom gezellig binnen lopen! \n\n\n\nHeb je een vraag over de HerculesHoek? Mail dan naar herculeshoek@welkominutrecht.nu.
URL:https://welkominutrecht.nu/agenda-item/open-inloop-herculeshoek-5/2025-10-27/
CATEGORIES:Cultuur,Spel & ontmoeting,Utrecht leren kennen
ATTACH;FMTTYPE=image/jpeg:https://welkominutrecht.nu/wp-content/uploads/2024/11/nathan-dumlao-6VhPY27jdps-unsplash-scaled.jpg
END:VEVENT
BEGIN:VEVENT
DTSTART;TZID=Europe/Amsterdam:20251028T080000
DTEND;TZID=Europe/Amsterdam:20251028T170000
DTSTAMP:20260426T061356
CREATED:20250929T065651Z
LAST-MODIFIED:20251007T121213Z
UID:10039652-1761638400-1761670800@welkominutrecht.nu
SUMMARY:Bioscoop
DESCRIPTION:Omschrijving\n\n\n\nElke dinsdag kunnen vluchtelingen via Welkom in Utrecht naar de film bij de filmhuizen Louis Hartlooper Complex\, Slachtstraat Filmtheater en Springhaver Theater. Wekelijks is er een wisselend aanbod van films op verschillende tijden. \n\n\n\n\n\nLocatie\n\n\n\nLouis Hartlooper Complex | Tolsteegbrug 1 \n\n\n\nSpringhaver Theater | Springweg 50 \n\n\n\nSlachtstraat Filmtheater | Slachtstraat 5 \n\n\n\nVervoer\n\n\n\nIedereen komt zelf naar de locatie \n\n\n\nAanmelden\n\n\n\nWil je mee als vrijwilliger? Neem contact op met Ricky via ricky@welkominutrecht.nu.
URL:https://welkominutrecht.nu/agenda-item/bioscoop-7/2025-10-28/
CATEGORIES:Cultuur,Utrecht leren kennen
END:VEVENT
BEGIN:VEVENT
DTSTART;TZID=Europe/Amsterdam:20251028T140000
DTEND;TZID=Europe/Amsterdam:20251028T160000
DTSTAMP:20260426T061356
CREATED:20251007T114900Z
LAST-MODIFIED:20251007T114903Z
UID:10041614-1761660000-1761667200@welkominutrecht.nu
SUMMARY:Lichtsculpturen bouwen (Sint Maartenparade) Pahud
DESCRIPTION:Omschrijving\n\n\n\nHelp meebouwen aan een prachtig lichtsculptuur voor de Sint Maartenparade in de Huiskamer van de Pahud. Op dinsdagavonden werk je hieraan met bewoners van de Pahud en van daarbuiten. Samen loop je mee tijdens de parade op 8 november. \n\n\n\n\n\nLocatie\n\n\n\nDe Huiskamer van de Pahud | Pahud de Mortangesdreef 61 \n\n\n\nVervoer\n\n\n\nIedereen komt zelf naar de locatie \n\n\n\nAanmelden\n\n\n\nWil je meebouwen aan het lichtsculptuur en meelopen met de parade? Stuur een mail naar linda@welkominutrecht.nu.
URL:https://welkominutrecht.nu/agenda-item/lichtsculpturen-bouwen-sint-maartenparade-pahud-2/2025-10-28/
CATEGORIES:Creatief & handwerken,Utrecht leren kennen
ATTACH;FMTTYPE=image/jpeg:https://welkominutrecht.nu/wp-content/uploads/2024/10/st-Maartenparade-herculeshoek.jpg
END:VEVENT
BEGIN:VEVENT
DTSTART;TZID=Europe/Amsterdam:20251029T130000
DTEND;TZID=Europe/Amsterdam:20251029T180000
DTSTAMP:20260426T061356
CREATED:20250929T070314Z
LAST-MODIFIED:20250929T070316Z
UID:10039742-1761742800-1761760800@welkominutrecht.nu
SUMMARY:Open inloop HerculesHoek
DESCRIPTION:Omschrijving\n\n\n\nDe HerculesHoek is de huiskamer van Welkom in Utrecht bij de opvang voor Oekraïners aan het Herculesplein. Het is een ruimte voor ontmoeting tussen Oekraïners en buurtbewoners en we organiseren er activiteiten waar iedereen aan mee kan doen. \n\n\n\nJe kunt langs komen tijdens onze open inloop op maandag\, woensdag\, donderdag en vrijdag tussen 15:30 en 18:00.  \n\n\n\n\n\nLocatie\n\n\n\nDe HerculesHoek | Herculesplein 5-15 \n\n\n\nVervoer\n\n\n\nIedereen komt zelf naar de locatie toe.  \n\n\n\nAanmelden\n\n\n\nKom gezellig binnen lopen! \n\n\n\nHeb je een vraag over de HerculesHoek? Mail dan naar herculeshoek@welkominutrecht.nu.
URL:https://welkominutrecht.nu/agenda-item/open-inloop-herculeshoek-5/2025-10-29/
CATEGORIES:Cultuur,Spel & ontmoeting,Utrecht leren kennen
ATTACH;FMTTYPE=image/jpeg:https://welkominutrecht.nu/wp-content/uploads/2024/11/nathan-dumlao-6VhPY27jdps-unsplash-scaled.jpg
END:VEVENT
BEGIN:VEVENT
DTSTART;TZID=Europe/Amsterdam:20251030T130000
DTEND;TZID=Europe/Amsterdam:20251030T180000
DTSTAMP:20260426T061356
CREATED:20250929T070314Z
LAST-MODIFIED:20250929T070316Z
UID:10039743-1761829200-1761847200@welkominutrecht.nu
SUMMARY:Open inloop HerculesHoek
DESCRIPTION:Omschrijving\n\n\n\nDe HerculesHoek is de huiskamer van Welkom in Utrecht bij de opvang voor Oekraïners aan het Herculesplein. Het is een ruimte voor ontmoeting tussen Oekraïners en buurtbewoners en we organiseren er activiteiten waar iedereen aan mee kan doen. \n\n\n\nJe kunt langs komen tijdens onze open inloop op maandag\, woensdag\, donderdag en vrijdag tussen 15:30 en 18:00.  \n\n\n\n\n\nLocatie\n\n\n\nDe HerculesHoek | Herculesplein 5-15 \n\n\n\nVervoer\n\n\n\nIedereen komt zelf naar de locatie toe.  \n\n\n\nAanmelden\n\n\n\nKom gezellig binnen lopen! \n\n\n\nHeb je een vraag over de HerculesHoek? Mail dan naar herculeshoek@welkominutrecht.nu.
URL:https://welkominutrecht.nu/agenda-item/open-inloop-herculeshoek-5/2025-10-30/
CATEGORIES:Cultuur,Spel & ontmoeting,Utrecht leren kennen
ATTACH;FMTTYPE=image/jpeg:https://welkominutrecht.nu/wp-content/uploads/2024/11/nathan-dumlao-6VhPY27jdps-unsplash-scaled.jpg
END:VEVENT
BEGIN:VEVENT
DTSTART;TZID=Europe/Amsterdam:20251031T130000
DTEND;TZID=Europe/Amsterdam:20251031T180000
DTSTAMP:20260426T061356
CREATED:20250929T070314Z
LAST-MODIFIED:20250929T070316Z
UID:10039744-1761915600-1761933600@welkominutrecht.nu
SUMMARY:Open inloop HerculesHoek
DESCRIPTION:Omschrijving\n\n\n\nDe HerculesHoek is de huiskamer van Welkom in Utrecht bij de opvang voor Oekraïners aan het Herculesplein. Het is een ruimte voor ontmoeting tussen Oekraïners en buurtbewoners en we organiseren er activiteiten waar iedereen aan mee kan doen. \n\n\n\nJe kunt langs komen tijdens onze open inloop op maandag\, woensdag\, donderdag en vrijdag tussen 15:30 en 18:00.  \n\n\n\n\n\nLocatie\n\n\n\nDe HerculesHoek | Herculesplein 5-15 \n\n\n\nVervoer\n\n\n\nIedereen komt zelf naar de locatie toe.  \n\n\n\nAanmelden\n\n\n\nKom gezellig binnen lopen! \n\n\n\nHeb je een vraag over de HerculesHoek? Mail dan naar herculeshoek@welkominutrecht.nu.
URL:https://welkominutrecht.nu/agenda-item/open-inloop-herculeshoek-5/2025-10-31/
CATEGORIES:Cultuur,Spel & ontmoeting,Utrecht leren kennen
ATTACH;FMTTYPE=image/jpeg:https://welkominutrecht.nu/wp-content/uploads/2024/11/nathan-dumlao-6VhPY27jdps-unsplash-scaled.jpg
END:VEVENT
END:VCALENDAR