BEGIN:VCALENDAR
VERSION:2.0
PRODID:-//Welkom in Utrecht | Verbindt vluchtelingen met Utrecht - ECPv6.15.18//NONSGML v1.0//EN
CALSCALE:GREGORIAN
METHOD:PUBLISH
X-WR-CALNAME:Welkom in Utrecht | Verbindt vluchtelingen met Utrecht
X-ORIGINAL-URL:https://welkominutrecht.nu
X-WR-CALDESC:Evenementen voor Welkom in Utrecht | Verbindt vluchtelingen met Utrecht
REFRESH-INTERVAL;VALUE=DURATION:PT1H
X-Robots-Tag:noindex
X-PUBLISHED-TTL:PT1H
BEGIN:VTIMEZONE
TZID:Europe/Amsterdam
BEGIN:DAYLIGHT
TZOFFSETFROM:+0100
TZOFFSETTO:+0200
TZNAME:CEST
DTSTART:20250330T010000
END:DAYLIGHT
BEGIN:STANDARD
TZOFFSETFROM:+0200
TZOFFSETTO:+0100
TZNAME:CET
DTSTART:20251026T010000
END:STANDARD
BEGIN:DAYLIGHT
TZOFFSETFROM:+0100
TZOFFSETTO:+0200
TZNAME:CEST
DTSTART:20260329T010000
END:DAYLIGHT
BEGIN:STANDARD
TZOFFSETFROM:+0200
TZOFFSETTO:+0100
TZNAME:CET
DTSTART:20261025T010000
END:STANDARD
BEGIN:DAYLIGHT
TZOFFSETFROM:+0100
TZOFFSETTO:+0200
TZNAME:CEST
DTSTART:20270328T010000
END:DAYLIGHT
BEGIN:STANDARD
TZOFFSETFROM:+0200
TZOFFSETTO:+0100
TZNAME:CET
DTSTART:20271031T010000
END:STANDARD
END:VTIMEZONE
BEGIN:VEVENT
DTSTART;TZID=Europe/Amsterdam:20260316T180000
DTEND;TZID=Europe/Amsterdam:20260316T190000
DTSTAMP:20260424T235429
CREATED:20251125T124030Z
LAST-MODIFIED:20251125T124032Z
UID:10041714-1773684000-1773687600@welkominutrecht.nu
SUMMARY:Dansen voor vrouwen
DESCRIPTION:Omschrijving\n\n\n\nElke maandag is er dansles in Het Wilde Westen onder leiding van Meis. We komen als voruwen bij elkaar in een veilige omgeving\, waarin we elkaar via dans leren kennen. We swingen\, zweten en genieten van elkaars energie! Door middel van verschillende ritmes\, muziek en dynamiek ontdekken we ons eigen lijf vanuit een andere invalshoek. We staan open naar elkaars achtergrond en nemen dit mee in de dans. Samen bewegen en genieten staat in onze vrouwendans centraal!  \n\n\n\n\n\nLocatie\n\n\n\nHet Wilde Westen | Everard Meijsterlaan 1B \n\n\n\nVervoer\n\n\n\nIedereen komt zelf naar de locatie toe. Woon je in het azc? Dan kunnen we met je meelopen naar de les.  \n\n\n\nAanmelden\n\n\n\nWil je meedansen? Aanmelden kan bij Elham via elham@welkominutrecht.nu.
URL:https://welkominutrecht.nu/agenda-item/dansen-voor-vrouwen-7/2026-03-16/
CATEGORIES:Cultuur,Sport
END:VEVENT
BEGIN:VEVENT
DTSTART;TZID=Europe/Amsterdam:20260317T170000
DTEND;TZID=Europe/Amsterdam:20260317T180000
DTSTAMP:20260424T235429
CREATED:20251201T150316Z
LAST-MODIFIED:20260318T121039Z
UID:10043764-1773766800-1773770400@welkominutrecht.nu
SUMMARY:Karateles voor kinderen
DESCRIPTION:Omschrijving\n\n\n\nWijkbewoonster Petra geeft karateles aan kinderen die wonen in het azc aan de Vlampijpstraat (Zuilen). Kinderen uit de buurt zijn welkom om aan te sluiten voor een gratis karateles!  \n\n\n\n\n\nLocatie\n\n\n\nBuurtcentrum Oase | Cartesiusweg 11 \n\n\n\nAanmelden\n\n\n\nWil je meedoen met de karateles? Stuur dan een mailtje naar eline@welkominutrecht.nu.
URL:https://welkominutrecht.nu/agenda-item/karateles-voor-kinderen/2026-03-17/
CATEGORIES:Sport
ATTACH;FMTTYPE=image/jpeg:https://welkominutrecht.nu/wp-content/uploads/2025/12/nguyen-hung-FktPF6cwIWo-unsplash-scaled.jpg
END:VEVENT
BEGIN:VEVENT
DTSTART;TZID=Europe/Amsterdam:20260323T180000
DTEND;TZID=Europe/Amsterdam:20260323T190000
DTSTAMP:20260424T235429
CREATED:20251125T124030Z
LAST-MODIFIED:20251125T124032Z
UID:10041715-1774288800-1774292400@welkominutrecht.nu
SUMMARY:Dansen voor vrouwen
DESCRIPTION:Omschrijving\n\n\n\nElke maandag is er dansles in Het Wilde Westen onder leiding van Meis. We komen als voruwen bij elkaar in een veilige omgeving\, waarin we elkaar via dans leren kennen. We swingen\, zweten en genieten van elkaars energie! Door middel van verschillende ritmes\, muziek en dynamiek ontdekken we ons eigen lijf vanuit een andere invalshoek. We staan open naar elkaars achtergrond en nemen dit mee in de dans. Samen bewegen en genieten staat in onze vrouwendans centraal!  \n\n\n\n\n\nLocatie\n\n\n\nHet Wilde Westen | Everard Meijsterlaan 1B \n\n\n\nVervoer\n\n\n\nIedereen komt zelf naar de locatie toe. Woon je in het azc? Dan kunnen we met je meelopen naar de les.  \n\n\n\nAanmelden\n\n\n\nWil je meedansen? Aanmelden kan bij Elham via elham@welkominutrecht.nu.
URL:https://welkominutrecht.nu/agenda-item/dansen-voor-vrouwen-7/2026-03-23/
CATEGORIES:Cultuur,Sport
END:VEVENT
BEGIN:VEVENT
DTSTART;TZID=Europe/Amsterdam:20260324T170000
DTEND;TZID=Europe/Amsterdam:20260324T180000
DTSTAMP:20260424T235429
CREATED:20251201T150316Z
LAST-MODIFIED:20260318T121039Z
UID:10043765-1774371600-1774375200@welkominutrecht.nu
SUMMARY:Karateles voor kinderen
DESCRIPTION:Omschrijving\n\n\n\nWijkbewoonster Petra geeft karateles aan kinderen die wonen in het azc aan de Vlampijpstraat (Zuilen). Kinderen uit de buurt zijn welkom om aan te sluiten voor een gratis karateles!  \n\n\n\n\n\nLocatie\n\n\n\nBuurtcentrum Oase | Cartesiusweg 11 \n\n\n\nAanmelden\n\n\n\nWil je meedoen met de karateles? Stuur dan een mailtje naar eline@welkominutrecht.nu.
URL:https://welkominutrecht.nu/agenda-item/karateles-voor-kinderen/2026-03-24/
CATEGORIES:Sport
ATTACH;FMTTYPE=image/jpeg:https://welkominutrecht.nu/wp-content/uploads/2025/12/nguyen-hung-FktPF6cwIWo-unsplash-scaled.jpg
END:VEVENT
BEGIN:VEVENT
DTSTART;TZID=Europe/Amsterdam:20260330T180000
DTEND;TZID=Europe/Amsterdam:20260330T190000
DTSTAMP:20260424T235429
CREATED:20251125T124030Z
LAST-MODIFIED:20251125T124032Z
UID:10041716-1774893600-1774897200@welkominutrecht.nu
SUMMARY:Dansen voor vrouwen
DESCRIPTION:Omschrijving\n\n\n\nElke maandag is er dansles in Het Wilde Westen onder leiding van Meis. We komen als voruwen bij elkaar in een veilige omgeving\, waarin we elkaar via dans leren kennen. We swingen\, zweten en genieten van elkaars energie! Door middel van verschillende ritmes\, muziek en dynamiek ontdekken we ons eigen lijf vanuit een andere invalshoek. We staan open naar elkaars achtergrond en nemen dit mee in de dans. Samen bewegen en genieten staat in onze vrouwendans centraal!  \n\n\n\n\n\nLocatie\n\n\n\nHet Wilde Westen | Everard Meijsterlaan 1B \n\n\n\nVervoer\n\n\n\nIedereen komt zelf naar de locatie toe. Woon je in het azc? Dan kunnen we met je meelopen naar de les.  \n\n\n\nAanmelden\n\n\n\nWil je meedansen? Aanmelden kan bij Elham via elham@welkominutrecht.nu.
URL:https://welkominutrecht.nu/agenda-item/dansen-voor-vrouwen-7/2026-03-30/
CATEGORIES:Cultuur,Sport
END:VEVENT
BEGIN:VEVENT
DTSTART;TZID=Europe/Amsterdam:20260331T170000
DTEND;TZID=Europe/Amsterdam:20260331T180000
DTSTAMP:20260424T235429
CREATED:20251201T150316Z
LAST-MODIFIED:20260318T121039Z
UID:10043766-1774976400-1774980000@welkominutrecht.nu
SUMMARY:Karateles voor kinderen
DESCRIPTION:Omschrijving\n\n\n\nWijkbewoonster Petra geeft karateles aan kinderen die wonen in het azc aan de Vlampijpstraat (Zuilen). Kinderen uit de buurt zijn welkom om aan te sluiten voor een gratis karateles!  \n\n\n\n\n\nLocatie\n\n\n\nBuurtcentrum Oase | Cartesiusweg 11 \n\n\n\nAanmelden\n\n\n\nWil je meedoen met de karateles? Stuur dan een mailtje naar eline@welkominutrecht.nu.
URL:https://welkominutrecht.nu/agenda-item/karateles-voor-kinderen/2026-03-31/
CATEGORIES:Sport
ATTACH;FMTTYPE=image/jpeg:https://welkominutrecht.nu/wp-content/uploads/2025/12/nguyen-hung-FktPF6cwIWo-unsplash-scaled.jpg
END:VEVENT
BEGIN:VEVENT
DTSTART;TZID=Europe/Amsterdam:20260407T170000
DTEND;TZID=Europe/Amsterdam:20260407T180000
DTSTAMP:20260424T235429
CREATED:20251201T150316Z
LAST-MODIFIED:20260318T121039Z
UID:10043816-1775581200-1775584800@welkominutrecht.nu
SUMMARY:Karateles voor kinderen
DESCRIPTION:Omschrijving\n\n\n\nWijkbewoonster Petra geeft karateles aan kinderen die wonen in het azc aan de Vlampijpstraat (Zuilen). Kinderen uit de buurt zijn welkom om aan te sluiten voor een gratis karateles!  \n\n\n\n\n\nLocatie\n\n\n\nBuurtcentrum Oase | Cartesiusweg 11 \n\n\n\nAanmelden\n\n\n\nWil je meedoen met de karateles? Stuur dan een mailtje naar eline@welkominutrecht.nu.
URL:https://welkominutrecht.nu/agenda-item/karateles-voor-kinderen/2026-04-07/
CATEGORIES:Sport
ATTACH;FMTTYPE=image/jpeg:https://welkominutrecht.nu/wp-content/uploads/2025/12/nguyen-hung-FktPF6cwIWo-unsplash-scaled.jpg
END:VEVENT
BEGIN:VEVENT
DTSTART;TZID=Europe/Amsterdam:20260414T170000
DTEND;TZID=Europe/Amsterdam:20260414T180000
DTSTAMP:20260424T235429
CREATED:20251201T150316Z
LAST-MODIFIED:20260318T121039Z
UID:10043817-1776186000-1776189600@welkominutrecht.nu
SUMMARY:Karateles voor kinderen
DESCRIPTION:Omschrijving\n\n\n\nWijkbewoonster Petra geeft karateles aan kinderen die wonen in het azc aan de Vlampijpstraat (Zuilen). Kinderen uit de buurt zijn welkom om aan te sluiten voor een gratis karateles!  \n\n\n\n\n\nLocatie\n\n\n\nBuurtcentrum Oase | Cartesiusweg 11 \n\n\n\nAanmelden\n\n\n\nWil je meedoen met de karateles? Stuur dan een mailtje naar eline@welkominutrecht.nu.
URL:https://welkominutrecht.nu/agenda-item/karateles-voor-kinderen/2026-04-14/
CATEGORIES:Sport
ATTACH;FMTTYPE=image/jpeg:https://welkominutrecht.nu/wp-content/uploads/2025/12/nguyen-hung-FktPF6cwIWo-unsplash-scaled.jpg
END:VEVENT
BEGIN:VEVENT
DTSTART;TZID=Europe/Amsterdam:20260421T170000
DTEND;TZID=Europe/Amsterdam:20260421T180000
DTSTAMP:20260424T235429
CREATED:20251201T150316Z
LAST-MODIFIED:20260318T121039Z
UID:10043818-1776790800-1776794400@welkominutrecht.nu
SUMMARY:Karateles voor kinderen
DESCRIPTION:Omschrijving\n\n\n\nWijkbewoonster Petra geeft karateles aan kinderen die wonen in het azc aan de Vlampijpstraat (Zuilen). Kinderen uit de buurt zijn welkom om aan te sluiten voor een gratis karateles!  \n\n\n\n\n\nLocatie\n\n\n\nBuurtcentrum Oase | Cartesiusweg 11 \n\n\n\nAanmelden\n\n\n\nWil je meedoen met de karateles? Stuur dan een mailtje naar eline@welkominutrecht.nu.
URL:https://welkominutrecht.nu/agenda-item/karateles-voor-kinderen/2026-04-21/
CATEGORIES:Sport
ATTACH;FMTTYPE=image/jpeg:https://welkominutrecht.nu/wp-content/uploads/2025/12/nguyen-hung-FktPF6cwIWo-unsplash-scaled.jpg
END:VEVENT
BEGIN:VEVENT
DTSTART;TZID=Europe/Amsterdam:20260428T170000
DTEND;TZID=Europe/Amsterdam:20260428T180000
DTSTAMP:20260424T235429
CREATED:20251201T150316Z
LAST-MODIFIED:20260318T121039Z
UID:10043819-1777395600-1777399200@welkominutrecht.nu
SUMMARY:Karateles voor kinderen
DESCRIPTION:Omschrijving\n\n\n\nWijkbewoonster Petra geeft karateles aan kinderen die wonen in het azc aan de Vlampijpstraat (Zuilen). Kinderen uit de buurt zijn welkom om aan te sluiten voor een gratis karateles!  \n\n\n\n\n\nLocatie\n\n\n\nBuurtcentrum Oase | Cartesiusweg 11 \n\n\n\nAanmelden\n\n\n\nWil je meedoen met de karateles? Stuur dan een mailtje naar eline@welkominutrecht.nu.
URL:https://welkominutrecht.nu/agenda-item/karateles-voor-kinderen/2026-04-28/
CATEGORIES:Sport
ATTACH;FMTTYPE=image/jpeg:https://welkominutrecht.nu/wp-content/uploads/2025/12/nguyen-hung-FktPF6cwIWo-unsplash-scaled.jpg
END:VEVENT
BEGIN:VEVENT
DTSTART;TZID=Europe/Amsterdam:20260505T170000
DTEND;TZID=Europe/Amsterdam:20260505T180000
DTSTAMP:20260424T235429
CREATED:20251201T150316Z
LAST-MODIFIED:20260318T121039Z
UID:10043820-1778000400-1778004000@welkominutrecht.nu
SUMMARY:Karateles voor kinderen
DESCRIPTION:Omschrijving\n\n\n\nWijkbewoonster Petra geeft karateles aan kinderen die wonen in het azc aan de Vlampijpstraat (Zuilen). Kinderen uit de buurt zijn welkom om aan te sluiten voor een gratis karateles!  \n\n\n\n\n\nLocatie\n\n\n\nBuurtcentrum Oase | Cartesiusweg 11 \n\n\n\nAanmelden\n\n\n\nWil je meedoen met de karateles? Stuur dan een mailtje naar eline@welkominutrecht.nu.
URL:https://welkominutrecht.nu/agenda-item/karateles-voor-kinderen/2026-05-05/
CATEGORIES:Sport
ATTACH;FMTTYPE=image/jpeg:https://welkominutrecht.nu/wp-content/uploads/2025/12/nguyen-hung-FktPF6cwIWo-unsplash-scaled.jpg
END:VEVENT
BEGIN:VEVENT
DTSTART;TZID=Europe/Amsterdam:20260512T170000
DTEND;TZID=Europe/Amsterdam:20260512T180000
DTSTAMP:20260424T235429
CREATED:20251201T150316Z
LAST-MODIFIED:20260318T121039Z
UID:10043821-1778605200-1778608800@welkominutrecht.nu
SUMMARY:Karateles voor kinderen
DESCRIPTION:Omschrijving\n\n\n\nWijkbewoonster Petra geeft karateles aan kinderen die wonen in het azc aan de Vlampijpstraat (Zuilen). Kinderen uit de buurt zijn welkom om aan te sluiten voor een gratis karateles!  \n\n\n\n\n\nLocatie\n\n\n\nBuurtcentrum Oase | Cartesiusweg 11 \n\n\n\nAanmelden\n\n\n\nWil je meedoen met de karateles? Stuur dan een mailtje naar eline@welkominutrecht.nu.
URL:https://welkominutrecht.nu/agenda-item/karateles-voor-kinderen/2026-05-12/
CATEGORIES:Sport
ATTACH;FMTTYPE=image/jpeg:https://welkominutrecht.nu/wp-content/uploads/2025/12/nguyen-hung-FktPF6cwIWo-unsplash-scaled.jpg
END:VEVENT
BEGIN:VEVENT
DTSTART;TZID=Europe/Amsterdam:20260519T170000
DTEND;TZID=Europe/Amsterdam:20260519T180000
DTSTAMP:20260424T235429
CREATED:20251201T150316Z
LAST-MODIFIED:20260318T121039Z
UID:10043822-1779210000-1779213600@welkominutrecht.nu
SUMMARY:Karateles voor kinderen
DESCRIPTION:Omschrijving\n\n\n\nWijkbewoonster Petra geeft karateles aan kinderen die wonen in het azc aan de Vlampijpstraat (Zuilen). Kinderen uit de buurt zijn welkom om aan te sluiten voor een gratis karateles!  \n\n\n\n\n\nLocatie\n\n\n\nBuurtcentrum Oase | Cartesiusweg 11 \n\n\n\nAanmelden\n\n\n\nWil je meedoen met de karateles? Stuur dan een mailtje naar eline@welkominutrecht.nu.
URL:https://welkominutrecht.nu/agenda-item/karateles-voor-kinderen/2026-05-19/
CATEGORIES:Sport
ATTACH;FMTTYPE=image/jpeg:https://welkominutrecht.nu/wp-content/uploads/2025/12/nguyen-hung-FktPF6cwIWo-unsplash-scaled.jpg
END:VEVENT
BEGIN:VEVENT
DTSTART;TZID=Europe/Amsterdam:20260526T170000
DTEND;TZID=Europe/Amsterdam:20260526T180000
DTSTAMP:20260424T235429
CREATED:20251201T150316Z
LAST-MODIFIED:20260318T121039Z
UID:10043823-1779814800-1779818400@welkominutrecht.nu
SUMMARY:Karateles voor kinderen
DESCRIPTION:Omschrijving\n\n\n\nWijkbewoonster Petra geeft karateles aan kinderen die wonen in het azc aan de Vlampijpstraat (Zuilen). Kinderen uit de buurt zijn welkom om aan te sluiten voor een gratis karateles!  \n\n\n\n\n\nLocatie\n\n\n\nBuurtcentrum Oase | Cartesiusweg 11 \n\n\n\nAanmelden\n\n\n\nWil je meedoen met de karateles? Stuur dan een mailtje naar eline@welkominutrecht.nu.
URL:https://welkominutrecht.nu/agenda-item/karateles-voor-kinderen/2026-05-26/
CATEGORIES:Sport
ATTACH;FMTTYPE=image/jpeg:https://welkominutrecht.nu/wp-content/uploads/2025/12/nguyen-hung-FktPF6cwIWo-unsplash-scaled.jpg
END:VEVENT
BEGIN:VEVENT
DTSTART;TZID=Europe/Amsterdam:20260602T170000
DTEND;TZID=Europe/Amsterdam:20260602T180000
DTSTAMP:20260424T235429
CREATED:20251201T150316Z
LAST-MODIFIED:20260318T121039Z
UID:10043824-1780419600-1780423200@welkominutrecht.nu
SUMMARY:Karateles voor kinderen
DESCRIPTION:Omschrijving\n\n\n\nWijkbewoonster Petra geeft karateles aan kinderen die wonen in het azc aan de Vlampijpstraat (Zuilen). Kinderen uit de buurt zijn welkom om aan te sluiten voor een gratis karateles!  \n\n\n\n\n\nLocatie\n\n\n\nBuurtcentrum Oase | Cartesiusweg 11 \n\n\n\nAanmelden\n\n\n\nWil je meedoen met de karateles? Stuur dan een mailtje naar eline@welkominutrecht.nu.
URL:https://welkominutrecht.nu/agenda-item/karateles-voor-kinderen/2026-06-02/
CATEGORIES:Sport
ATTACH;FMTTYPE=image/jpeg:https://welkominutrecht.nu/wp-content/uploads/2025/12/nguyen-hung-FktPF6cwIWo-unsplash-scaled.jpg
END:VEVENT
BEGIN:VEVENT
DTSTART;TZID=Europe/Amsterdam:20260609T170000
DTEND;TZID=Europe/Amsterdam:20260609T180000
DTSTAMP:20260424T235429
CREATED:20251201T150316Z
LAST-MODIFIED:20260318T121039Z
UID:10043825-1781024400-1781028000@welkominutrecht.nu
SUMMARY:Karateles voor kinderen
DESCRIPTION:Omschrijving\n\n\n\nWijkbewoonster Petra geeft karateles aan kinderen die wonen in het azc aan de Vlampijpstraat (Zuilen). Kinderen uit de buurt zijn welkom om aan te sluiten voor een gratis karateles!  \n\n\n\n\n\nLocatie\n\n\n\nBuurtcentrum Oase | Cartesiusweg 11 \n\n\n\nAanmelden\n\n\n\nWil je meedoen met de karateles? Stuur dan een mailtje naar eline@welkominutrecht.nu.
URL:https://welkominutrecht.nu/agenda-item/karateles-voor-kinderen/2026-06-09/
CATEGORIES:Sport
ATTACH;FMTTYPE=image/jpeg:https://welkominutrecht.nu/wp-content/uploads/2025/12/nguyen-hung-FktPF6cwIWo-unsplash-scaled.jpg
END:VEVENT
BEGIN:VEVENT
DTSTART;TZID=Europe/Amsterdam:20260616T170000
DTEND;TZID=Europe/Amsterdam:20260616T180000
DTSTAMP:20260424T235429
CREATED:20251201T150316Z
LAST-MODIFIED:20260318T121039Z
UID:10043826-1781629200-1781632800@welkominutrecht.nu
SUMMARY:Karateles voor kinderen
DESCRIPTION:Omschrijving\n\n\n\nWijkbewoonster Petra geeft karateles aan kinderen die wonen in het azc aan de Vlampijpstraat (Zuilen). Kinderen uit de buurt zijn welkom om aan te sluiten voor een gratis karateles!  \n\n\n\n\n\nLocatie\n\n\n\nBuurtcentrum Oase | Cartesiusweg 11 \n\n\n\nAanmelden\n\n\n\nWil je meedoen met de karateles? Stuur dan een mailtje naar eline@welkominutrecht.nu.
URL:https://welkominutrecht.nu/agenda-item/karateles-voor-kinderen/2026-06-16/
CATEGORIES:Sport
ATTACH;FMTTYPE=image/jpeg:https://welkominutrecht.nu/wp-content/uploads/2025/12/nguyen-hung-FktPF6cwIWo-unsplash-scaled.jpg
END:VEVENT
BEGIN:VEVENT
DTSTART;TZID=Europe/Amsterdam:20260623T170000
DTEND;TZID=Europe/Amsterdam:20260623T180000
DTSTAMP:20260424T235429
CREATED:20251201T150316Z
LAST-MODIFIED:20260318T121039Z
UID:10043827-1782234000-1782237600@welkominutrecht.nu
SUMMARY:Karateles voor kinderen
DESCRIPTION:Omschrijving\n\n\n\nWijkbewoonster Petra geeft karateles aan kinderen die wonen in het azc aan de Vlampijpstraat (Zuilen). Kinderen uit de buurt zijn welkom om aan te sluiten voor een gratis karateles!  \n\n\n\n\n\nLocatie\n\n\n\nBuurtcentrum Oase | Cartesiusweg 11 \n\n\n\nAanmelden\n\n\n\nWil je meedoen met de karateles? Stuur dan een mailtje naar eline@welkominutrecht.nu.
URL:https://welkominutrecht.nu/agenda-item/karateles-voor-kinderen/2026-06-23/
CATEGORIES:Sport
ATTACH;FMTTYPE=image/jpeg:https://welkominutrecht.nu/wp-content/uploads/2025/12/nguyen-hung-FktPF6cwIWo-unsplash-scaled.jpg
END:VEVENT
BEGIN:VEVENT
DTSTART;TZID=Europe/Amsterdam:20260630T170000
DTEND;TZID=Europe/Amsterdam:20260630T180000
DTSTAMP:20260424T235429
CREATED:20251201T150316Z
LAST-MODIFIED:20260318T121039Z
UID:10043828-1782838800-1782842400@welkominutrecht.nu
SUMMARY:Karateles voor kinderen
DESCRIPTION:Omschrijving\n\n\n\nWijkbewoonster Petra geeft karateles aan kinderen die wonen in het azc aan de Vlampijpstraat (Zuilen). Kinderen uit de buurt zijn welkom om aan te sluiten voor een gratis karateles!  \n\n\n\n\n\nLocatie\n\n\n\nBuurtcentrum Oase | Cartesiusweg 11 \n\n\n\nAanmelden\n\n\n\nWil je meedoen met de karateles? Stuur dan een mailtje naar eline@welkominutrecht.nu.
URL:https://welkominutrecht.nu/agenda-item/karateles-voor-kinderen/2026-06-30/
CATEGORIES:Sport
ATTACH;FMTTYPE=image/jpeg:https://welkominutrecht.nu/wp-content/uploads/2025/12/nguyen-hung-FktPF6cwIWo-unsplash-scaled.jpg
END:VEVENT
END:VCALENDAR