BEGIN:VCALENDAR
VERSION:2.0
PRODID:-//Welkom in Utrecht | Verbindt vluchtelingen met Utrecht - ECPv6.15.18//NONSGML v1.0//EN
CALSCALE:GREGORIAN
METHOD:PUBLISH
X-WR-CALNAME:Welkom in Utrecht | Verbindt vluchtelingen met Utrecht
X-ORIGINAL-URL:https://welkominutrecht.nu
X-WR-CALDESC:Evenementen voor Welkom in Utrecht | Verbindt vluchtelingen met Utrecht
REFRESH-INTERVAL;VALUE=DURATION:PT1H
X-Robots-Tag:noindex
X-PUBLISHED-TTL:PT1H
BEGIN:VTIMEZONE
TZID:Europe/Amsterdam
BEGIN:DAYLIGHT
TZOFFSETFROM:+0100
TZOFFSETTO:+0200
TZNAME:CEST
DTSTART:20240331T010000
END:DAYLIGHT
BEGIN:STANDARD
TZOFFSETFROM:+0200
TZOFFSETTO:+0100
TZNAME:CET
DTSTART:20241027T010000
END:STANDARD
BEGIN:DAYLIGHT
TZOFFSETFROM:+0100
TZOFFSETTO:+0200
TZNAME:CEST
DTSTART:20250330T010000
END:DAYLIGHT
BEGIN:STANDARD
TZOFFSETFROM:+0200
TZOFFSETTO:+0100
TZNAME:CET
DTSTART:20251026T010000
END:STANDARD
BEGIN:DAYLIGHT
TZOFFSETFROM:+0100
TZOFFSETTO:+0200
TZNAME:CEST
DTSTART:20260329T010000
END:DAYLIGHT
BEGIN:STANDARD
TZOFFSETFROM:+0200
TZOFFSETTO:+0100
TZNAME:CET
DTSTART:20261025T010000
END:STANDARD
END:VTIMEZONE
BEGIN:VEVENT
DTSTART;TZID=Europe/Amsterdam:20250915T133000
DTEND;TZID=Europe/Amsterdam:20250915T160000
DTSTAMP:20260424T154502
CREATED:20250618T082120Z
LAST-MODIFIED:20250618T082222Z
UID:10037530-1757943000-1757952000@welkominutrecht.nu
SUMMARY:Wolatelier de Buitenkamer
DESCRIPTION:Omschrijving\n\n\n\nJe bent welkom in het wolatelier. Hier wordt wol gewassen\, geverfd en gesponnen. Daarmee maak je een kunstwerk\, bijvoorbeeld een wand- of vloerkleed. Het is dichtbij azc Star Lodge en Oekraïne-opvangen aan het Herculesplein en in het Provinciehuis.  \n\n\n\n\n\nLocatie\n\n\n\nDe Buitenkamer | Oostbroekselaan 64 \n\n\n\nVervoer\n\n\n\nIedereen komt zelf naar de locatie toe.  \n\n\n\nAanmelden\n\n\n\nMeer info en aanmelden bij Frank via frank@welkominutrecht.nu
URL:https://welkominutrecht.nu/agenda-item/wolatelier-de-buitenkamer-2/2025-09-15/
CATEGORIES:Creatief & handwerken,Natuur
END:VEVENT
BEGIN:VEVENT
DTSTART;TZID=Europe/Amsterdam:20250917T133000
DTEND;TZID=Europe/Amsterdam:20250917T160000
DTSTAMP:20260424T154502
CREATED:20250618T082120Z
LAST-MODIFIED:20250618T082222Z
UID:10037531-1758115800-1758124800@welkominutrecht.nu
SUMMARY:Wolatelier de Buitenkamer
DESCRIPTION:Omschrijving\n\n\n\nJe bent welkom in het wolatelier. Hier wordt wol gewassen\, geverfd en gesponnen. Daarmee maak je een kunstwerk\, bijvoorbeeld een wand- of vloerkleed. Het is dichtbij azc Star Lodge en Oekraïne-opvangen aan het Herculesplein en in het Provinciehuis.  \n\n\n\n\n\nLocatie\n\n\n\nDe Buitenkamer | Oostbroekselaan 64 \n\n\n\nVervoer\n\n\n\nIedereen komt zelf naar de locatie toe.  \n\n\n\nAanmelden\n\n\n\nMeer info en aanmelden bij Frank via frank@welkominutrecht.nu
URL:https://welkominutrecht.nu/agenda-item/wolatelier-de-buitenkamer-2/2025-09-17/
CATEGORIES:Creatief & handwerken,Natuur
END:VEVENT
END:VCALENDAR