BEGIN:VCALENDAR
VERSION:2.0
PRODID:-//Welkom in Utrecht | Verbindt vluchtelingen met Utrecht - ECPv6.15.18//NONSGML v1.0//EN
CALSCALE:GREGORIAN
METHOD:PUBLISH
X-ORIGINAL-URL:https://welkominutrecht.nu
X-WR-CALDESC:Evenementen voor Welkom in Utrecht | Verbindt vluchtelingen met Utrecht
REFRESH-INTERVAL;VALUE=DURATION:PT1H
X-Robots-Tag:noindex
X-PUBLISHED-TTL:PT1H
BEGIN:VTIMEZONE
TZID:Europe/Amsterdam
BEGIN:DAYLIGHT
TZOFFSETFROM:+0100
TZOFFSETTO:+0200
TZNAME:CEST
DTSTART:20250330T010000
END:DAYLIGHT
BEGIN:STANDARD
TZOFFSETFROM:+0200
TZOFFSETTO:+0100
TZNAME:CET
DTSTART:20251026T010000
END:STANDARD
BEGIN:DAYLIGHT
TZOFFSETFROM:+0100
TZOFFSETTO:+0200
TZNAME:CEST
DTSTART:20260329T010000
END:DAYLIGHT
BEGIN:STANDARD
TZOFFSETFROM:+0200
TZOFFSETTO:+0100
TZNAME:CET
DTSTART:20261025T010000
END:STANDARD
BEGIN:DAYLIGHT
TZOFFSETFROM:+0100
TZOFFSETTO:+0200
TZNAME:CEST
DTSTART:20270328T010000
END:DAYLIGHT
BEGIN:STANDARD
TZOFFSETFROM:+0200
TZOFFSETTO:+0100
TZNAME:CET
DTSTART:20271031T010000
END:STANDARD
END:VTIMEZONE
BEGIN:VEVENT
DTSTART;TZID=Europe/Amsterdam:20260319T143000
DTEND;TZID=Europe/Amsterdam:20260319T163000
DTSTAMP:20260423T042442
CREATED:20260318T111249Z
LAST-MODIFIED:20260318T111529Z
UID:10042615-1773930600-1773937800@welkominutrecht.nu
SUMMARY:Kinderactiviteit Europalaan
DESCRIPTION:Omschrijving\n\n\n\nElke week organiseren we kinderactiviteiten voor de kinderen die wonen in de noodopvanglocatie aan de Europalaan (Kanaleneiland). Vrijwilligers knutselen en doen spelletjes met de kinderen. \n\n\n\n\n\nLocatie\n\n\n\nNoodopvanglocatie Europalaan | Europalaan 44 \n\n\n\nVervoer\n\n\n\nIedereen komt zelf naar de locatie toe.  \n\n\n\nAanmelden\n\n\n\nWil je als vrijwilliger meehelpen tijdens de kinderactiviteit? Stuur dan een mailtje naar Lara via lara@welkominutrecht.nu.
URL:https://welkominutrecht.nu/agenda-item/kinderactiviteit-europalaan-5/2026-03-19/
CATEGORIES:Creatief & handwerken,Kinderen & jongeren,Spel & ontmoeting
ATTACH;FMTTYPE=image/jpeg:https://welkominutrecht.nu/wp-content/uploads/2025/03/IMG_20250306_155907556-002-1-scaled-e1742831887363.jpg
END:VEVENT
BEGIN:VEVENT
DTSTART;TZID=Europe/Amsterdam:20260319T163000
DTEND;TZID=Europe/Amsterdam:20260319T173000
DTSTAMP:20260423T042442
CREATED:20251201T130117Z
LAST-MODIFIED:20251201T130132Z
UID:10043033-1773937800-1773941400@welkominutrecht.nu
SUMMARY:Kinderclub HerculesHoek
DESCRIPTION:Omschrijving\n\n\n\nElke donderdag organiseren vrijwilligers kinderactiviteiten voor de kinderen die wonen in de opvanglocatie voor Oekraïnse vluchtelingen aan het Herculesplein\, in onze activiteitenruimte de HerculesHoek. \n\n\n\n\n\nLocatie\n\n\n\nHerculesHoek | Herculesplein 5 \n\n\n\nVervoer\n\n\n\nIedereen komt zelf naar de locatie toe.  \n\n\n\nAanmelden\n\n\n\nWil je helpen als vrijwilliger tijdens de kidsclub voor Oekraïense kinderen in de opvang aan het Herculesplein? Stuur dan een mail naar herculeshoek@welkominutrecht.nu.
URL:https://welkominutrecht.nu/agenda-item/kinderclub-herculeshoek-5/2026-03-19/
CATEGORIES:Kinderen & jongeren
ATTACH;FMTTYPE=image/jpeg:https://welkominutrecht.nu/wp-content/uploads/2024/07/Jezelf-natekenen-kidsactiviteit-Herculesplein-april-2024-e1721046007435.jpg
END:VEVENT
END:VCALENDAR