BEGIN:VCALENDAR
VERSION:2.0
PRODID:-//Welkom in Utrecht | Verbindt vluchtelingen met Utrecht - ECPv6.15.18//NONSGML v1.0//EN
CALSCALE:GREGORIAN
METHOD:PUBLISH
X-WR-CALNAME:Welkom in Utrecht | Verbindt vluchtelingen met Utrecht
X-ORIGINAL-URL:https://welkominutrecht.nu
X-WR-CALDESC:Evenementen voor Welkom in Utrecht | Verbindt vluchtelingen met Utrecht
REFRESH-INTERVAL;VALUE=DURATION:PT1H
X-Robots-Tag:noindex
X-PUBLISHED-TTL:PT1H
BEGIN:VTIMEZONE
TZID:Europe/Amsterdam
BEGIN:DAYLIGHT
TZOFFSETFROM:+0100
TZOFFSETTO:+0200
TZNAME:CEST
DTSTART:20240331T010000
END:DAYLIGHT
BEGIN:STANDARD
TZOFFSETFROM:+0200
TZOFFSETTO:+0100
TZNAME:CET
DTSTART:20241027T010000
END:STANDARD
BEGIN:DAYLIGHT
TZOFFSETFROM:+0100
TZOFFSETTO:+0200
TZNAME:CEST
DTSTART:20250330T010000
END:DAYLIGHT
BEGIN:STANDARD
TZOFFSETFROM:+0200
TZOFFSETTO:+0100
TZNAME:CET
DTSTART:20251026T010000
END:STANDARD
BEGIN:DAYLIGHT
TZOFFSETFROM:+0100
TZOFFSETTO:+0200
TZNAME:CEST
DTSTART:20260329T010000
END:DAYLIGHT
BEGIN:STANDARD
TZOFFSETFROM:+0200
TZOFFSETTO:+0100
TZNAME:CET
DTSTART:20261025T010000
END:STANDARD
END:VTIMEZONE
BEGIN:VEVENT
DTSTART;TZID=Europe/Amsterdam:20250714T033000
DTEND;TZID=Europe/Amsterdam:20250714T180000
DTSTAMP:20260426T061026
CREATED:20250618T084204Z
LAST-MODIFIED:20250731T093629Z
UID:10039431-1752463800-1752516000@welkominutrecht.nu
SUMMARY:Open inloop HerculesHoek
DESCRIPTION:Omschrijving\n\n\n\nDe HerculesHoek is de huiskamer van Welkom in Utrecht bij de opvang voor Oekraïners aan het Herculesplein. Het is een ruimte voor ontmoeting tussen Oekraïners en buurtbewoners en we organiseren er activiteiten waar iedereen aan mee kan doen. \n\n\n\nJe kunt langs komen tijdens onze open inloop op maandag\, woensdag\, donderdag en vrijdag tussen 15:30 en 18:00.  \n\n\n\n\n\nLocatie\n\n\n\nDe HerculesHoek | Herculesplein 5-15 \n\n\n\nVervoer\n\n\n\nIedereen komt zelf naar de locatie toe.  \n\n\n\nAanmelden\n\n\n\nKom gezellig binnen lopen! \n\n\n\nHeb je een vraag over de HerculesHoek? Mail dan naar herculeshoek@welkominutrecht.nu.
URL:https://welkominutrecht.nu/agenda-item/open-inloop-herculeshoek-4/2025-07-14/
CATEGORIES:Cultuur,Spel & ontmoeting,Utrecht leren kennen
ATTACH;FMTTYPE=image/jpeg:https://welkominutrecht.nu/wp-content/uploads/2024/11/nathan-dumlao-6VhPY27jdps-unsplash-scaled.jpg
END:VEVENT
BEGIN:VEVENT
DTSTART;TZID=Europe/Amsterdam:20250714T180000
DTEND;TZID=Europe/Amsterdam:20250714T190000
DTSTAMP:20260426T061026
CREATED:20250618T080928Z
LAST-MODIFIED:20250618T080930Z
UID:10037180-1752516000-1752519600@welkominutrecht.nu
SUMMARY:Dansen voor vrouwen
DESCRIPTION:Omschrijving\n\n\n\nElke week een andere dansworkshop van een dansdocent\, van salsa tot moderne dans. De workshop is speciaal voor vrouwen\, in Het Wilde Westen vlakbij azc Joseph Haydnlaan. \n\n\n\n\n\nLocatie\n\n\n\nHet Wilde Westen | Everard Meijsterlaan 1B \n\n\n\nVervoer\n\n\n\nIedereen komt zelf naar de locatie toe. Woon je in het azc? Dan kunnen we met je meelopen naar de les.  \n\n\n\nAanmelden\n\n\n\nAanmelden kan bij Elham via elham@welkominutrecht.nu.
URL:https://welkominutrecht.nu/agenda-item/dansen-voor-vrouwen-5/2025-07-14/
CATEGORIES:Cultuur,Spel & ontmoeting
END:VEVENT
BEGIN:VEVENT
DTSTART;TZID=Europe/Amsterdam:20250715T080000
DTEND;TZID=Europe/Amsterdam:20250715T170000
DTSTAMP:20260426T061026
CREATED:20250630T111847Z
LAST-MODIFIED:20250630T111849Z
UID:10039234-1752566400-1752598800@welkominutrecht.nu
SUMMARY:Bioscoop
DESCRIPTION:Omschrijving\n\n\n\nElke dinsdag kunnen vluchtelingen via Welkom in Utrecht naar de film bij de filmhuizen Louis Hartlooper Complex\, Slachtstraat Filmtheater en Springhaver Theater. Wekelijks is er een wisselend aanbod van films op verschillende tijden. \n\n\n\n\n\nLocatie\n\n\n\nLouis Hartlooper Complex | Tolsteegbrug 1 \n\n\n\nSpringhaver Theater | Springweg 50 \n\n\n\nSlachtstraat Filmtheater | Slachtstraat 5 \n\n\n\nVervoer\n\n\n\nIedereen komt zelf naar de locatie \n\n\n\nAanmelden\n\n\n\nMeer info en aanmelden kan bij Ricky via ricky@welkominutrecht.nu.
URL:https://welkominutrecht.nu/agenda-item/bioscoop-6/2025-07-15/
CATEGORIES:Cultuur,Utrecht leren kennen
END:VEVENT
BEGIN:VEVENT
DTSTART;TZID=Europe/Amsterdam:20250716T033000
DTEND;TZID=Europe/Amsterdam:20250716T180000
DTSTAMP:20260426T061026
CREATED:20250618T084204Z
LAST-MODIFIED:20250731T093629Z
UID:10039432-1752636600-1752688800@welkominutrecht.nu
SUMMARY:Open inloop HerculesHoek
DESCRIPTION:Omschrijving\n\n\n\nDe HerculesHoek is de huiskamer van Welkom in Utrecht bij de opvang voor Oekraïners aan het Herculesplein. Het is een ruimte voor ontmoeting tussen Oekraïners en buurtbewoners en we organiseren er activiteiten waar iedereen aan mee kan doen. \n\n\n\nJe kunt langs komen tijdens onze open inloop op maandag\, woensdag\, donderdag en vrijdag tussen 15:30 en 18:00.  \n\n\n\n\n\nLocatie\n\n\n\nDe HerculesHoek | Herculesplein 5-15 \n\n\n\nVervoer\n\n\n\nIedereen komt zelf naar de locatie toe.  \n\n\n\nAanmelden\n\n\n\nKom gezellig binnen lopen! \n\n\n\nHeb je een vraag over de HerculesHoek? Mail dan naar herculeshoek@welkominutrecht.nu.
URL:https://welkominutrecht.nu/agenda-item/open-inloop-herculeshoek-4/2025-07-16/
CATEGORIES:Cultuur,Spel & ontmoeting,Utrecht leren kennen
ATTACH;FMTTYPE=image/jpeg:https://welkominutrecht.nu/wp-content/uploads/2024/11/nathan-dumlao-6VhPY27jdps-unsplash-scaled.jpg
END:VEVENT
BEGIN:VEVENT
DTSTART;TZID=Europe/Amsterdam:20250716T143000
DTEND;TZID=Europe/Amsterdam:20250716T173000
DTSTAMP:20260426T061026
CREATED:20250618T132044Z
LAST-MODIFIED:20250618T132045Z
UID:10039042-1752676200-1752687000@welkominutrecht.nu
SUMMARY:Computerles Joseph Haydnlaan
DESCRIPTION:Omschrijving\n\n\n\nWil jij basisvaardigheden leren voor het omgaan met een computer? Dan is deze computerles voor jou. De lessen worden aangeboden door Incluusion.  \n\n\n\n\n\nLocatie\n\n\n\nZolder van Plan Einstein | Joseph Haydnlaan 2A \n\n\n\nVervoer\n\n\n\nIedereen komt zelf naar de locatie \n\n\n\nAanmelden\n\n\n\nMeld je aan bij VluchtelingenWerk Plan Einstein\, via planeinstein@vluchtelingenwerk.nl
URL:https://welkominutrecht.nu/agenda-item/computerles-joseph-haydnlaan-5/2025-07-16/
CATEGORIES:Cultuur
END:VEVENT
BEGIN:VEVENT
DTSTART;TZID=Europe/Amsterdam:20250717T033000
DTEND;TZID=Europe/Amsterdam:20250717T180000
DTSTAMP:20260426T061026
CREATED:20250618T084204Z
LAST-MODIFIED:20250731T093629Z
UID:10039433-1752723000-1752775200@welkominutrecht.nu
SUMMARY:Open inloop HerculesHoek
DESCRIPTION:Omschrijving\n\n\n\nDe HerculesHoek is de huiskamer van Welkom in Utrecht bij de opvang voor Oekraïners aan het Herculesplein. Het is een ruimte voor ontmoeting tussen Oekraïners en buurtbewoners en we organiseren er activiteiten waar iedereen aan mee kan doen. \n\n\n\nJe kunt langs komen tijdens onze open inloop op maandag\, woensdag\, donderdag en vrijdag tussen 15:30 en 18:00.  \n\n\n\n\n\nLocatie\n\n\n\nDe HerculesHoek | Herculesplein 5-15 \n\n\n\nVervoer\n\n\n\nIedereen komt zelf naar de locatie toe.  \n\n\n\nAanmelden\n\n\n\nKom gezellig binnen lopen! \n\n\n\nHeb je een vraag over de HerculesHoek? Mail dan naar herculeshoek@welkominutrecht.nu.
URL:https://welkominutrecht.nu/agenda-item/open-inloop-herculeshoek-4/2025-07-17/
CATEGORIES:Cultuur,Spel & ontmoeting,Utrecht leren kennen
ATTACH;FMTTYPE=image/jpeg:https://welkominutrecht.nu/wp-content/uploads/2024/11/nathan-dumlao-6VhPY27jdps-unsplash-scaled.jpg
END:VEVENT
BEGIN:VEVENT
DTSTART;TZID=Europe/Amsterdam:20250718T033000
DTEND;TZID=Europe/Amsterdam:20250718T180000
DTSTAMP:20260426T061026
CREATED:20250618T084204Z
LAST-MODIFIED:20250731T093629Z
UID:10039434-1752809400-1752861600@welkominutrecht.nu
SUMMARY:Open inloop HerculesHoek
DESCRIPTION:Omschrijving\n\n\n\nDe HerculesHoek is de huiskamer van Welkom in Utrecht bij de opvang voor Oekraïners aan het Herculesplein. Het is een ruimte voor ontmoeting tussen Oekraïners en buurtbewoners en we organiseren er activiteiten waar iedereen aan mee kan doen. \n\n\n\nJe kunt langs komen tijdens onze open inloop op maandag\, woensdag\, donderdag en vrijdag tussen 15:30 en 18:00.  \n\n\n\n\n\nLocatie\n\n\n\nDe HerculesHoek | Herculesplein 5-15 \n\n\n\nVervoer\n\n\n\nIedereen komt zelf naar de locatie toe.  \n\n\n\nAanmelden\n\n\n\nKom gezellig binnen lopen! \n\n\n\nHeb je een vraag over de HerculesHoek? Mail dan naar herculeshoek@welkominutrecht.nu.
URL:https://welkominutrecht.nu/agenda-item/open-inloop-herculeshoek-4/2025-07-18/
CATEGORIES:Cultuur,Spel & ontmoeting,Utrecht leren kennen
ATTACH;FMTTYPE=image/jpeg:https://welkominutrecht.nu/wp-content/uploads/2024/11/nathan-dumlao-6VhPY27jdps-unsplash-scaled.jpg
END:VEVENT
BEGIN:VEVENT
DTSTART;TZID=Europe/Amsterdam:20250718T150000
DTEND;TZID=Europe/Amsterdam:20250718T163000
DTSTAMP:20260426T061027
CREATED:20250618T115246Z
LAST-MODIFIED:20250618T115442Z
UID:10038560-1752850800-1752856200@welkominutrecht.nu
SUMMARY:Filmmiddag Pahud
DESCRIPTION:Omschrijving\n\n\n\nKom op vrijdagmiddag naar de Huiskamer van Pahud om met anderen een leuke film te kijken! Leuk voor alle leeftijden!  \n\n\n\n\n\nLocatie\n\n\n\nHuiskamer van Plan Einstein Pahud | Pahud de Mortangesdreef 61 \n\n\n\nVervoer\n\n\n\nIedereen komt zelf naar de locatie toe.  \n\n\n\nAanmelden\n\n\n\nJe bent welkom om binnen te lopen en mee te kijken! Aanmelden is niet nodig.Wil je wat meer informatie? Neem dan contact op met Iman via iman@welkominutrecht.nu.
URL:https://welkominutrecht.nu/agenda-item/filmmiddag-pahud-2/2025-07-18/
CATEGORIES:Cultuur,Kinderen & jongeren
ATTACH;FMTTYPE=image/jpeg:https://welkominutrecht.nu/wp-content/uploads/2025/03/georgia-vagim-ny-lHmsHYHk-unsplash-scaled.jpg
END:VEVENT
BEGIN:VEVENT
DTSTART;TZID=Europe/Amsterdam:20250718T190000
DTEND;TZID=Europe/Amsterdam:20250718T200000
DTSTAMP:20260426T061027
CREATED:20250618T115930Z
LAST-MODIFIED:20250618T115958Z
UID:10038599-1752865200-1752868800@welkominutrecht.nu
SUMMARY:Repetitie koor Ptaha
DESCRIPTION:Omschrijving\n\n\n\nKoor Ptaha is een koor van Oekraïners en Nederlanders met Oekraïense en Nederlandse muziek. \n\n\n\n\n\nLocatie\n\n\n\nHet Wilde Westen | Everard Meijsterlaan 1b \n\n\n\nVervoer\n\n\n\nIedereen komt zelf naar de locatie toe. \n\n\n\nAanmelden\n\n\n\nWil je meezingen met het koor of wil je meer weten over koor Ptaha? Mail dan naar hellen@welkominutrecht.nu.
URL:https://welkominutrecht.nu/agenda-item/repetitie-koor-ptaha/2025-07-18/
CATEGORIES:Cultuur,Muziek
ATTACH;FMTTYPE=image/jpeg:https://welkominutrecht.nu/wp-content/uploads/2024/07/cdd20-zlpST4Dkja8-unsplash-scaled-e1721133545117.jpg
END:VEVENT
END:VCALENDAR