BEGIN:VCALENDAR
VERSION:2.0
PRODID:-//Welkom in Utrecht | Verbindt vluchtelingen met Utrecht - ECPv6.15.18//NONSGML v1.0//EN
CALSCALE:GREGORIAN
METHOD:PUBLISH
X-ORIGINAL-URL:https://welkominutrecht.nu
X-WR-CALDESC:Evenementen voor Welkom in Utrecht | Verbindt vluchtelingen met Utrecht
REFRESH-INTERVAL;VALUE=DURATION:PT1H
X-Robots-Tag:noindex
X-PUBLISHED-TTL:PT1H
BEGIN:VTIMEZONE
TZID:Europe/Amsterdam
BEGIN:DAYLIGHT
TZOFFSETFROM:+0100
TZOFFSETTO:+0200
TZNAME:CEST
DTSTART:20250330T010000
END:DAYLIGHT
BEGIN:STANDARD
TZOFFSETFROM:+0200
TZOFFSETTO:+0100
TZNAME:CET
DTSTART:20251026T010000
END:STANDARD
BEGIN:DAYLIGHT
TZOFFSETFROM:+0100
TZOFFSETTO:+0200
TZNAME:CEST
DTSTART:20260329T010000
END:DAYLIGHT
BEGIN:STANDARD
TZOFFSETFROM:+0200
TZOFFSETTO:+0100
TZNAME:CET
DTSTART:20261025T010000
END:STANDARD
BEGIN:DAYLIGHT
TZOFFSETFROM:+0100
TZOFFSETTO:+0200
TZNAME:CEST
DTSTART:20270328T010000
END:DAYLIGHT
BEGIN:STANDARD
TZOFFSETFROM:+0200
TZOFFSETTO:+0100
TZNAME:CET
DTSTART:20271031T010000
END:STANDARD
END:VTIMEZONE
BEGIN:VEVENT
DTSTART;TZID=Europe/Amsterdam:20260626T190000
DTEND;TZID=Europe/Amsterdam:20260626T200000
DTSTAMP:20260423T141608
CREATED:20260323T132808Z
LAST-MODIFIED:20260323T133733Z
UID:10044272-1782500400-1782504000@welkominutrecht.nu
SUMMARY:Repetitie koor Ptaha
DESCRIPTION:Omschrijving\n\n\n\nKoor Ptaha is een koor van Oekraïners en Nederlanders met Oekraïense en Nederlandse muziek. \n\n\n\n\n\nLocatie\n\n\n\nHet Wilde Westen | Everard Meijsterlaan 1b \n\n\n\nVervoer\n\n\n\nIedereen komt zelf naar de locatie toe. \n\n\n\nAanmelden\n\n\n\nWil je meezingen met het koor of wil je meer weten over koor Ptaha? Mail dan naar hellen@welkominutrecht.nu.
URL:https://welkominutrecht.nu/agenda-item/repetitie-koor-ptaha-4/2026-06-26/
CATEGORIES:Cultuur,Muziek
ATTACH;FMTTYPE=image/jpeg:https://welkominutrecht.nu/wp-content/uploads/2024/07/cdd20-zlpST4Dkja8-unsplash-scaled-e1721133545117.jpg
END:VEVENT
END:VCALENDAR