BEGIN:VCALENDAR
VERSION:2.0
PRODID:-//Welkom in Utrecht | Verbindt vluchtelingen met Utrecht - ECPv6.15.18//NONSGML v1.0//EN
CALSCALE:GREGORIAN
METHOD:PUBLISH
X-ORIGINAL-URL:https://welkominutrecht.nu
X-WR-CALDESC:Evenementen voor Welkom in Utrecht | Verbindt vluchtelingen met Utrecht
REFRESH-INTERVAL;VALUE=DURATION:PT1H
X-Robots-Tag:noindex
X-PUBLISHED-TTL:PT1H
BEGIN:VTIMEZONE
TZID:Europe/Amsterdam
BEGIN:DAYLIGHT
TZOFFSETFROM:+0100
TZOFFSETTO:+0200
TZNAME:CEST
DTSTART:20240331T010000
END:DAYLIGHT
BEGIN:STANDARD
TZOFFSETFROM:+0200
TZOFFSETTO:+0100
TZNAME:CET
DTSTART:20241027T010000
END:STANDARD
BEGIN:DAYLIGHT
TZOFFSETFROM:+0100
TZOFFSETTO:+0200
TZNAME:CEST
DTSTART:20250330T010000
END:DAYLIGHT
BEGIN:STANDARD
TZOFFSETFROM:+0200
TZOFFSETTO:+0100
TZNAME:CET
DTSTART:20251026T010000
END:STANDARD
BEGIN:DAYLIGHT
TZOFFSETFROM:+0100
TZOFFSETTO:+0200
TZNAME:CEST
DTSTART:20260329T010000
END:DAYLIGHT
BEGIN:STANDARD
TZOFFSETFROM:+0200
TZOFFSETTO:+0100
TZNAME:CET
DTSTART:20261025T010000
END:STANDARD
END:VTIMEZONE
BEGIN:VEVENT
DTSTART;TZID=Europe/Amsterdam:20250908T110000
DTEND;TZID=Europe/Amsterdam:20250908T130000
DTSTAMP:20260420T054954
CREATED:20250618T130021Z
LAST-MODIFIED:20250618T130132Z
UID:10038770-1757329200-1757336400@welkominutrecht.nu
SUMMARY:Vrouwencafé Star Lodge
DESCRIPTION:Omschrijving\n\n\n\nMaandag tussen 11:00 en 13:00 staat in het teken van de vrouwen van Star Lodge. We ontmoeten elkaar en doen activiteiten samen. \n\n\n\n\n\nLocatie\n\n\n\nHuiskamer Star Lodge | Biltsestraatweg 92 \n\n\n\nVervoer\n\n\n\nIedereen komt zelf naar de locatie \n\n\n\nAanmelden\n\n\n\nMeer info en aanmelden bij Deema: deema@welkominutrecht.nu.
URL:https://welkominutrecht.nu/agenda-item/vrouwencafe-star-lodge-5/2025-09-08/
CATEGORIES:Beauty & body,Creatief & handwerken,Spel & ontmoeting
ATTACH;FMTTYPE=image/jpeg:https://welkominutrecht.nu/wp-content/uploads/2025/03/vonecia-carswell-0aMMMUjiiEQ-unsplash-scaled.jpg
END:VEVENT
BEGIN:VEVENT
DTSTART;TZID=Europe/Amsterdam:20250909T180000
DTEND;TZID=Europe/Amsterdam:20250909T210000
DTSTAMP:20260420T054954
CREATED:20250618T132810Z
LAST-MODIFIED:20250618T132811Z
UID:10039088-1757440800-1757451600@welkominutrecht.nu
SUMMARY:Vrouwenavond Pahud
DESCRIPTION:Omschrijving\n\n\n\nEen avond speciaal voor de vrouwen van azc Pahud. Samen doen we 1 keer per maand een leuke activiteit zoals handwerken\, bakken of dansen. \n\n\n\n\n\nLocatie\n\n\n\nHuiskamer Plan Einstein Pahud | Pahud de Mortangesdreef 61 \n\n\n\nVervoer\n\n\n\nIedereen komt zelf naar de huiskamer \n\n\n\nAanmelden\n\n\n\nAanmelden en meer info bij Hamist: 0685994250.
URL:https://welkominutrecht.nu/agenda-item/vrouwenavond-pahud-2/2025-09-09/
CATEGORIES:Beauty & body,Creatief & handwerken,Spel & ontmoeting
END:VEVENT
BEGIN:VEVENT
DTSTART;TZID=Europe/Amsterdam:20250911T110000
DTEND;TZID=Europe/Amsterdam:20250911T130000
DTSTAMP:20260420T054954
CREATED:20250626T135059Z
LAST-MODIFIED:20250626T135102Z
UID:10039216-1757588400-1757595600@welkominutrecht.nu
SUMMARY:Vrouwenuurtjes Pahud
DESCRIPTION:Omschrijving\n\n\n\nDe Huiskamer van Pahud is op donderdag tussen 11.00 – 13.00 uur speciaal open voor vrouwen. Dan wordt er gedanst\, geschilderd of iets lekkers gemaakt. Voel je welkom\, ook als je alleen een praatje wilt maken of naar muziek komt luisteren. \n\n\n\n\n\nLocatie\n\n\n\nHuiskamer Plan Einstein Pahud | Pahud de Mortangesdreef 61 \n\n\n\nVervoer\n\n\n\nIedereen komt zelf naar de locatie toe. \n\n\n\nAanmelden\n\n\n\nAanmelden is niet nodig\, je bent welkom om binnen te lopen!
URL:https://welkominutrecht.nu/agenda-item/vrouwenuurtjes-pahud-4/2025-09-11/
CATEGORIES:Beauty & body,Creatief & handwerken,Muziek,Spel & ontmoeting
END:VEVENT
END:VCALENDAR