BEGIN:VCALENDAR
VERSION:2.0
PRODID:-//Welkom in Utrecht | Verbindt vluchtelingen met Utrecht - ECPv6.15.18//NONSGML v1.0//EN
CALSCALE:GREGORIAN
METHOD:PUBLISH
X-WR-CALNAME:Welkom in Utrecht | Verbindt vluchtelingen met Utrecht
X-ORIGINAL-URL:https://welkominutrecht.nu
X-WR-CALDESC:Evenementen voor Welkom in Utrecht | Verbindt vluchtelingen met Utrecht
REFRESH-INTERVAL;VALUE=DURATION:PT1H
X-Robots-Tag:noindex
X-PUBLISHED-TTL:PT1H
BEGIN:VTIMEZONE
TZID:Europe/Amsterdam
BEGIN:DAYLIGHT
TZOFFSETFROM:+0100
TZOFFSETTO:+0200
TZNAME:CEST
DTSTART:20230326T010000
END:DAYLIGHT
BEGIN:STANDARD
TZOFFSETFROM:+0200
TZOFFSETTO:+0100
TZNAME:CET
DTSTART:20231029T010000
END:STANDARD
BEGIN:DAYLIGHT
TZOFFSETFROM:+0100
TZOFFSETTO:+0200
TZNAME:CEST
DTSTART:20240331T010000
END:DAYLIGHT
BEGIN:STANDARD
TZOFFSETFROM:+0200
TZOFFSETTO:+0100
TZNAME:CET
DTSTART:20241027T010000
END:STANDARD
BEGIN:DAYLIGHT
TZOFFSETFROM:+0100
TZOFFSETTO:+0200
TZNAME:CEST
DTSTART:20250330T010000
END:DAYLIGHT
BEGIN:STANDARD
TZOFFSETFROM:+0200
TZOFFSETTO:+0100
TZNAME:CET
DTSTART:20251026T010000
END:STANDARD
END:VTIMEZONE
BEGIN:VEVENT
DTSTART;TZID=Europe/Amsterdam:20241003T110000
DTEND;TZID=Europe/Amsterdam:20241003T130000
DTSTAMP:20260425T182115
CREATED:20240927T065051Z
LAST-MODIFIED:20240927T065052Z
UID:10027136-1727953200-1727960400@welkominutrecht.nu
SUMMARY:Vrouwenuurtjes Pahud
DESCRIPTION:Omschrijving\n\n\n\nDe Huiskamer van Pahud is op donderdag tussen 11.00 – 13.00 uur speciaal open voor vrouwen. Dan wordt er gedanst\, geschilderd of iets lekkers gemaakt. Voel je welkom\, ook als je alleen een praatje wilt maken of naar muziek komt luisteren. \n\n\n\n\n\nLocatie\n\n\n\nHuiskamer Plan Einstein Pahud | Pahud de Mortangesdreef 61 \n\n\n\nVervoer\n\n\n\nIedereen komt zelf naar de locatie \n\n\n\nAanmelden\n\n\n\nAanmelden niet nodig\, je kunt gewoon naar binnen lopen
URL:https://welkominutrecht.nu/agenda-item/vrouwenuurtjes-pahud-6/2024-10-03/
CATEGORIES:Beauty & body,Creatief & handwerken,Muziek,Spel & ontmoeting
END:VEVENT
END:VCALENDAR