BEGIN:VCALENDAR
VERSION:2.0
PRODID:-//Welkom in Utrecht | Verbindt vluchtelingen met Utrecht - ECPv6.15.18//NONSGML v1.0//EN
CALSCALE:GREGORIAN
METHOD:PUBLISH
X-WR-CALNAME:Welkom in Utrecht | Verbindt vluchtelingen met Utrecht
X-ORIGINAL-URL:https://welkominutrecht.nu
X-WR-CALDESC:Evenementen voor Welkom in Utrecht | Verbindt vluchtelingen met Utrecht
REFRESH-INTERVAL;VALUE=DURATION:PT1H
X-Robots-Tag:noindex
X-PUBLISHED-TTL:PT1H
BEGIN:VTIMEZONE
TZID:Europe/Amsterdam
BEGIN:DAYLIGHT
TZOFFSETFROM:+0100
TZOFFSETTO:+0200
TZNAME:CEST
DTSTART:20230326T010000
END:DAYLIGHT
BEGIN:STANDARD
TZOFFSETFROM:+0200
TZOFFSETTO:+0100
TZNAME:CET
DTSTART:20231029T010000
END:STANDARD
BEGIN:DAYLIGHT
TZOFFSETFROM:+0100
TZOFFSETTO:+0200
TZNAME:CEST
DTSTART:20240331T010000
END:DAYLIGHT
BEGIN:STANDARD
TZOFFSETFROM:+0200
TZOFFSETTO:+0100
TZNAME:CET
DTSTART:20241027T010000
END:STANDARD
BEGIN:DAYLIGHT
TZOFFSETFROM:+0100
TZOFFSETTO:+0200
TZNAME:CEST
DTSTART:20250330T010000
END:DAYLIGHT
BEGIN:STANDARD
TZOFFSETFROM:+0200
TZOFFSETTO:+0100
TZNAME:CET
DTSTART:20251026T010000
END:STANDARD
BEGIN:DAYLIGHT
TZOFFSETFROM:+0100
TZOFFSETTO:+0200
TZNAME:CEST
DTSTART:20260329T010000
END:DAYLIGHT
BEGIN:STANDARD
TZOFFSETFROM:+0200
TZOFFSETTO:+0100
TZNAME:CET
DTSTART:20261025T010000
END:STANDARD
END:VTIMEZONE
BEGIN:VEVENT
DTSTART;TZID=Europe/Amsterdam:20241014T110000
DTEND;TZID=Europe/Amsterdam:20241014T130000
DTSTAMP:20260425T134531
CREATED:20240918T100214Z
LAST-MODIFIED:20240918T100424Z
UID:10026680-1728903600-1728910800@welkominutrecht.nu
SUMMARY:Vrouwencafé Star Lodge
DESCRIPTION:Omschrijving\n\n\n\nEen wekelijkse middag speciaal voor vrouwen in het Star Lodge. Elke week een andere\, leuke activiteit om samen te doen! \n\n\n\n\n\nLocatie\n\n\n\nHuiskamer Star Lodge | Biltsestraatweg 92 \n\n\n\nVervoer\n\n\n\nIedereen komt zelf naar de locatie \n\n\n\nAanmelden\n\n\n\nMeer info en aanmelden bij Deema: 06-40776030
URL:https://welkominutrecht.nu/agenda-item/vrouwencafe-star-lodge-2/2024-10-14/
CATEGORIES:Beauty & body,Creatief & handwerken,Spel & ontmoeting
END:VEVENT
BEGIN:VEVENT
DTSTART;TZID=Europe/Amsterdam:20241017T110000
DTEND;TZID=Europe/Amsterdam:20241017T130000
DTSTAMP:20260425T134531
CREATED:20240927T065051Z
LAST-MODIFIED:20240927T065052Z
UID:10027138-1729162800-1729170000@welkominutrecht.nu
SUMMARY:Vrouwenuurtjes Pahud
DESCRIPTION:Omschrijving\n\n\n\nDe Huiskamer van Pahud is op donderdag tussen 11.00 – 13.00 uur speciaal open voor vrouwen. Dan wordt er gedanst\, geschilderd of iets lekkers gemaakt. Voel je welkom\, ook als je alleen een praatje wilt maken of naar muziek komt luisteren. \n\n\n\n\n\nLocatie\n\n\n\nHuiskamer Plan Einstein Pahud | Pahud de Mortangesdreef 61 \n\n\n\nVervoer\n\n\n\nIedereen komt zelf naar de locatie \n\n\n\nAanmelden\n\n\n\nAanmelden niet nodig\, je kunt gewoon naar binnen lopen
URL:https://welkominutrecht.nu/agenda-item/vrouwenuurtjes-pahud-6/2024-10-17/
CATEGORIES:Beauty & body,Creatief & handwerken,Muziek,Spel & ontmoeting
END:VEVENT
BEGIN:VEVENT
DTSTART;TZID=Europe/Amsterdam:20241021T110000
DTEND;TZID=Europe/Amsterdam:20241021T130000
DTSTAMP:20260425T134531
CREATED:20240918T100214Z
LAST-MODIFIED:20240918T100424Z
UID:10026681-1729508400-1729515600@welkominutrecht.nu
SUMMARY:Vrouwencafé Star Lodge
DESCRIPTION:Omschrijving\n\n\n\nEen wekelijkse middag speciaal voor vrouwen in het Star Lodge. Elke week een andere\, leuke activiteit om samen te doen! \n\n\n\n\n\nLocatie\n\n\n\nHuiskamer Star Lodge | Biltsestraatweg 92 \n\n\n\nVervoer\n\n\n\nIedereen komt zelf naar de locatie \n\n\n\nAanmelden\n\n\n\nMeer info en aanmelden bij Deema: 06-40776030
URL:https://welkominutrecht.nu/agenda-item/vrouwencafe-star-lodge-2/2024-10-21/
CATEGORIES:Beauty & body,Creatief & handwerken,Spel & ontmoeting
END:VEVENT
BEGIN:VEVENT
DTSTART;TZID=Europe/Amsterdam:20241024T110000
DTEND;TZID=Europe/Amsterdam:20241024T130000
DTSTAMP:20260425T134531
CREATED:20240927T065051Z
LAST-MODIFIED:20240927T065052Z
UID:10027139-1729767600-1729774800@welkominutrecht.nu
SUMMARY:Vrouwenuurtjes Pahud
DESCRIPTION:Omschrijving\n\n\n\nDe Huiskamer van Pahud is op donderdag tussen 11.00 – 13.00 uur speciaal open voor vrouwen. Dan wordt er gedanst\, geschilderd of iets lekkers gemaakt. Voel je welkom\, ook als je alleen een praatje wilt maken of naar muziek komt luisteren. \n\n\n\n\n\nLocatie\n\n\n\nHuiskamer Plan Einstein Pahud | Pahud de Mortangesdreef 61 \n\n\n\nVervoer\n\n\n\nIedereen komt zelf naar de locatie \n\n\n\nAanmelden\n\n\n\nAanmelden niet nodig\, je kunt gewoon naar binnen lopen
URL:https://welkominutrecht.nu/agenda-item/vrouwenuurtjes-pahud-6/2024-10-24/
CATEGORIES:Beauty & body,Creatief & handwerken,Muziek,Spel & ontmoeting
END:VEVENT
BEGIN:VEVENT
DTSTART;TZID=Europe/Amsterdam:20241028T110000
DTEND;TZID=Europe/Amsterdam:20241028T130000
DTSTAMP:20260425T134531
CREATED:20240918T100214Z
LAST-MODIFIED:20240918T100424Z
UID:10026682-1730113200-1730120400@welkominutrecht.nu
SUMMARY:Vrouwencafé Star Lodge
DESCRIPTION:Omschrijving\n\n\n\nEen wekelijkse middag speciaal voor vrouwen in het Star Lodge. Elke week een andere\, leuke activiteit om samen te doen! \n\n\n\n\n\nLocatie\n\n\n\nHuiskamer Star Lodge | Biltsestraatweg 92 \n\n\n\nVervoer\n\n\n\nIedereen komt zelf naar de locatie \n\n\n\nAanmelden\n\n\n\nMeer info en aanmelden bij Deema: 06-40776030
URL:https://welkominutrecht.nu/agenda-item/vrouwencafe-star-lodge-2/2024-10-28/
CATEGORIES:Beauty & body,Creatief & handwerken,Spel & ontmoeting
END:VEVENT
BEGIN:VEVENT
DTSTART;TZID=Europe/Amsterdam:20241031T110000
DTEND;TZID=Europe/Amsterdam:20241031T130000
DTSTAMP:20260425T134531
CREATED:20240927T065051Z
LAST-MODIFIED:20240927T065052Z
UID:10027140-1730372400-1730379600@welkominutrecht.nu
SUMMARY:Vrouwenuurtjes Pahud
DESCRIPTION:Omschrijving\n\n\n\nDe Huiskamer van Pahud is op donderdag tussen 11.00 – 13.00 uur speciaal open voor vrouwen. Dan wordt er gedanst\, geschilderd of iets lekkers gemaakt. Voel je welkom\, ook als je alleen een praatje wilt maken of naar muziek komt luisteren. \n\n\n\n\n\nLocatie\n\n\n\nHuiskamer Plan Einstein Pahud | Pahud de Mortangesdreef 61 \n\n\n\nVervoer\n\n\n\nIedereen komt zelf naar de locatie \n\n\n\nAanmelden\n\n\n\nAanmelden niet nodig\, je kunt gewoon naar binnen lopen
URL:https://welkominutrecht.nu/agenda-item/vrouwenuurtjes-pahud-6/2024-10-31/
CATEGORIES:Beauty & body,Creatief & handwerken,Muziek,Spel & ontmoeting
END:VEVENT
BEGIN:VEVENT
DTSTART;TZID=Europe/Amsterdam:20241104T110000
DTEND;TZID=Europe/Amsterdam:20241104T130000
DTSTAMP:20260425T134531
CREATED:20240918T100214Z
LAST-MODIFIED:20240918T100424Z
UID:10026683-1730718000-1730725200@welkominutrecht.nu
SUMMARY:Vrouwencafé Star Lodge
DESCRIPTION:Omschrijving\n\n\n\nEen wekelijkse middag speciaal voor vrouwen in het Star Lodge. Elke week een andere\, leuke activiteit om samen te doen! \n\n\n\n\n\nLocatie\n\n\n\nHuiskamer Star Lodge | Biltsestraatweg 92 \n\n\n\nVervoer\n\n\n\nIedereen komt zelf naar de locatie \n\n\n\nAanmelden\n\n\n\nMeer info en aanmelden bij Deema: 06-40776030
URL:https://welkominutrecht.nu/agenda-item/vrouwencafe-star-lodge-2/2024-11-04/
CATEGORIES:Beauty & body,Creatief & handwerken,Spel & ontmoeting
END:VEVENT
BEGIN:VEVENT
DTSTART;TZID=Europe/Amsterdam:20241107T110000
DTEND;TZID=Europe/Amsterdam:20241107T130000
DTSTAMP:20260425T134531
CREATED:20240927T065051Z
LAST-MODIFIED:20240927T065052Z
UID:10027141-1730977200-1730984400@welkominutrecht.nu
SUMMARY:Vrouwenuurtjes Pahud
DESCRIPTION:Omschrijving\n\n\n\nDe Huiskamer van Pahud is op donderdag tussen 11.00 – 13.00 uur speciaal open voor vrouwen. Dan wordt er gedanst\, geschilderd of iets lekkers gemaakt. Voel je welkom\, ook als je alleen een praatje wilt maken of naar muziek komt luisteren. \n\n\n\n\n\nLocatie\n\n\n\nHuiskamer Plan Einstein Pahud | Pahud de Mortangesdreef 61 \n\n\n\nVervoer\n\n\n\nIedereen komt zelf naar de locatie \n\n\n\nAanmelden\n\n\n\nAanmelden niet nodig\, je kunt gewoon naar binnen lopen
URL:https://welkominutrecht.nu/agenda-item/vrouwenuurtjes-pahud-6/2024-11-07/
CATEGORIES:Beauty & body,Creatief & handwerken,Muziek,Spel & ontmoeting
END:VEVENT
BEGIN:VEVENT
DTSTART;TZID=Europe/Amsterdam:20241111T110000
DTEND;TZID=Europe/Amsterdam:20241111T130000
DTSTAMP:20260425T134531
CREATED:20240918T100214Z
LAST-MODIFIED:20240918T100424Z
UID:10026684-1731322800-1731330000@welkominutrecht.nu
SUMMARY:Vrouwencafé Star Lodge
DESCRIPTION:Omschrijving\n\n\n\nEen wekelijkse middag speciaal voor vrouwen in het Star Lodge. Elke week een andere\, leuke activiteit om samen te doen! \n\n\n\n\n\nLocatie\n\n\n\nHuiskamer Star Lodge | Biltsestraatweg 92 \n\n\n\nVervoer\n\n\n\nIedereen komt zelf naar de locatie \n\n\n\nAanmelden\n\n\n\nMeer info en aanmelden bij Deema: 06-40776030
URL:https://welkominutrecht.nu/agenda-item/vrouwencafe-star-lodge-2/2024-11-11/
CATEGORIES:Beauty & body,Creatief & handwerken,Spel & ontmoeting
END:VEVENT
BEGIN:VEVENT
DTSTART;TZID=Europe/Amsterdam:20241114T110000
DTEND;TZID=Europe/Amsterdam:20241114T130000
DTSTAMP:20260425T134531
CREATED:20240927T065051Z
LAST-MODIFIED:20240927T065052Z
UID:10027142-1731582000-1731589200@welkominutrecht.nu
SUMMARY:Vrouwenuurtjes Pahud
DESCRIPTION:Omschrijving\n\n\n\nDe Huiskamer van Pahud is op donderdag tussen 11.00 – 13.00 uur speciaal open voor vrouwen. Dan wordt er gedanst\, geschilderd of iets lekkers gemaakt. Voel je welkom\, ook als je alleen een praatje wilt maken of naar muziek komt luisteren. \n\n\n\n\n\nLocatie\n\n\n\nHuiskamer Plan Einstein Pahud | Pahud de Mortangesdreef 61 \n\n\n\nVervoer\n\n\n\nIedereen komt zelf naar de locatie \n\n\n\nAanmelden\n\n\n\nAanmelden niet nodig\, je kunt gewoon naar binnen lopen
URL:https://welkominutrecht.nu/agenda-item/vrouwenuurtjes-pahud-6/2024-11-14/
CATEGORIES:Beauty & body,Creatief & handwerken,Muziek,Spel & ontmoeting
END:VEVENT
BEGIN:VEVENT
DTSTART;TZID=Europe/Amsterdam:20241118T110000
DTEND;TZID=Europe/Amsterdam:20241118T130000
DTSTAMP:20260425T134531
CREATED:20240918T100214Z
LAST-MODIFIED:20240918T100424Z
UID:10026685-1731927600-1731934800@welkominutrecht.nu
SUMMARY:Vrouwencafé Star Lodge
DESCRIPTION:Omschrijving\n\n\n\nEen wekelijkse middag speciaal voor vrouwen in het Star Lodge. Elke week een andere\, leuke activiteit om samen te doen! \n\n\n\n\n\nLocatie\n\n\n\nHuiskamer Star Lodge | Biltsestraatweg 92 \n\n\n\nVervoer\n\n\n\nIedereen komt zelf naar de locatie \n\n\n\nAanmelden\n\n\n\nMeer info en aanmelden bij Deema: 06-40776030
URL:https://welkominutrecht.nu/agenda-item/vrouwencafe-star-lodge-2/2024-11-18/
CATEGORIES:Beauty & body,Creatief & handwerken,Spel & ontmoeting
END:VEVENT
BEGIN:VEVENT
DTSTART;TZID=Europe/Amsterdam:20241121T110000
DTEND;TZID=Europe/Amsterdam:20241121T130000
DTSTAMP:20260425T134531
CREATED:20240927T065051Z
LAST-MODIFIED:20240927T065052Z
UID:10027143-1732186800-1732194000@welkominutrecht.nu
SUMMARY:Vrouwenuurtjes Pahud
DESCRIPTION:Omschrijving\n\n\n\nDe Huiskamer van Pahud is op donderdag tussen 11.00 – 13.00 uur speciaal open voor vrouwen. Dan wordt er gedanst\, geschilderd of iets lekkers gemaakt. Voel je welkom\, ook als je alleen een praatje wilt maken of naar muziek komt luisteren. \n\n\n\n\n\nLocatie\n\n\n\nHuiskamer Plan Einstein Pahud | Pahud de Mortangesdreef 61 \n\n\n\nVervoer\n\n\n\nIedereen komt zelf naar de locatie \n\n\n\nAanmelden\n\n\n\nAanmelden niet nodig\, je kunt gewoon naar binnen lopen
URL:https://welkominutrecht.nu/agenda-item/vrouwenuurtjes-pahud-6/2024-11-21/
CATEGORIES:Beauty & body,Creatief & handwerken,Muziek,Spel & ontmoeting
END:VEVENT
BEGIN:VEVENT
DTSTART;TZID=Europe/Amsterdam:20241125T110000
DTEND;TZID=Europe/Amsterdam:20241125T130000
DTSTAMP:20260425T134531
CREATED:20240918T100214Z
LAST-MODIFIED:20240918T100424Z
UID:10026686-1732532400-1732539600@welkominutrecht.nu
SUMMARY:Vrouwencafé Star Lodge
DESCRIPTION:Omschrijving\n\n\n\nEen wekelijkse middag speciaal voor vrouwen in het Star Lodge. Elke week een andere\, leuke activiteit om samen te doen! \n\n\n\n\n\nLocatie\n\n\n\nHuiskamer Star Lodge | Biltsestraatweg 92 \n\n\n\nVervoer\n\n\n\nIedereen komt zelf naar de locatie \n\n\n\nAanmelden\n\n\n\nMeer info en aanmelden bij Deema: 06-40776030
URL:https://welkominutrecht.nu/agenda-item/vrouwencafe-star-lodge-2/2024-11-25/
CATEGORIES:Beauty & body,Creatief & handwerken,Spel & ontmoeting
END:VEVENT
BEGIN:VEVENT
DTSTART;TZID=Europe/Amsterdam:20241128T110000
DTEND;TZID=Europe/Amsterdam:20241128T130000
DTSTAMP:20260425T134531
CREATED:20240927T065051Z
LAST-MODIFIED:20240927T065052Z
UID:10027144-1732791600-1732798800@welkominutrecht.nu
SUMMARY:Vrouwenuurtjes Pahud
DESCRIPTION:Omschrijving\n\n\n\nDe Huiskamer van Pahud is op donderdag tussen 11.00 – 13.00 uur speciaal open voor vrouwen. Dan wordt er gedanst\, geschilderd of iets lekkers gemaakt. Voel je welkom\, ook als je alleen een praatje wilt maken of naar muziek komt luisteren. \n\n\n\n\n\nLocatie\n\n\n\nHuiskamer Plan Einstein Pahud | Pahud de Mortangesdreef 61 \n\n\n\nVervoer\n\n\n\nIedereen komt zelf naar de locatie \n\n\n\nAanmelden\n\n\n\nAanmelden niet nodig\, je kunt gewoon naar binnen lopen
URL:https://welkominutrecht.nu/agenda-item/vrouwenuurtjes-pahud-6/2024-11-28/
CATEGORIES:Beauty & body,Creatief & handwerken,Muziek,Spel & ontmoeting
END:VEVENT
BEGIN:VEVENT
DTSTART;TZID=Europe/Amsterdam:20241202T110000
DTEND;TZID=Europe/Amsterdam:20241202T130000
DTSTAMP:20260425T134531
CREATED:20240918T100214Z
LAST-MODIFIED:20240918T100424Z
UID:10026687-1733137200-1733144400@welkominutrecht.nu
SUMMARY:Vrouwencafé Star Lodge
DESCRIPTION:Omschrijving\n\n\n\nEen wekelijkse middag speciaal voor vrouwen in het Star Lodge. Elke week een andere\, leuke activiteit om samen te doen! \n\n\n\n\n\nLocatie\n\n\n\nHuiskamer Star Lodge | Biltsestraatweg 92 \n\n\n\nVervoer\n\n\n\nIedereen komt zelf naar de locatie \n\n\n\nAanmelden\n\n\n\nMeer info en aanmelden bij Deema: 06-40776030
URL:https://welkominutrecht.nu/agenda-item/vrouwencafe-star-lodge-2/2024-12-02/
CATEGORIES:Beauty & body,Creatief & handwerken,Spel & ontmoeting
END:VEVENT
BEGIN:VEVENT
DTSTART;TZID=Europe/Amsterdam:20241205T110000
DTEND;TZID=Europe/Amsterdam:20241205T130000
DTSTAMP:20260425T134531
CREATED:20240927T065051Z
LAST-MODIFIED:20240927T065052Z
UID:10027145-1733396400-1733403600@welkominutrecht.nu
SUMMARY:Vrouwenuurtjes Pahud
DESCRIPTION:Omschrijving\n\n\n\nDe Huiskamer van Pahud is op donderdag tussen 11.00 – 13.00 uur speciaal open voor vrouwen. Dan wordt er gedanst\, geschilderd of iets lekkers gemaakt. Voel je welkom\, ook als je alleen een praatje wilt maken of naar muziek komt luisteren. \n\n\n\n\n\nLocatie\n\n\n\nHuiskamer Plan Einstein Pahud | Pahud de Mortangesdreef 61 \n\n\n\nVervoer\n\n\n\nIedereen komt zelf naar de locatie \n\n\n\nAanmelden\n\n\n\nAanmelden niet nodig\, je kunt gewoon naar binnen lopen
URL:https://welkominutrecht.nu/agenda-item/vrouwenuurtjes-pahud-6/2024-12-05/
CATEGORIES:Beauty & body,Creatief & handwerken,Muziek,Spel & ontmoeting
END:VEVENT
BEGIN:VEVENT
DTSTART;TZID=Europe/Amsterdam:20241209T110000
DTEND;TZID=Europe/Amsterdam:20241209T130000
DTSTAMP:20260425T134531
CREATED:20240918T100214Z
LAST-MODIFIED:20240918T100424Z
UID:10026688-1733742000-1733749200@welkominutrecht.nu
SUMMARY:Vrouwencafé Star Lodge
DESCRIPTION:Omschrijving\n\n\n\nEen wekelijkse middag speciaal voor vrouwen in het Star Lodge. Elke week een andere\, leuke activiteit om samen te doen! \n\n\n\n\n\nLocatie\n\n\n\nHuiskamer Star Lodge | Biltsestraatweg 92 \n\n\n\nVervoer\n\n\n\nIedereen komt zelf naar de locatie \n\n\n\nAanmelden\n\n\n\nMeer info en aanmelden bij Deema: 06-40776030
URL:https://welkominutrecht.nu/agenda-item/vrouwencafe-star-lodge-2/2024-12-09/
CATEGORIES:Beauty & body,Creatief & handwerken,Spel & ontmoeting
END:VEVENT
BEGIN:VEVENT
DTSTART;TZID=Europe/Amsterdam:20241212T110000
DTEND;TZID=Europe/Amsterdam:20241212T130000
DTSTAMP:20260425T134531
CREATED:20240927T065051Z
LAST-MODIFIED:20240927T065052Z
UID:10027146-1734001200-1734008400@welkominutrecht.nu
SUMMARY:Vrouwenuurtjes Pahud
DESCRIPTION:Omschrijving\n\n\n\nDe Huiskamer van Pahud is op donderdag tussen 11.00 – 13.00 uur speciaal open voor vrouwen. Dan wordt er gedanst\, geschilderd of iets lekkers gemaakt. Voel je welkom\, ook als je alleen een praatje wilt maken of naar muziek komt luisteren. \n\n\n\n\n\nLocatie\n\n\n\nHuiskamer Plan Einstein Pahud | Pahud de Mortangesdreef 61 \n\n\n\nVervoer\n\n\n\nIedereen komt zelf naar de locatie \n\n\n\nAanmelden\n\n\n\nAanmelden niet nodig\, je kunt gewoon naar binnen lopen
URL:https://welkominutrecht.nu/agenda-item/vrouwenuurtjes-pahud-6/2024-12-12/
CATEGORIES:Beauty & body,Creatief & handwerken,Muziek,Spel & ontmoeting
END:VEVENT
BEGIN:VEVENT
DTSTART;TZID=Europe/Amsterdam:20241216T110000
DTEND;TZID=Europe/Amsterdam:20241216T130000
DTSTAMP:20260425T134531
CREATED:20240918T100214Z
LAST-MODIFIED:20240918T100424Z
UID:10026689-1734346800-1734354000@welkominutrecht.nu
SUMMARY:Vrouwencafé Star Lodge
DESCRIPTION:Omschrijving\n\n\n\nEen wekelijkse middag speciaal voor vrouwen in het Star Lodge. Elke week een andere\, leuke activiteit om samen te doen! \n\n\n\n\n\nLocatie\n\n\n\nHuiskamer Star Lodge | Biltsestraatweg 92 \n\n\n\nVervoer\n\n\n\nIedereen komt zelf naar de locatie \n\n\n\nAanmelden\n\n\n\nMeer info en aanmelden bij Deema: 06-40776030
URL:https://welkominutrecht.nu/agenda-item/vrouwencafe-star-lodge-2/2024-12-16/
CATEGORIES:Beauty & body,Creatief & handwerken,Spel & ontmoeting
END:VEVENT
BEGIN:VEVENT
DTSTART;TZID=Europe/Amsterdam:20241219T110000
DTEND;TZID=Europe/Amsterdam:20241219T130000
DTSTAMP:20260425T134531
CREATED:20240927T065051Z
LAST-MODIFIED:20240927T065052Z
UID:10027147-1734606000-1734613200@welkominutrecht.nu
SUMMARY:Vrouwenuurtjes Pahud
DESCRIPTION:Omschrijving\n\n\n\nDe Huiskamer van Pahud is op donderdag tussen 11.00 – 13.00 uur speciaal open voor vrouwen. Dan wordt er gedanst\, geschilderd of iets lekkers gemaakt. Voel je welkom\, ook als je alleen een praatje wilt maken of naar muziek komt luisteren. \n\n\n\n\n\nLocatie\n\n\n\nHuiskamer Plan Einstein Pahud | Pahud de Mortangesdreef 61 \n\n\n\nVervoer\n\n\n\nIedereen komt zelf naar de locatie \n\n\n\nAanmelden\n\n\n\nAanmelden niet nodig\, je kunt gewoon naar binnen lopen
URL:https://welkominutrecht.nu/agenda-item/vrouwenuurtjes-pahud-6/2024-12-19/
CATEGORIES:Beauty & body,Creatief & handwerken,Muziek,Spel & ontmoeting
END:VEVENT
BEGIN:VEVENT
DTSTART;TZID=Europe/Amsterdam:20241223T110000
DTEND;TZID=Europe/Amsterdam:20241223T130000
DTSTAMP:20260425T134531
CREATED:20240918T100214Z
LAST-MODIFIED:20240918T100424Z
UID:10026690-1734951600-1734958800@welkominutrecht.nu
SUMMARY:Vrouwencafé Star Lodge
DESCRIPTION:Omschrijving\n\n\n\nEen wekelijkse middag speciaal voor vrouwen in het Star Lodge. Elke week een andere\, leuke activiteit om samen te doen! \n\n\n\n\n\nLocatie\n\n\n\nHuiskamer Star Lodge | Biltsestraatweg 92 \n\n\n\nVervoer\n\n\n\nIedereen komt zelf naar de locatie \n\n\n\nAanmelden\n\n\n\nMeer info en aanmelden bij Deema: 06-40776030
URL:https://welkominutrecht.nu/agenda-item/vrouwencafe-star-lodge-2/2024-12-23/
CATEGORIES:Beauty & body,Creatief & handwerken,Spel & ontmoeting
END:VEVENT
BEGIN:VEVENT
DTSTART;TZID=Europe/Amsterdam:20241226T110000
DTEND;TZID=Europe/Amsterdam:20241226T130000
DTSTAMP:20260425T134531
CREATED:20240927T065051Z
LAST-MODIFIED:20240927T065052Z
UID:10027148-1735210800-1735218000@welkominutrecht.nu
SUMMARY:Vrouwenuurtjes Pahud
DESCRIPTION:Omschrijving\n\n\n\nDe Huiskamer van Pahud is op donderdag tussen 11.00 – 13.00 uur speciaal open voor vrouwen. Dan wordt er gedanst\, geschilderd of iets lekkers gemaakt. Voel je welkom\, ook als je alleen een praatje wilt maken of naar muziek komt luisteren. \n\n\n\n\n\nLocatie\n\n\n\nHuiskamer Plan Einstein Pahud | Pahud de Mortangesdreef 61 \n\n\n\nVervoer\n\n\n\nIedereen komt zelf naar de locatie \n\n\n\nAanmelden\n\n\n\nAanmelden niet nodig\, je kunt gewoon naar binnen lopen
URL:https://welkominutrecht.nu/agenda-item/vrouwenuurtjes-pahud-6/2024-12-26/
CATEGORIES:Beauty & body,Creatief & handwerken,Muziek,Spel & ontmoeting
END:VEVENT
BEGIN:VEVENT
DTSTART;TZID=Europe/Amsterdam:20241230T110000
DTEND;TZID=Europe/Amsterdam:20241230T130000
DTSTAMP:20260425T134531
CREATED:20240918T100214Z
LAST-MODIFIED:20240918T100424Z
UID:10026691-1735556400-1735563600@welkominutrecht.nu
SUMMARY:Vrouwencafé Star Lodge
DESCRIPTION:Omschrijving\n\n\n\nEen wekelijkse middag speciaal voor vrouwen in het Star Lodge. Elke week een andere\, leuke activiteit om samen te doen! \n\n\n\n\n\nLocatie\n\n\n\nHuiskamer Star Lodge | Biltsestraatweg 92 \n\n\n\nVervoer\n\n\n\nIedereen komt zelf naar de locatie \n\n\n\nAanmelden\n\n\n\nMeer info en aanmelden bij Deema: 06-40776030
URL:https://welkominutrecht.nu/agenda-item/vrouwencafe-star-lodge-2/2024-12-30/
CATEGORIES:Beauty & body,Creatief & handwerken,Spel & ontmoeting
END:VEVENT
BEGIN:VEVENT
DTSTART;TZID=Europe/Amsterdam:20250102T110000
DTEND;TZID=Europe/Amsterdam:20250102T130000
DTSTAMP:20260425T134531
CREATED:20241224T105710Z
LAST-MODIFIED:20241224T105713Z
UID:10033084-1735815600-1735822800@welkominutrecht.nu
SUMMARY:Vrouwenuurtjes Pahud
DESCRIPTION:Omschrijving\n\n\n\nDe Huiskamer van Pahud is op donderdag tussen 11.00 – 13.00 uur speciaal open voor vrouwen. Dan wordt er gedanst\, geschilderd of iets lekkers gemaakt. Voel je welkom\, ook als je alleen een praatje wilt maken of naar muziek komt luisteren. \n\n\n\n\n\nLocatie\n\n\n\nHuiskamer Plan Einstein Pahud | Pahud de Mortangesdreef 61 \n\n\n\nVervoer\n\n\n\nIedereen komt zelf naar de locatie \n\n\n\nAanmelden\n\n\n\nAanmelden niet nodig\, je kunt gewoon naar binnen lopen
URL:https://welkominutrecht.nu/agenda-item/vrouwenuurtjes-pahud-7/2025-01-02/
CATEGORIES:Beauty & body,Creatief & handwerken,Muziek,Spel & ontmoeting
END:VEVENT
BEGIN:VEVENT
DTSTART;TZID=Europe/Amsterdam:20250106T110000
DTEND;TZID=Europe/Amsterdam:20250106T130000
DTSTAMP:20260425T134531
CREATED:20241224T110817Z
LAST-MODIFIED:20241224T110819Z
UID:10033349-1736161200-1736168400@welkominutrecht.nu
SUMMARY:Vrouwencafé Star Lodge
DESCRIPTION:Omschrijving\n\n\n\nEen wekelijkse middag speciaal voor vrouwen in het Star Lodge. Elke week een andere\, leuke activiteit om samen te doen! \n\n\n\n\n\nLocatie\n\n\n\nHuiskamer Star Lodge | Biltsestraatweg 92 \n\n\n\nVervoer\n\n\n\nIedereen komt zelf naar de locatie \n\n\n\nAanmelden\n\n\n\nMeer info en aanmelden bij Deema: 06-40776030
URL:https://welkominutrecht.nu/agenda-item/vrouwencafe-star-lodge-3/2025-01-06/
CATEGORIES:Beauty & body,Creatief & handwerken,Spel & ontmoeting
END:VEVENT
BEGIN:VEVENT
DTSTART;TZID=Europe/Amsterdam:20250109T110000
DTEND;TZID=Europe/Amsterdam:20250109T130000
DTSTAMP:20260425T134531
CREATED:20241224T105710Z
LAST-MODIFIED:20241224T105713Z
UID:10033085-1736420400-1736427600@welkominutrecht.nu
SUMMARY:Vrouwenuurtjes Pahud
DESCRIPTION:Omschrijving\n\n\n\nDe Huiskamer van Pahud is op donderdag tussen 11.00 – 13.00 uur speciaal open voor vrouwen. Dan wordt er gedanst\, geschilderd of iets lekkers gemaakt. Voel je welkom\, ook als je alleen een praatje wilt maken of naar muziek komt luisteren. \n\n\n\n\n\nLocatie\n\n\n\nHuiskamer Plan Einstein Pahud | Pahud de Mortangesdreef 61 \n\n\n\nVervoer\n\n\n\nIedereen komt zelf naar de locatie \n\n\n\nAanmelden\n\n\n\nAanmelden niet nodig\, je kunt gewoon naar binnen lopen
URL:https://welkominutrecht.nu/agenda-item/vrouwenuurtjes-pahud-7/2025-01-09/
CATEGORIES:Beauty & body,Creatief & handwerken,Muziek,Spel & ontmoeting
END:VEVENT
BEGIN:VEVENT
DTSTART;TZID=Europe/Amsterdam:20250113T110000
DTEND;TZID=Europe/Amsterdam:20250113T130000
DTSTAMP:20260425T134531
CREATED:20241224T110817Z
LAST-MODIFIED:20241224T110819Z
UID:10033350-1736766000-1736773200@welkominutrecht.nu
SUMMARY:Vrouwencafé Star Lodge
DESCRIPTION:Omschrijving\n\n\n\nEen wekelijkse middag speciaal voor vrouwen in het Star Lodge. Elke week een andere\, leuke activiteit om samen te doen! \n\n\n\n\n\nLocatie\n\n\n\nHuiskamer Star Lodge | Biltsestraatweg 92 \n\n\n\nVervoer\n\n\n\nIedereen komt zelf naar de locatie \n\n\n\nAanmelden\n\n\n\nMeer info en aanmelden bij Deema: 06-40776030
URL:https://welkominutrecht.nu/agenda-item/vrouwencafe-star-lodge-3/2025-01-13/
CATEGORIES:Beauty & body,Creatief & handwerken,Spel & ontmoeting
END:VEVENT
BEGIN:VEVENT
DTSTART;TZID=Europe/Amsterdam:20250116T110000
DTEND;TZID=Europe/Amsterdam:20250116T130000
DTSTAMP:20260425T134531
CREATED:20241224T105710Z
LAST-MODIFIED:20241224T105713Z
UID:10033086-1737025200-1737032400@welkominutrecht.nu
SUMMARY:Vrouwenuurtjes Pahud
DESCRIPTION:Omschrijving\n\n\n\nDe Huiskamer van Pahud is op donderdag tussen 11.00 – 13.00 uur speciaal open voor vrouwen. Dan wordt er gedanst\, geschilderd of iets lekkers gemaakt. Voel je welkom\, ook als je alleen een praatje wilt maken of naar muziek komt luisteren. \n\n\n\n\n\nLocatie\n\n\n\nHuiskamer Plan Einstein Pahud | Pahud de Mortangesdreef 61 \n\n\n\nVervoer\n\n\n\nIedereen komt zelf naar de locatie \n\n\n\nAanmelden\n\n\n\nAanmelden niet nodig\, je kunt gewoon naar binnen lopen
URL:https://welkominutrecht.nu/agenda-item/vrouwenuurtjes-pahud-7/2025-01-16/
CATEGORIES:Beauty & body,Creatief & handwerken,Muziek,Spel & ontmoeting
END:VEVENT
BEGIN:VEVENT
DTSTART;TZID=Europe/Amsterdam:20250120T110000
DTEND;TZID=Europe/Amsterdam:20250120T130000
DTSTAMP:20260425T134531
CREATED:20241224T110817Z
LAST-MODIFIED:20241224T110819Z
UID:10033351-1737370800-1737378000@welkominutrecht.nu
SUMMARY:Vrouwencafé Star Lodge
DESCRIPTION:Omschrijving\n\n\n\nEen wekelijkse middag speciaal voor vrouwen in het Star Lodge. Elke week een andere\, leuke activiteit om samen te doen! \n\n\n\n\n\nLocatie\n\n\n\nHuiskamer Star Lodge | Biltsestraatweg 92 \n\n\n\nVervoer\n\n\n\nIedereen komt zelf naar de locatie \n\n\n\nAanmelden\n\n\n\nMeer info en aanmelden bij Deema: 06-40776030
URL:https://welkominutrecht.nu/agenda-item/vrouwencafe-star-lodge-3/2025-01-20/
CATEGORIES:Beauty & body,Creatief & handwerken,Spel & ontmoeting
END:VEVENT
BEGIN:VEVENT
DTSTART;TZID=Europe/Amsterdam:20250123T110000
DTEND;TZID=Europe/Amsterdam:20250123T130000
DTSTAMP:20260425T134531
CREATED:20241224T105710Z
LAST-MODIFIED:20241224T105713Z
UID:10033087-1737630000-1737637200@welkominutrecht.nu
SUMMARY:Vrouwenuurtjes Pahud
DESCRIPTION:Omschrijving\n\n\n\nDe Huiskamer van Pahud is op donderdag tussen 11.00 – 13.00 uur speciaal open voor vrouwen. Dan wordt er gedanst\, geschilderd of iets lekkers gemaakt. Voel je welkom\, ook als je alleen een praatje wilt maken of naar muziek komt luisteren. \n\n\n\n\n\nLocatie\n\n\n\nHuiskamer Plan Einstein Pahud | Pahud de Mortangesdreef 61 \n\n\n\nVervoer\n\n\n\nIedereen komt zelf naar de locatie \n\n\n\nAanmelden\n\n\n\nAanmelden niet nodig\, je kunt gewoon naar binnen lopen
URL:https://welkominutrecht.nu/agenda-item/vrouwenuurtjes-pahud-7/2025-01-23/
CATEGORIES:Beauty & body,Creatief & handwerken,Muziek,Spel & ontmoeting
END:VEVENT
END:VCALENDAR